Workbook
Name Excel_BuiltIn_Print_Titles_3: 'KORISNICI DP'!$A$1:$IK$2
Name Excel_BuiltIn_Print_Titles_3_1: 'KORISNICI DP'!$A$1:$IJ$2

Sheet OPĆI DIO
B1: RKP-NAZIV PRORAČUNSKOG KORISNIKA | C1: 40883 NACIONALNI CENTAR ZA VANJSKO VREDNOVANJE OBRAZOVANJA
B2: MJESTO I DATUM | C2: ZAGREB, 06.10.2026.
B3: OSOBA ZA KONTAKTIRANJE | C3: ANTE BORAS | M3: R. BR. | N3: RKPNaziv | O3: RKP | P3: NAZIV PRORAČUNSKOGA KORISNIKA | Q3: DODIJELI PRIPADNOST PREMA RKP-U: GLAVA I SVEUČILIŠTE/MZO | R3: ADRESA PRORAČUNSKOGA KORISNIKA | S3: POŠTANSKI BROJ I NAZIV GRADA/OPĆINE | T3: MATIČNI BROJ | U3: OIB | V3: Tip | W3: Glava
B4: TELEFON ZA KONTAKT | C4: 01/4501-804 | M4: 0 | N4: odaberite - | V4: - | W4: -
B5: E-MAIL ZA KONTAKT | C5: racunovodstvo@ncvvo.hr | M5: =+M4+1 -> 1 | N5: =O5&" "&P5 -> 1222 MINISTARSTVO ZNANOSTI, OBRAZOVANJA I MLADIH | O5: 1222 | P5: MINISTARSTVO ZNANOSTI, OBRAZOVANJA I MLADIH | R5: DONJE SVETICE 38 | S5: 10000 ZAGREB | T5: 3271030 | U5: 49508397045 | V5: MZO | W5: 08005
M6: =+M5+1 -> 2 | N6: =O6&" "&P6 -> 1757 SVEUČILIŠTE U ZAGREBU FAKULTET ELEKTROTEHNIKE I RAČUNARSTVA | O6: 1757 | P6: SVEUČILIŠTE U ZAGREBU FAKULTET ELEKTROTEHNIKE I RAČUNARSTVA | Q6: SVEUČILIŠTE U ZAGREBU | R6: UNSKA 3 | S6: 10000 ZAGREB | T6: 3276643 | U6: 57029260362 | V6: Sveučilišta i veleučilišta u Republici Hrvatskoj | W6: 08006
B7: FINANCIJSKI PLAN ZA 2027. I PROJEKCIJE ZA 2028. I 2029. GODINU | M7: =+M6+1 -> 3 | N7: =O7&" "&P7 -> 1781 SVEUČILIŠTE U ZAGREBU - PRIRODOSLOVNO-MATEMATIČKI FAKULTET | O7: 1781 | P7: SVEUČILIŠTE U ZAGREBU - PRIRODOSLOVNO-MATEMATIČKI FAKULTET | Q7: SVEUČILIŠTE U ZAGREBU | R7: HORVATOVAC 102A | S7: 10000 ZAGREB | T7: 3270149 | U7: 28163265527 | V7: Sveučilišta i veleučilišta u Republici Hrvatskoj | W7: 08006
M8: =+M7+1 -> 4 | N8: =O8&" "&P8 -> 1790 SVEUČILIŠTE U ZAGREBU FAKULTET KEMIJSKOG INŽENJERSTVA I TEHNOLOGIJE | O8: 1790 | P8: SVEUČILIŠTE U ZAGREBU FAKULTET KEMIJSKOG INŽENJERSTVA I TEHNOLOGIJE | Q8: SVEUČILIŠTE U ZAGREBU | R8: MARULIĆEV TRG 19 | S8: 10000 ZAGREB | T8: 3250270 | U8: 71259740533 | V8: Sveučilišta i veleučilišta u Republici Hrvatskoj | W8: 08006
B9: I. OPĆI DIO | M9: =+M8+1 -> 5 | N9: =O9&" "&P9 -> 1804 SVEUČILIŠTE U ZAGREBU - TEKSTILNO-TEHNOLOŠKI FAKULTET | O9: 1804 | P9: SVEUČILIŠTE U ZAGREBU - TEKSTILNO-TEHNOLOŠKI FAKULTET | Q9: SVEUČILIŠTE U ZAGREBU | R9: PRILAZ BARUNA FILIPOVIĆA 28A | S9: 10000 ZAGREB | T9: 3207064 | U9: 43097527965 | V9: Sveučilišta i veleučilišta u Republici Hrvatskoj | W9: 08006
M10: =+M9+1 -> 6 | N10: =O10&" "&P10 -> 1812 Sveučilište u Zagrebu FAKULTET PROMETNIH ZNANOSTI | O10: 1812 | P10: Sveučilište u Zagrebu FAKULTET PROMETNIH ZNANOSTI | Q10: SVEUČILIŠTE U ZAGREBU | R10: VUKELIĆEVA 4 | S10: 10000 ZAGREB | T10: 3260771 | U10: 25410051374 | V10: Sveučilišta i veleučilišta u Republici Hrvatskoj | W10: 08006
B11: A. SAŽETAK RAČUNA PRIHODA I RASHODA | M11: =+M10+1 -> 7 | N11: =O11&" "&P11 -> 1829 SVEUČILIŠTE U ZAGREBU, FAKULTET STROJARSTVA I BRODOGRADNJE | O11: 1829 | P11: SVEUČILIŠTE U ZAGREBU, FAKULTET STROJARSTVA I BRODOGRADNJE | Q11: SVEUČILIŠTE U ZAGREBU | R11: IVANA LUČIĆA 5 | S11: 10000 ZAGREB | T11: 3276546 | U11: 22910368449 | V11: Sveučilišta i veleučilišta u Republici Hrvatskoj | W11: 08006
G12: u EUR | M12: =+M11+1 -> 8 | N12: =O12&" "&P12 -> 1837 SVEUČILIŠTE U ZAGREBU GRAĐEVINSKI FAKULTET | O12: 1837 | P12: SVEUČILIŠTE U ZAGREBU GRAĐEVINSKI FAKULTET | Q12: SVEUČILIŠTE U ZAGREBU | R12: FRA ANDRIJE KAČIĆA MIOŠIĆA 26 | S12: 10000 ZAGREB | T12: 3227120 | U12: 62924153420 | V12: Sveučilišta i veleučilišta u Republici Hrvatskoj | W12: 08006
C13: IZVRŠENJE 2025. | D13: TEKUĆI PLAN 2026. | E13: PLAN 2027. | F13: PROJEKCIJA 2028. | G13: PROJEKCIJA 2029. | M13: =+M12+1 -> 9 | N13: =O13&" "&P13 -> 1845 SVEUČILIŠTE U ZAGREBU PREHRAMBENO-BIOTEHNOLOŠKI FAKULTET | O13: 1845 | P13: SVEUČILIŠTE U ZAGREBU PREHRAMBENO-BIOTEHNOLOŠKI FAKULTET | Q13: SVEUČILIŠTE U ZAGREBU | R13: PIEROTTIJEVA 6 | S13: 10000 ZAGREB | T13: 3207102 | U13: 47824453867 | V13: Sveučilišta i veleučilišta u Republici Hrvatskoj | W13: 08006
A14: 6 | B14: PRIHODI POSLOVANJA | C14: 14909030 | D14: 14560994 | E14: ='A.1 PRIHODI I RASHODI EK'!D11 -> 16037969 | F14: ='A.1 PRIHODI I RASHODI EK'!E11 -> 16045367 | G14: ='A.1 PRIHODI I RASHODI EK'!F11 -> 16045367 | M14: =+M13+1 -> 10 | N14: =O14&" "&P14 -> 1853 SVEUČILIŠTE U ZAGREBU - GEODETSKI FAKULTET | O14: 1853 | P14: SVEUČILIŠTE U ZAGREBU - GEODETSKI FAKULTET | Q14: SVEUČILIŠTE U ZAGREBU | R14: A. KAČIĆA MIOŠIĆA 26 | S14: 10000 ZAGREB | T14: 3204987 | U14: 43594593297 | V14: Sveučilišta i veleučilišta u Republici Hrvatskoj | W14: 08006
A15: 7 | B15: PRIHODI OD NEFINANCIJSKE IMOVINE | C15: 0 | D15: 0 | E15: ='A.1 PRIHODI I RASHODI EK'!D19 -> 0 | F15: ='A.1 PRIHODI I RASHODI EK'!E19 -> 0 | G15: ='A.1 PRIHODI I RASHODI EK'!F19 -> 0 | M15: =+M14+1 -> 11 | N15: =O15&" "&P15 -> 1861 SVEUČILIŠTE U ZAGREBU - ARHITEKTONSKI FAKULTET | O15: 1861 | P15: SVEUČILIŠTE U ZAGREBU - ARHITEKTONSKI FAKULTET | Q15: SVEUČILIŠTE U ZAGREBU | R15: KAČIĆEVA 26 | S15: 10000 ZAGREB | T15: 3204952 | U15: 42061107444 | V15: Sveučilišta i veleučilišta u Republici Hrvatskoj | W15: 08006
B16: PRIHODI UKUPNO | C16: =SUM(C14:C15) -> 14909030 | D16: =SUM(D14:D15) -> 14560994 | E16: =SUM(E14:E15) -> 16037969 | F16: =+F14+F15 -> 16045367 | G16: =+G14+G15 -> 16045367 | M16: =+M15+1 -> 12 | N16: =O16&" "&P16 -> 1870 SVEUČILIŠTE U ZAGREBU STOMATOLOŠKI FAKULTET | O16: 1870 | P16: SVEUČILIŠTE U ZAGREBU STOMATOLOŠKI FAKULTET | Q16: SVEUČILIŠTE U ZAGREBU | R16: GUNDULIĆEVA 5 | S16: 10000 ZAGREB | T16: 3204995 | U16: 70221464726 | V16: Sveučilišta i veleučilišta u Republici Hrvatskoj | W16: 08006
A17: 3 | B17: RASHODI POSLOVANJA | C17: =IFERROR(VLOOKUP("3",[1]FP0002PRR!$A$3:$F$7,6,FALSE),0) -> 14596266 | D17: =IFERROR(VLOOKUP("3",[2]FP0002PRR!$A$3:$F$7,5,FALSE),0) -> 14235994 | E17: ='A.1 PRIHODI I RASHODI EK'!D27 -> 15984469 | F17: ='A.1 PRIHODI I RASHODI EK'!E27 -> 15991867 | G17: ='A.1 PRIHODI I RASHODI EK'!F27 -> 15991867 | M17: =+M16+1 -> 13 | N17: =O17&" "&P17 -> 1888 SVEUČILIŠTE U ZAGREBU, MEDICINSKI FAKULTET | O17: 1888 | P17: SVEUČILIŠTE U ZAGREBU, MEDICINSKI FAKULTET | Q17: SVEUČILIŠTE U ZAGREBU | R17: ŠALATA 3 | S17: 10000 ZAGREB | T17: 3270211 | U17: 45001686598 | V17: Sveučilišta i veleučilišta u Republici Hrvatskoj | W17: 08006
A18: 4 | B18: RASHODI ZA NEFINANCIJSKU IMOVINU | C18: =IFERROR(VLOOKUP("4",[1]FP0002PRR!$A$3:$F$7,6,FALSE),0) -> 570952.56 | D18: =IFERROR(VLOOKUP("4",[2]FP0002PRR!$A$3:$F$7,5,FALSE),0) -> 325000 | E18: ='A.1 PRIHODI I RASHODI EK'!D35 -> 53500 | F18: ='A.1 PRIHODI I RASHODI EK'!E35 -> 53500 | G18: ='A.1 PRIHODI I RASHODI EK'!F35 -> 53500 | M18: =+M17+1 -> 14 | N18: =O18&" "&P18 -> 1896 SVEUČILIŠTE U ZAGREBU FAKULTET ŠUMARSTVA I DRVNE TEHNOLOGIJE | O18: 1896 | P18: SVEUČILIŠTE U ZAGREBU FAKULTET ŠUMARSTVA I DRVNE TEHNOLOGIJE | Q18: SVEUČILIŠTE U ZAGREBU | R18: SVETOŠIMUNSKA CESTA 25 | S18: 10000 ZAGREB | T18: 3281485 | U18: 07699719217 | V18: Sveučilišta i veleučilišta u Republici Hrvatskoj | W18: 08006
B19: RASHODI UKUPNO | C19: =SUM(C17:C18) -> 15167219 | D19: =SUM(D17:D18) -> 14560994 | E19: =SUM(E17:E18) -> 16037969 | F19: =+F17+F18 -> 16045367 | G19: =+G17+G18 -> 16045367 | M19: =+M18+1 -> 15 | N19: =O19&" "&P19 -> 1907 SVEUČILIŠTE U ZAGREBU - FAKULTET POLITIČKIH ZNANOSTI | O19: 1907 | P19: SVEUČILIŠTE U ZAGREBU - FAKULTET POLITIČKIH ZNANOSTI | Q19: SVEUČILIŠTE U ZAGREBU | R19: LEPUŠIĆEVA 6 | S19: 10000 ZAGREB | T19: 3270262 | U19: 28011548575 | V19: Sveučilišta i veleučilišta u Republici Hrvatskoj | W19: 08006
B20: RAZLIKA - VIŠAK / MANJAK | C20: =+C16-C19 -> -258188.56 | D20: =+D16-D19 -> 0 | E20: =+E16-E19 -> 0 | F20: =+F16-F19 -> 0 | G20: =+G16-G19 -> 0 | M20: =+M19+1 -> 16 | N20: =O20&" "&P20 -> 1915 SVEUČILIŠTE U ZAGREBU - PRAVNI FAKULTET | O20: 1915 | P20: SVEUČILIŠTE U ZAGREBU - PRAVNI FAKULTET | Q20: SVEUČILIŠTE U ZAGREBU | R20: TRG REPUBLIKE HRVATSKE 14 | S20: 10000 ZAGREB | T20: 3225909 | U20: 38583303160 | V20: Sveučilišta i veleučilišta u Republici Hrvatskoj | W20: 08006
M21: =+M20+1 -> 17 | N21: =O21&" "&P21 -> 1923 SVEUČILIŠTE U ZAGREBU AGRONOMSKI FAKULTET | O21: 1923 | P21: SVEUČILIŠTE U ZAGREBU AGRONOMSKI FAKULTET | Q21: SVEUČILIŠTE U ZAGREBU | R21: SVETOŠIMUNSKA CESTA 25 | S21: 10000 ZAGREB | T21: 3283097 | U21: 76023745044 | V21: Sveučilišta i veleučilišta u Republici Hrvatskoj | W21: 08006
B22: B. SAŽETAK RAČUNA FINANCIRANJA | M22: =+M21+1 -> 18 | N22: =O22&" "&P22 -> 1931 SVEUČILIŠTE U ZAGREBU - EKONOMSKI FAKULTET | O22: 1931 | P22: SVEUČILIŠTE U ZAGREBU - EKONOMSKI FAKULTET | Q22: SVEUČILIŠTE U ZAGREBU | R22: TRG J. F. KENNEDEYA 6 | S22: 10000 ZAGREB | T22: 3272079 | U22: 27208467122 | V22: Sveučilišta i veleučilišta u Republici Hrvatskoj | W22: 08006
G23: u EUR | M23: =+M22+1 -> 19 | N23: =O23&" "&P23 -> 1940 SVEUČILIŠTE U ZAGREBU, UČITELJSKI FAKULTET | O23: 1940 | P23: SVEUČILIŠTE U ZAGREBU, UČITELJSKI FAKULTET | Q23: SVEUČILIŠTE U ZAGREBU | R23: SAVSKA CESTA 77 | S23: 10000 ZAGREB | T23: 1422545 | U23: 72226488129 | V23: Sveučilišta i veleučilišta u Republici Hrvatskoj | W23: 08006
C24: IZVRŠENJE 2025. | D24: TEKUĆI PLAN 2026. | E24: PLAN 2027. | F24: PROJEKCIJA 2028. | G24: PROJEKCIJA 2029. | M24: =+M23+1 -> 20 | N24: =O24&" "&P24 -> 1958 SVEUČILIŠTE U ZAGREBU - FILOZOFSKI FAKULTET | O24: 1958 | P24: SVEUČILIŠTE U ZAGREBU - FILOZOFSKI FAKULTET | Q24: SVEUČILIŠTE U ZAGREBU | R24: IVANA LUČIĆA 3 | S24: 10000 ZAGREB | T24: 3254852 | U24: 90633715804 | V24: Sveučilišta i veleučilišta u Republici Hrvatskoj | W24: 08006
A25: 8 | B25: PRIMICI OD FINANCIJSKE IMOVINE I ZADUŽIVANJA | E25: ='B.1 RAČUN FINANC EK'!D10 -> 0 | F25: ='B.1 RAČUN FINANC EK'!E10 -> 0 | G25: ='B.1 RAČUN FINANC EK'!F10 -> 0 | M25: =+M24+1 -> 21 | N25: =O25&" "&P25 -> 1966 SVEUČILIŠTE U ZAGREBU - EDUKCIJSKO-REHABILITACIJSKI FAKULTET | O25: 1966 | P25: SVEUČILIŠTE U ZAGREBU - EDUKCIJSKO-REHABILITACIJSKI FAKULTET | Q25: SVEUČILIŠTE U ZAGREBU | R25: BORONGAJSKA CESTA 83F | S25: 10000 ZAGREB | T25: 3219780 | U25: 34967762426 | V25: Sveučilišta i veleučilišta u Republici Hrvatskoj | W25: 08006
A26: 5 | B26: IZDACI ZA FINANCIJSKU IMOVINU I OTPLATE ZAJMOVA | E26: ='B.1 RAČUN FINANC EK'!D15 -> 0 | F26: ='B.1 RAČUN FINANC EK'!E15 -> 0 | G26: ='B.1 RAČUN FINANC EK'!F15 -> 0 | M26: =+M25+1 -> 22 | N26: =O26&" "&P26 -> 1974 SVEUČILIŠTE U ZAGREBU - AKADEMIJA DRAMSKE UMJETNOSTI | O26: 1974 | P26: SVEUČILIŠTE U ZAGREBU - AKADEMIJA DRAMSKE UMJETNOSTI | Q26: SVEUČILIŠTE U ZAGREBU | R26: TRG REPUBLIKE HRVATSKE 5 | S26: 10000 ZAGREB | T26: 3205029 | U26: 52097842295 | V26: Sveučilišta i veleučilišta u Republici Hrvatskoj | W26: 08006
B27: RAZLIKA PRIMITAKA I IZDATAKA | C27: =+C25-C26 -> 0 | D27: =+D25-D26 -> 0 | E27: =+E25-E26 -> 0 | F27: =+F25-F26 -> 0 | G27: =+G25-G26 -> 0 | M27: =+M26+1 -> 23 | N27: =O27&" "&P27 -> 1982 SVEUČILIŠTE U ZAGREBU AKADEMIJA LIKOVNIH UMJETNOSTI | O27: 1982 | P27: SVEUČILIŠTE U ZAGREBU AKADEMIJA LIKOVNIH UMJETNOSTI | Q27: SVEUČILIŠTE U ZAGREBU | R27: ILICA 85 | S27: 10000 ZAGREB | T27: 3207919 | U27: 95847257607 | V27: Sveučilišta i veleučilišta u Republici Hrvatskoj | W27: 08006
A28: DONOS | B28: PRIJENOS SREDSTAVA IZ PRETHODNE GODINE | C28: 818156 | D28: 559967 | E28: =+'Unos prijenosa'!D5 -> 559967 | F28: =+'Unos prijenosa'!D13 -> 0 | G28: =+'Unos prijenosa'!D21 -> 0 | M28: =+M27+1 -> 24 | N28: =O28&" "&P28 -> 1999 SVEUČILIŠTE U ZAGREBU - MUZIČKA AKADEMIJA | O28: 1999 | P28: SVEUČILIŠTE U ZAGREBU - MUZIČKA AKADEMIJA | Q28: SVEUČILIŠTE U ZAGREBU | R28: TRG REPUBLIKE HRVATSKE 12 | S28: 10000 ZAGREB | T28: 3205002 | U28: 18422925218 | V28: Sveučilišta i veleučilišta u Republici Hrvatskoj | W28: 08006
A29: ODNOS | B29: PRIJENOS SREDSTAVA U SLJEDEĆE RAZDOBLJE | C29: -559967 | D29: -559967 | E29: =+'Unos prijenosa'!D7 -> -559967 | F29: =+'Unos prijenosa'!D15 -> 0 | G29: =+'Unos prijenosa'!D23 -> 0 | M29: =+M28+1 -> 25 | N29: =O29&" "&P29 -> 2006 SVEUČILIŠTE U ZAGREBU KINEZIOLOŠKI FAKULTET | O29: 2006 | P29: SVEUČILIŠTE U ZAGREBU KINEZIOLOŠKI FAKULTET | Q29: SVEUČILIŠTE U ZAGREBU | R29: HORVAĆANSKI ZAVOJ 15 | S29: 10000 ZAGREB | T29: 3274080 | U29: 25329931628 | V29: Sveučilišta i veleučilišta u Republici Hrvatskoj | W29: 08006
B30: NETO FINANCIRANJE | C30: =+C27+C28+C29 -> 258189 | D30: =+D27+D28+D29 -> 0 | E30: =+E27+E28+E29 -> 0 | F30: =+F27+F28+F29 -> 0 | G30: =+G27+G28+G29 -> 0 | M30: =+M29+1 -> 26 | N30: =O30&" "&P30 -> 2014 SVEUČILIŠTE U ZAGREBU FARMACEUTSKO-BIOKEMIJSKI FAKULTET | O30: 2014 | P30: SVEUČILIŠTE U ZAGREBU FARMACEUTSKO-BIOKEMIJSKI FAKULTET | Q30: SVEUČILIŠTE U ZAGREBU | R30: ANTE KOVAČIĆA 1 | S30: 10000 ZAGREB | T30: 3205037 | U30: 14509285435 | V30: Sveučilišta i veleučilišta u Republici Hrvatskoj | W30: 08006
M31: =+M30+1 -> 27 | N31: =O31&" "&P31 -> 2022 SVEUČILIŠTE U ZAGREBU VETERINARSKI FAKULTET | O31: 2022 | P31: SVEUČILIŠTE U ZAGREBU VETERINARSKI FAKULTET | Q31: SVEUČILIŠTE U ZAGREBU | R31: HEINZELOVA 55 | S31: 10000 ZAGREB | T31: 3225755 | U31: 36389528408 | V31: Sveučilišta i veleučilišta u Republici Hrvatskoj | W31: 08006
B32: VIŠAK / MANJAK + NETO FINANCIRANJE | C32: =+C20+C30 -> 0.44 | D32: =+D20+D30 -> 0 | E32: =+E20+E30 -> 0 | F32: =+F20+F30 -> 0 | G32: =+G20+G30 -> 0 | M32: =+M31+1 -> 28 | N32: =O32&" "&P32 -> 2047 SVEUČILIŠTE U ZAGREBU RUDARSKO-GEOLOŠKO-NAFTNI FAKULTET | O32: 2047 | P32: SVEUČILIŠTE U ZAGREBU RUDARSKO-GEOLOŠKO-NAFTNI FAKULTET | Q32: SVEUČILIŠTE U ZAGREBU | R32: PIEROTTIJEVA 6 | S32: 10000 ZAGREB | T32: 3207005 | U32: 99534693762 | V32: Sveučilišta i veleučilišta u Republici Hrvatskoj | W32: 08006
M33: =+M32+1 -> 29 | N33: =O33&" "&P33 -> 2063 SVEUČILIŠTE U ZAGREBU FAKULTET ORGANIZACIJE I INFORMATIKE | O33: 2063 | P33: SVEUČILIŠTE U ZAGREBU FAKULTET ORGANIZACIJE I INFORMATIKE | Q33: SVEUČILIŠTE U ZAGREBU | R33: PAVLINSKA 2 | S33: 42000 VARAŽDIN | T33: 3006107 | U33: 02024882310 | V33: Sveučilišta i veleučilišta u Republici Hrvatskoj | W33: 08006
M34: =+M33+1 -> 30 | N34: =O34&" "&P34 -> 2071 SVEUČILIŠTE U ZAGREBU - METALURŠKI FAKULTET SISAK | O34: 2071 | P34: SVEUČILIŠTE U ZAGREBU - METALURŠKI FAKULTET SISAK | Q34: SVEUČILIŠTE U ZAGREBU | R34: ALEJA NARODNIH HEROJA 3 | S34: 44000 SISAK | T34: 3313786 | U34: 48006703414 | V34: Sveučilišta i veleučilišta u Republici Hrvatskoj | W34: 08006
M35: =+M34+1 -> 31 | N35: =O35&" "&P35 -> 2080 SVEUČILIŠTE U ZAGREBU - GRAFIČKI FAKULTET | O35: 2080 | P35: SVEUČILIŠTE U ZAGREBU - GRAFIČKI FAKULTET | Q35: SVEUČILIŠTE U ZAGREBU | R35: GETALDIĆEVA 2 | S35: 10000 ZAGREB | T35: 3219763 | U35: 25564990903 | V35: Sveučilišta i veleučilišta u Republici Hrvatskoj | W35: 08006
M36: =+M35+1 -> 32 | N36: =O36&" "&P36 -> 2102 SVEUČILIŠTE U ZAGREBU - GEOTEHNIČKI FAKULTET | O36: 2102 | P36: SVEUČILIŠTE U ZAGREBU - GEOTEHNIČKI FAKULTET | Q36: SVEUČILIŠTE U ZAGREBU | R36: HALLEROVA ALEJA 7 | S36: 42000 VARAŽDIN | T36: 3042316 | U36: 16146181375 | V36: Sveučilišta i veleučilišta u Republici Hrvatskoj | W36: 08006
M37: =+M36+1 -> 33 | N37: =O37&" "&P37 -> 2135 SVEUČILIŠTE U ZAGREBU, KATOLIČKI BOGOSLOVNI FAKULTET | O37: 2135 | P37: SVEUČILIŠTE U ZAGREBU, KATOLIČKI BOGOSLOVNI FAKULTET | Q37: SVEUČILIŠTE U ZAGREBU | R37: VLAŠKA 38 | S37: 10000 ZAGREB | T37: 3703088 | U37: 48987767944 | V37: Sveučilišta i veleučilišta u Republici Hrvatskoj | W37: 08006
M38: =+M37+1 -> 34 | N38: =O38&" "&P38 -> 2151 SVEUČILIŠTE U RIJECI - TEHNIČKI FAKULTET | O38: 2151 | P38: SVEUČILIŠTE U RIJECI - TEHNIČKI FAKULTET | Q38: SVEUČILIŠTE U RIJECI | R38: VUKOVARSKA 58 | S38: 51000 RIJEKA | T38: 3334317 | U38: 46319717480 | V38: Sveučilišta i veleučilišta u Republici Hrvatskoj | W38: 08006
M39: =+M38+1 -> 35 | N39: =O39&" "&P39 -> 2160 SVEUČILIŠTE U RIJECI - GRAĐEVINSKI FAKULTET | O39: 2160 | P39: SVEUČILIŠTE U RIJECI - GRAĐEVINSKI FAKULTET | Q39: SVEUČILIŠTE U RIJECI | R39: RADMILE MATEJČIĆ 3 | S39: 51000 RIJEKA | T39: 3395855 | U39: 92037849504 | V39: Sveučilišta i veleučilišta u Republici Hrvatskoj | W39: 08006
M40: =+M39+1 -> 36 | N40: =O40&" "&P40 -> 2186 SVEUČILIŠTE U RIJECI, EKONOMSKI FAKULTET | O40: 2186 | P40: SVEUČILIŠTE U RIJECI, EKONOMSKI FAKULTET | Q40: SVEUČILIŠTE U RIJECI | R40: IVANA FILIPOVIĆA 4 | S40: 51000 RIJEKA | T40: 3328627 | U40: 26093119930 | V40: Sveučilišta i veleučilišta u Republici Hrvatskoj | W40: 08006
...

Sheet Unos prihoda i primitaka
A1: Plan za unos u SAP - prihodi i primici | F1: =IF(OR('OPĆI DIO'!C1="odaberite -",'OPĆI DIO'!C1=""),"Molimo odaberite proračunskog korisnika na radnom listu Opći podaci!","") | K1: u EUR
A2: GLAVA | B2: OPIS GLAVE | C2: IZVOR NA TERET | D2: IZVOR | E2: OPIS IZVORA | F2: STAVKA | G2: Stavka-Izvor | H2: OPIS STAVKE | I2: PLAN 2027. | J2: PROJEKCIJA 2028. | K2: PROJEKCIJA 2029. | L2: Davatelj prijenosa 639 | M2: UPLATITELJ SREDSTAVA - tekstualni unos za ostale prihode | N2: Ustanova | O2: left3 | P2: left2
A3: =IF(E3="","",VLOOKUP('OPĆI DIO'!$C$1,'OPĆI DIO'!$N$4:$W$150,10,FALSE)) -> 08091 | B3: =IF(E3="","",VLOOKUP('OPĆI DIO'!$C$1,'OPĆI DIO'!$N$4:$W$150,9,FALSE)) -> Agencije | C3: =IFERROR(VLOOKUP(G3,$U$6:$AB$538,8,FALSE),"") -> 11 | D3: 11 | E3: =IFERROR(VLOOKUP(G3,$U$6:$AB$538,5,FALSE),"") -> Opći prihodi i primici | F3: =IFERROR(VLOOKUP(G3,$U$6:$AB$538,2,FALSE),"") -> 67111 | G3: 67111-11 | H3: =IFERROR(VLOOKUP(G3,$U$6:$AB$538,3,FALSE),"") -> Prihodi iz nadležnog proračuna za financiranje rashoda poslovanja | I3: 9071302 | J3: 9078700 | K3: 9078700 | N3: =IF(E3="","",'OPĆI DIO'!$C$1) -> 40883 NACIONALNI CENTAR ZA VANJSKO VREDNOVANJE OBRAZOVANJA | O3: =LEFT(F3,2) -> 67 | P3: =LEFT(F3,3) -> 671 | Q3: glava za visoko 6
A4: =IF(E4="","",VLOOKUP('OPĆI DIO'!$C$1,'OPĆI DIO'!$N$4:$W$150,10,FALSE)) -> 08091 | B4: =IF(E4="","",VLOOKUP('OPĆI DIO'!$C$1,'OPĆI DIO'!$N$4:$W$150,9,FALSE)) -> Agencije | C4: =IFERROR(VLOOKUP(G4,$U$6:$AB$538,8,FALSE),"") -> 12 | D4: 12 | E4: =IFERROR(VLOOKUP(G4,$U$6:$AB$538,5,FALSE),"") -> Sredstva učešća za pomoći | F4: =IFERROR(VLOOKUP(G4,$U$6:$AB$538,2,FALSE),"") -> 67111 | G4: 67111-12 | H4: =IFERROR(VLOOKUP(G4,$U$6:$AB$538,3,FALSE),"") -> Prihodi iz nadležnog proračuna za financiranje rashoda poslovanja | I4: 1000000 | J4: 1000000 | K4: 1000000 | N4: =IF(E4="","",'OPĆI DIO'!$C$1) -> 40883 NACIONALNI CENTAR ZA VANJSKO VREDNOVANJE OBRAZOVANJA | O4: =LEFT(F4,2) -> 67 | P4: =LEFT(F4,3) -> 671
A5: =IF(E5="","",VLOOKUP('OPĆI DIO'!$C$1,'OPĆI DIO'!$N$4:$W$150,10,FALSE)) -> 08091 | B5: =IF(E5="","",VLOOKUP('OPĆI DIO'!$C$1,'OPĆI DIO'!$N$4:$W$150,9,FALSE)) -> Agencije | C5: =IFERROR(VLOOKUP(G5,$U$6:$AB$538,8,FALSE),"") -> 561 | D5: 561 | E5: =IFERROR(VLOOKUP(G5,$U$6:$AB$538,5,FALSE),"") -> Europski socijalni fond plus – predfinanciranje iz izvora 11 Opći prihodi i primici | F5: =IFERROR(VLOOKUP(G5,$U$6:$AB$538,2,FALSE),"") -> 67111 | G5: 67111-561 | H5: =IFERROR(VLOOKUP(G5,$U$6:$AB$538,3,FALSE),"") -> Prihodi iz nadležnog proračuna za financiranje rashoda poslovanja | I5: 5666667 | J5: 5666667 | K5: 5666667 | N5: =IF(E5="","",'OPĆI DIO'!$C$1) -> 40883 NACIONALNI CENTAR ZA VANJSKO VREDNOVANJE OBRAZOVANJA | O5: =LEFT(F5,2) -> 67 | P5: =LEFT(F5,3) -> 671 | Q5: IZVOR | R5: OPIS IZVORA | U5: StavkaIzvor | V5: Stavka | W5: opis stavke | X5: izvor | Y5: OPIS IZVORA | Z5: 3 konto | AA5: 2 konto | AB5: Izvor
A6: =IF(E6="","",VLOOKUP('OPĆI DIO'!$C$1,'OPĆI DIO'!$N$4:$W$150,10,FALSE)) -> 08091 | B6: =IF(E6="","",VLOOKUP('OPĆI DIO'!$C$1,'OPĆI DIO'!$N$4:$W$150,9,FALSE)) -> Agencije | C6: =IFERROR(VLOOKUP(G6,$U$6:$AB$538,8,FALSE),"") -> 43 | D6: 43 | E6: =IFERROR(VLOOKUP(G6,$U$6:$AB$538,5,FALSE),"") -> Ostali prihodi za posebne namjene | F6: =IFERROR(VLOOKUP(G6,$U$6:$AB$538,2,FALSE),"") -> 65268 | G6: 65268-43 | H6: =IFERROR(VLOOKUP(G6,$U$6:$AB$538,3,FALSE),"") -> Ostali prihodi za posebne namjene | I6: 300000 | J6: 300000 | K6: 300000 | N6: =IF(E6="","",'OPĆI DIO'!$C$1) -> 40883 NACIONALNI CENTAR ZA VANJSKO VREDNOVANJE OBRAZOVANJA | O6: =LEFT(F6,2) -> 65 | P6: =LEFT(F6,3) -> 652 | Q6: 11 | R6: Opći prihodi i primici | S6: 11 | U6: =V6&"-"&X6 -> 67111-11 | V6: 67111 | W6: Prihodi iz nadležnog proračuna za financiranje rashoda poslovanja | X6: 11 | Y6: Opći prihodi i primici | Z6: =LEFT(V6,3) -> 671 | AA6: =LEFT(V6,2) -> 67 | AB6: 11
A7: =IF(E7="","",VLOOKUP('OPĆI DIO'!$C$1,'OPĆI DIO'!$N$4:$W$150,10,FALSE)) | B7: =IF(E7="","",VLOOKUP('OPĆI DIO'!$C$1,'OPĆI DIO'!$N$4:$W$150,9,FALSE)) | C7: =IFERROR(VLOOKUP(G7,$U$6:$AB$538,8,FALSE),"") | E7: =IFERROR(VLOOKUP(G7,$U$6:$AB$538,5,FALSE),"") | F7: =IFERROR(VLOOKUP(G7,$U$6:$AB$538,2,FALSE),"") | H7: =IFERROR(VLOOKUP(G7,$U$6:$AB$538,3,FALSE),"") | N7: =IF(E7="","",'OPĆI DIO'!$C$1) | O7: =LEFT(F7,2) | P7: =LEFT(F7,3) | Q7: 12 | R7: Sredstva učešća za pomoći | S7: 12 | U7: =V7&"-"&X7 -> 67111-12 | V7: 67111 | W7: Prihodi iz nadležnog proračuna za financiranje rashoda poslovanja | X7: 12 | Y7: Sredstva učešća za pomoći | Z7: =LEFT(V7,3) -> 671 | AA7: =LEFT(V7,2) -> 67 | AB7: 12
A8: =IF(E8="","",VLOOKUP('OPĆI DIO'!$C$1,'OPĆI DIO'!$N$4:$W$150,10,FALSE)) | B8: =IF(E8="","",VLOOKUP('OPĆI DIO'!$C$1,'OPĆI DIO'!$N$4:$W$150,9,FALSE)) | C8: =IFERROR(VLOOKUP(G8,$U$6:$AB$538,8,FALSE),"") | E8: =IFERROR(VLOOKUP(G8,$U$6:$AB$538,5,FALSE),"") | F8: =IFERROR(VLOOKUP(G8,$U$6:$AB$538,2,FALSE),"") | H8: =IFERROR(VLOOKUP(G8,$U$6:$AB$538,3,FALSE),"") | N8: =IF(E8="","",'OPĆI DIO'!$C$1) | O8: =LEFT(F8,2) | P8: =LEFT(F8,3) | Q8: 31 | R8: Vlastiti prihodi | S8: 31 | U8: =V8&"-"&X8 -> 67111-531 | V8: 67111 | W8: Prihodi iz nadležnog proračuna za financiranje rashoda poslovanja | X8: 531 | Y8: Švicarsko - hrvatski program suradnje | Z8: =LEFT(V8,3) -> 671 | AA8: =LEFT(V8,2) -> 67 | AB8: 531
A9: =IF(E9="","",VLOOKUP('OPĆI DIO'!$C$1,'OPĆI DIO'!$N$4:$W$150,10,FALSE)) | B9: =IF(E9="","",VLOOKUP('OPĆI DIO'!$C$1,'OPĆI DIO'!$N$4:$W$150,9,FALSE)) | C9: =IFERROR(VLOOKUP(G9,$U$6:$AB$538,8,FALSE),"") | E9: =IFERROR(VLOOKUP(G9,$U$6:$AB$538,5,FALSE),"") | F9: =IFERROR(VLOOKUP(G9,$U$6:$AB$538,2,FALSE),"") | H9: =IFERROR(VLOOKUP(G9,$U$6:$AB$538,3,FALSE),"") | N9: =IF(E9="","",'OPĆI DIO'!$C$1) | O9: =LEFT(F9,2) | P9: =LEFT(F9,3) | Q9: 41 | R9: Prihodi od igara na sreću | S9: 41 | U9: =V9&"-"&X9 -> 67111-532 | V9: 67111 | W9: Prihodi iz nadležnog proračuna za financiranje rashoda poslovanja | X9: 532 | Y9: Financijski mehanizam Europskog gospodarskog prostora i Norveški financijski mehanizam | Z9: =LEFT(V9,3) -> 671 | AA9: =LEFT(V9,2) -> 67 | AB9: 532
A10: =IF(E10="","",VLOOKUP('OPĆI DIO'!$C$1,'OPĆI DIO'!$N$4:$W$150,10,FALSE)) | B10: =IF(E10="","",VLOOKUP('OPĆI DIO'!$C$1,'OPĆI DIO'!$N$4:$W$150,9,FALSE)) | C10: =IFERROR(VLOOKUP(G10,$U$6:$AB$538,8,FALSE),"") | E10: =IFERROR(VLOOKUP(G10,$U$6:$AB$538,5,FALSE),"") | F10: =IFERROR(VLOOKUP(G10,$U$6:$AB$538,2,FALSE),"") | H10: =IFERROR(VLOOKUP(G10,$U$6:$AB$538,3,FALSE),"") | N10: =IF(E10="","",'OPĆI DIO'!$C$1) | O10: =LEFT(F10,2) | P10: =LEFT(F10,3) | Q10: 43 | R10: Ostali prihodi za posebne namjene | S10: 43 | U10: =V10&"-"&X10 -> 67111-54 | V10: 67111 | W10: Prihodi iz nadležnog proračuna za financiranje rashoda poslovanja | X10: 54 | Y10: Europski poljoprivredni jamstveni fond (EAGF) | Z10: =LEFT(V10,3) -> 671 | AA10: =LEFT(V10,2) -> 67 | AB10: 54
A11: =IF(E11="","",VLOOKUP('OPĆI DIO'!$C$1,'OPĆI DIO'!$N$4:$W$150,10,FALSE)) | B11: =IF(E11="","",VLOOKUP('OPĆI DIO'!$C$1,'OPĆI DIO'!$N$4:$W$150,9,FALSE)) | C11: =IFERROR(VLOOKUP(G11,$U$6:$AB$538,8,FALSE),"") | E11: =IFERROR(VLOOKUP(G11,$U$6:$AB$538,5,FALSE),"") | F11: =IFERROR(VLOOKUP(G11,$U$6:$AB$538,2,FALSE),"") | H11: =IFERROR(VLOOKUP(G11,$U$6:$AB$538,3,FALSE),"") | N11: =IF(E11="","",'OPĆI DIO'!$C$1) | O11: =LEFT(F11,2) | P11: =LEFT(F11,3) | Q11: 50 | R11: 5011 Pomoći iz državnog proračuna kroz opće prihode i primitke | S11: 50 | U11: =V11&"-"&X11 -> 67111-561 | V11: 67111 | W11: Prihodi iz nadležnog proračuna za financiranje rashoda poslovanja | X11: 561 | Y11: Europski socijalni fond plus – predfinanciranje iz izvora 11 Opći prihodi i primici | Z11: =LEFT(V11,3) -> 671 | AA11: =LEFT(V11,2) -> 67 | AB11: 561
A12: =IF(E12="","",VLOOKUP('OPĆI DIO'!$C$1,'OPĆI DIO'!$N$4:$W$150,10,FALSE)) | B12: =IF(E12="","",VLOOKUP('OPĆI DIO'!$C$1,'OPĆI DIO'!$N$4:$W$150,9,FALSE)) | C12: =IFERROR(VLOOKUP(G12,$U$6:$AB$538,8,FALSE),"") | E12: =IFERROR(VLOOKUP(G12,$U$6:$AB$538,5,FALSE),"") | F12: =IFERROR(VLOOKUP(G12,$U$6:$AB$538,2,FALSE),"") | H12: =IFERROR(VLOOKUP(G12,$U$6:$AB$538,3,FALSE),"") | N12: =IF(E12="","",'OPĆI DIO'!$C$1) | O12: =LEFT(F12,2) | P12: =LEFT(F12,3) | Q12: 50 | R12: 5012 Pomoći iz državnog proračuna kroz nacionalno sufinanciranje EU projekata | S12: 50 | U12: =V12&"-"&X12 -> 67111-562 | V12: 67111 | W12: Prihodi iz nadležnog proračuna za financiranje rashoda poslovanja | X12: 562 | Y12: Kohezijski fond - predfinanciranje iz izvora 11 Opći prihodi i primici | Z12: =LEFT(V12,3) -> 671 | AA12: =LEFT(V12,2) -> 67 | AB12: 562
A13: =IF(E13="","",VLOOKUP('OPĆI DIO'!$C$1,'OPĆI DIO'!$N$4:$W$150,10,FALSE)) | B13: =IF(E13="","",VLOOKUP('OPĆI DIO'!$C$1,'OPĆI DIO'!$N$4:$W$150,9,FALSE)) | C13: =IFERROR(VLOOKUP(G13,$U$6:$AB$538,8,FALSE),"") | E13: =IFERROR(VLOOKUP(G13,$U$6:$AB$538,5,FALSE),"") | F13: =IFERROR(VLOOKUP(G13,$U$6:$AB$538,2,FALSE),"") | H13: =IFERROR(VLOOKUP(G13,$U$6:$AB$538,3,FALSE),"") | N13: =IF(E13="","",'OPĆI DIO'!$C$1) | O13: =LEFT(F13,2) | P13: =LEFT(F13,3) | Q13: 50 | R13: 5031 Pomoći iz državnog proračuna kroz vlastite prihode | S13: 50 | U13: =V13&"-"&X13 -> 67111-563 | V13: 67111 | W13: Prihodi iz nadležnog proračuna za financiranje rashoda poslovanja | X13: 563 | Y13: Europski fond za regionalni razvoj - predfinanciranje iz izvora 11 Opći prihodi i primici | Z13: =LEFT(V13,3) -> 671 | AA13: =LEFT(V13,2) -> 67 | AB13: 563
A14: =IF(E14="","",VLOOKUP('OPĆI DIO'!$C$1,'OPĆI DIO'!$N$4:$W$150,10,FALSE)) | B14: =IF(E14="","",VLOOKUP('OPĆI DIO'!$C$1,'OPĆI DIO'!$N$4:$W$150,9,FALSE)) | C14: =IFERROR(VLOOKUP(G14,$U$6:$AB$538,8,FALSE),"") | E14: =IFERROR(VLOOKUP(G14,$U$6:$AB$538,5,FALSE),"") | F14: =IFERROR(VLOOKUP(G14,$U$6:$AB$538,2,FALSE),"") | H14: =IFERROR(VLOOKUP(G14,$U$6:$AB$538,3,FALSE),"") | N14: =IF(E14="","",'OPĆI DIO'!$C$1) | O14: =LEFT(F14,2) | P14: =LEFT(F14,3) | Q14: 50 | R14: 5041 Pomoći iz državnog proračuna kroz prihode od igara na sreću | S14: 50 | U14: =V14&"-"&X14 -> 67111-564 | V14: 67111 | W14: Prihodi iz nadležnog proračuna za financiranje rashoda poslovanja | X14: 564 | Y14: Fond za pomorstvo, ribarstvo i akvakulturu - predfinanciranje iz izvora 11 Opći prihodi i primici | Z14: =LEFT(V14,3) -> 671 | AA14: =LEFT(V14,2) -> 67 | AB14: 564
A15: =IF(E15="","",VLOOKUP('OPĆI DIO'!$C$1,'OPĆI DIO'!$N$4:$W$150,10,FALSE)) | B15: =IF(E15="","",VLOOKUP('OPĆI DIO'!$C$1,'OPĆI DIO'!$N$4:$W$150,9,FALSE)) | C15: =IFERROR(VLOOKUP(G15,$U$6:$AB$538,8,FALSE),"") | E15: =IFERROR(VLOOKUP(G15,$U$6:$AB$538,5,FALSE),"") | F15: =IFERROR(VLOOKUP(G15,$U$6:$AB$538,2,FALSE),"") | H15: =IFERROR(VLOOKUP(G15,$U$6:$AB$538,3,FALSE),"") | N15: =IF(E15="","",'OPĆI DIO'!$C$1) | O15: =LEFT(F15,2) | P15: =LEFT(F15,3) | Q15: 50 | R15: 5043 Pomoći iz državnog proračuna kroz ostale prihode za posebne namjene | S15: 50 | U15: =V15&"-"&X15 -> 67111-565 | V15: 67111 | W15: Prihodi iz nadležnog proračuna za financiranje rashoda poslovanja | X15: 565 | Y15: Europski poljoprivredni fond za ruralni razvoj - predfinanciranje iz izvora 11 Opći prihodi i primici | Z15: =LEFT(V15,3) -> 671 | AA15: =LEFT(V15,2) -> 67 | AB15: 565
A16: =IF(E16="","",VLOOKUP('OPĆI DIO'!$C$1,'OPĆI DIO'!$N$4:$W$150,10,FALSE)) | B16: =IF(E16="","",VLOOKUP('OPĆI DIO'!$C$1,'OPĆI DIO'!$N$4:$W$150,9,FALSE)) | C16: =IFERROR(VLOOKUP(G16,$U$6:$AB$538,8,FALSE),"") | E16: =IFERROR(VLOOKUP(G16,$U$6:$AB$538,5,FALSE),"") | F16: =IFERROR(VLOOKUP(G16,$U$6:$AB$538,2,FALSE),"") | H16: =IFERROR(VLOOKUP(G16,$U$6:$AB$538,3,FALSE),"") | N16: =IF(E16="","",'OPĆI DIO'!$C$1) | O16: =LEFT(F16,2) | P16: =LEFT(F16,3) | Q16: 50 | R16: 5052 Pomoći iz državnog proračuna kroz ostale pomoći | S16: 50 | U16: =V16&"-"&X16 -> 67111-566 | V16: 67111 | W16: Prihodi iz nadležnog proračuna za financiranje rashoda poslovanja | X16: 566 | Y16: Modernizacijski fond - predfinanciranje iz izvora 11 Opći prihodi i primici | Z16: =LEFT(V16,3) -> 671 | AA16: =LEFT(V16,2) -> 67 | AB16: 566
A17: =IF(E17="","",VLOOKUP('OPĆI DIO'!$C$1,'OPĆI DIO'!$N$4:$W$150,10,FALSE)) | B17: =IF(E17="","",VLOOKUP('OPĆI DIO'!$C$1,'OPĆI DIO'!$N$4:$W$150,9,FALSE)) | C17: =IFERROR(VLOOKUP(G17,$U$6:$AB$538,8,FALSE),"") | E17: =IFERROR(VLOOKUP(G17,$U$6:$AB$538,5,FALSE),"") | F17: =IFERROR(VLOOKUP(G17,$U$6:$AB$538,2,FALSE),"") | H17: =IFERROR(VLOOKUP(G17,$U$6:$AB$538,3,FALSE),"") | N17: =IF(E17="","",'OPĆI DIO'!$C$1) | O17: =LEFT(F17,2) | P17: =LEFT(F17,3) | Q17: 50 | R17: 50810 Pomoći iz državnog proračuna kroz namjenske primitke od zaduživanja – ostali | S17: 50 | U17: =V17&"-"&X17 -> 67111-567 | V17: 67111 | W17: Prihodi iz nadležnog proračuna za financiranje rashoda poslovanja | X17: 567 | Y17: Socijalni fond za klimatsku politiku - predfinanciranje iz izvora 11 Opći prihodi i primici | Z17: =LEFT(V17,3) -> 671 | AA17: =LEFT(V17,2) -> 67 | AB17: 567
A18: =IF(E18="","",VLOOKUP('OPĆI DIO'!$C$1,'OPĆI DIO'!$N$4:$W$150,10,FALSE)) | B18: =IF(E18="","",VLOOKUP('OPĆI DIO'!$C$1,'OPĆI DIO'!$N$4:$W$150,9,FALSE)) | C18: =IFERROR(VLOOKUP(G18,$U$6:$AB$538,8,FALSE),"") | E18: =IFERROR(VLOOKUP(G18,$U$6:$AB$538,5,FALSE),"") | F18: =IFERROR(VLOOKUP(G18,$U$6:$AB$538,2,FALSE),"") | H18: =IFERROR(VLOOKUP(G18,$U$6:$AB$538,3,FALSE),"") | N18: =IF(E18="","",'OPĆI DIO'!$C$1) | O18: =LEFT(F18,2) | P18: =LEFT(F18,3) | Q18: 50 | R18: 50815 Pomoći iz državnog proračuna kroz namjenske primitke od zaduživanja – NPOO | S18: 50 | U18: =V18&"-"&X18 -> 67111-575 | V18: 67111 | W18: Prihodi iz nadležnog proračuna za financiranje rashoda poslovanja | X18: 575 | Y18: Fond za azil, migracije i integraciju - predfinanciranje iz izvora 11 Opći prihodi i primici | Z18: =LEFT(V18,3) -> 671 | AA18: =LEFT(V18,2) -> 67 | AB18: 575
... A45: =IF(E45="","",VLOOKUP('OPĆI DIO'!$C$1,'OPĆI DIO'!$N$4:$W$150,10,FALSE)) | B45: =IF(E45="","",VLOOKUP('OPĆI DIO'!$C$1,'OPĆI DIO'!$N$4:$W$150,9,FALSE)) | C45: =IFERROR(VLOOKUP(G45,$U$6:$AB$538,8,FALSE),"") | E45: =IFERROR(VLOOKUP(G45,$U$6:$AB$538,5,FALSE),"") | F45: =IFERROR(VLOOKUP(G45,$U$6:$AB$538,2,FALSE),"") | H45: =IFERROR(VLOOKUP(G45,$U$6:$AB$538,3,FALSE),"") | N45: =IF(E45="","",'OPĆI DIO'!$C$1) | O45: =LEFT(F45,2) | P45: =LEFT(F45,3) | Q45: 815 | R45: Mehanizam za oporavak i otpornost (NPOO – zajam) | S45: 815 | U45: =V45&"-"&X45 -> 66151-31 | V45: 66151 | W45: Prihodi od pruženih usluga | X45: 31 | Y45: Vlastiti prihodi | Z45: =LEFT(V45,3) -> 661 | AA45: =LEFT(V45,2) -> 66 | AB45: 31
A46: =IF(E46="","",VLOOKUP('OPĆI DIO'!$C$1,'OPĆI DIO'!$N$4:$W$150,10,FALSE)) | B46: =IF(E46="","",VLOOKUP('OPĆI DIO'!$C$1,'OPĆI DIO'!$N$4:$W$150,9,FALSE)) | C46: =IFERROR(VLOOKUP(G46,$U$6:$AB$538,8,FALSE),"") | E46: =IFERROR(VLOOKUP(G46,$U$6:$AB$538,5,FALSE),"") | F46: =IFERROR(VLOOKUP(G46,$U$6:$AB$538,2,FALSE),"") | H46: =IFERROR(VLOOKUP(G46,$U$6:$AB$538,3,FALSE),"") | N46: =IF(E46="","",'OPĆI DIO'!$C$1) | O46: =LEFT(F46,2) | P46: =LEFT(F46,3) | U46: =V46&"-"&X46 -> 66311-61 | V46: 66311 | W46: Tekuće donacije od fizičkih osoba | X46: 61 | Y46: Donacije | Z46: =LEFT(V46,3) -> 663 | AA46: =LEFT(V46,2) -> 66 | AB46: 61
A47: =IF(E47="","",VLOOKUP('OPĆI DIO'!$C$1,'OPĆI DIO'!$N$4:$W$150,10,FALSE)) | B47: =IF(E47="","",VLOOKUP('OPĆI DIO'!$C$1,'OPĆI DIO'!$N$4:$W$150,9,FALSE)) | C47: =IFERROR(VLOOKUP(G47,$U$6:$AB$538,8,FALSE),"") | E47: =IFERROR(VLOOKUP(G47,$U$6:$AB$538,5,FALSE),"") | F47: =IFERROR(VLOOKUP(G47,$U$6:$AB$538,2,FALSE),"") | H47: =IFERROR(VLOOKUP(G47,$U$6:$AB$538,3,FALSE),"") | N47: =IF(E47="","",'OPĆI DIO'!$C$1) | O47: =LEFT(F47,2) | P47: =LEFT(F47,3) | U47: =V47&"-"&X47 -> 66312-561 | V47: 66312 | W47: Tekuće donacije od neprofitnih organizacija | X47: 561 | Y47: Europski socijalni fond plus – predfinanciranje iz izvora 11 Opći prihodi i primici | Z47: =LEFT(V47,3) -> 663 | AA47: =LEFT(V47,2) -> 66 | AB47: 561
A48: =IF(E48="","",VLOOKUP('OPĆI DIO'!$C$1,'OPĆI DIO'!$N$4:$W$150,10,FALSE)) | B48: =IF(E48="","",VLOOKUP('OPĆI DIO'!$C$1,'OPĆI DIO'!$N$4:$W$150,9,FALSE)) | C48: =IFERROR(VLOOKUP(G48,$U$6:$AB$538,8,FALSE),"") | E48: =IFERROR(VLOOKUP(G48,$U$6:$AB$538,5,FALSE),"") | F48: =IFERROR(VLOOKUP(G48,$U$6:$AB$538,2,FALSE),"") | H48: =IFERROR(VLOOKUP(G48,$U$6:$AB$538,3,FALSE),"") | N48: =IF(E48="","",'OPĆI DIO'!$C$1) | O48: =LEFT(F48,2) | P48: =LEFT(F48,3) | U48: =V48&"-"&X48 -> 66312-562 | V48: 66312 | W48: Tekuće donacije od neprofitnih organizacija | X48: 562 | Y48: Kohezijski fond - predfinanciranje iz izvora 11 Opći prihodi i primici | Z48: =LEFT(V48,3) -> 663 | AA48: =LEFT(V48,2) -> 66 | AB48: 562
A49: =IF(E49="","",VLOOKUP('OPĆI DIO'!$C$1,'OPĆI DIO'!$N$4:$W$150,10,FALSE)) | B49: =IF(E49="","",VLOOKUP('OPĆI DIO'!$C$1,'OPĆI DIO'!$N$4:$W$150,9,FALSE)) | C49: =IFERROR(VLOOKUP(G49,$U$6:$AB$538,8,FALSE),"") | E49: =IFERROR(VLOOKUP(G49,$U$6:$AB$538,5,FALSE),"") | F49: =IFERROR(VLOOKUP(G49,$U$6:$AB$538,2,FALSE),"") | H49: =IFERROR(VLOOKUP(G49,$U$6:$AB$538,3,FALSE),"") | N49: =IF(E49="","",'OPĆI DIO'!$C$1) | O49: =LEFT(F49,2) | P49: =LEFT(F49,3) | U49: =V49&"-"&X49 -> 66312-563 | V49: 66312 | W49: Tekuće donacije od neprofitnih organizacija | X49: 563 | Y49: Europski fond za regionalni razvoj - predfinanciranje iz izvora 11 Opći prihodi i primici | Z49: =LEFT(V49,3) -> 663 | AA49: =LEFT(V49,2) -> 66 | AB49: 563
A50: =IF(E50="","",VLOOKUP('OPĆI DIO'!$C$1,'OPĆI DIO'!$N$4:$W$150,10,FALSE)) | B50: =IF(E50="","",VLOOKUP('OPĆI DIO'!$C$1,'OPĆI DIO'!$N$4:$W$150,9,FALSE)) | C50: =IFERROR(VLOOKUP(G50,$U$6:$AB$538,8,FALSE),"") | E50: =IFERROR(VLOOKUP(G50,$U$6:$AB$538,5,FALSE),"") | F50: =IFERROR(VLOOKUP(G50,$U$6:$AB$538,2,FALSE),"") | H50: =IFERROR(VLOOKUP(G50,$U$6:$AB$538,3,FALSE),"") | N50: =IF(E50="","",'OPĆI DIO'!$C$1) | O50: =LEFT(F50,2) | P50: =LEFT(F50,3) | U50: 66312-56331 | V50: 66312 | W50: Tekuće donacije od neprofitnih organizacija | X50: 56331 | Y50: Europski fond za regionalni razvoj - predfinanciranje iz izvora 31 Vlastiti prihodi | Z50: =LEFT(V50,3) -> 663 | AA50: =LEFT(V50,2) -> 66 | AB50: 56331
A51: =IF(E51="","",VLOOKUP('OPĆI DIO'!$C$1,'OPĆI DIO'!$N$4:$W$150,10,FALSE)) | B51: =IF(E51="","",VLOOKUP('OPĆI DIO'!$C$1,'OPĆI DIO'!$N$4:$W$150,9,FALSE)) | C51: =IFERROR(VLOOKUP(G51,$U$6:$AB$538,8,FALSE),"") | E51: =IFERROR(VLOOKUP(G51,$U$6:$AB$538,5,FALSE),"") | F51: =IFERROR(VLOOKUP(G51,$U$6:$AB$538,2,FALSE),"") | H51: =IFERROR(VLOOKUP(G51,$U$6:$AB$538,3,FALSE),"") | N51: =IF(E51="","",'OPĆI DIO'!$C$1) | O51: =LEFT(F51,2) | P51: =LEFT(F51,3) | U51: 66312-56343 | V51: 66312 | W51: Tekuće donacije od neprofitnih organizacija | X51: 56343 | Y51: Europski fond za regionalni razvoj - predfinanciranje iz izvora 43 Ostali prihodi za posebne namjene | Z51: =LEFT(V51,3) -> 663 | AA51: =LEFT(V51,2) -> 66 | AB51: 56343
A52: =IF(E52="","",VLOOKUP('OPĆI DIO'!$C$1,'OPĆI DIO'!$N$4:$W$150,10,FALSE)) | B52: =IF(E52="","",VLOOKUP('OPĆI DIO'!$C$1,'OPĆI DIO'!$N$4:$W$150,9,FALSE)) | C52: =IFERROR(VLOOKUP(G52,$U$6:$AB$538,8,FALSE),"") | E52: =IFERROR(VLOOKUP(G52,$U$6:$AB$538,5,FALSE),"") | F52: =IFERROR(VLOOKUP(G52,$U$6:$AB$538,2,FALSE),"") | H52: =IFERROR(VLOOKUP(G52,$U$6:$AB$538,3,FALSE),"") | N52: =IF(E52="","",'OPĆI DIO'!$C$1) | O52: =LEFT(F52,2) | P52: =LEFT(F52,3) | U52: =V52&"-"&X52 -> 66312-564 | V52: 66312 | W52: Tekuće donacije od neprofitnih organizacija | X52: 564 | Y52: Fond za pomorstvo, ribarstvo i akvakulturu - predfinanciranje iz izvora 11 Opći prihodi i primici | Z52: =LEFT(V52,3) -> 663 | AA52: =LEFT(V52,2) -> 66 | AB52: 564
A53: =IF(E53="","",VLOOKUP('OPĆI DIO'!$C$1,'OPĆI DIO'!$N$4:$W$150,10,FALSE)) | B53: =IF(E53="","",VLOOKUP('OPĆI DIO'!$C$1,'OPĆI DIO'!$N$4:$W$150,9,FALSE)) | C53: =IFERROR(VLOOKUP(G53,$U$6:$AB$538,8,FALSE),"") | E53: =IFERROR(VLOOKUP(G53,$U$6:$AB$538,5,FALSE),"") | F53: =IFERROR(VLOOKUP(G53,$U$6:$AB$538,2,FALSE),"") | H53: =IFERROR(VLOOKUP(G53,$U$6:$AB$538,3,FALSE),"") | N53: =IF(E53="","",'OPĆI DIO'!$C$1) | O53: =LEFT(F53,2) | P53: =LEFT(F53,3) | U53: =V53&"-"&X53 -> 66312-565 | V53: 66312 | W53: Tekuće donacije od neprofitnih organizacija | X53: 565 | Y53: Europski poljoprivredni fond za ruralni razvoj - predfinanciranje iz izvora 11 Opći prihodi i primici | Z53: =LEFT(V53,3) -> 663 | AA53: =LEFT(V53,2) -> 66 | AB53: 565
A54: =IF(E54="","",VLOOKUP('OPĆI DIO'!$C$1,'OPĆI DIO'!$N$4:$W$150,10,FALSE)) | B54: =IF(E54="","",VLOOKUP('OPĆI DIO'!$C$1,'OPĆI DIO'!$N$4:$W$150,9,FALSE)) | C54: =IFERROR(VLOOKUP(G54,$U$6:$AB$538,8,FALSE),"") | E54: =IFERROR(VLOOKUP(G54,$U$6:$AB$538,5,FALSE),"") | F54: =IFERROR(VLOOKUP(G54,$U$6:$AB$538,2,FALSE),"") | H54: =IFERROR(VLOOKUP(G54,$U$6:$AB$538,3,FALSE),"") | N54: =IF(E54="","",'OPĆI DIO'!$C$1) | O54: =LEFT(F54,2) | P54: =LEFT(F54,3) | U54: =V54&"-"&X54 -> 66312-566 | V54: 66312 | W54: Tekuće donacije od neprofitnih organizacija | X54: 566 | Y54: Modernizacijski fond - predfinanciranje iz izvora 11 Opći prihodi i primici | Z54: =LEFT(V54,3) -> 663 | AA54: =LEFT(V54,2) -> 66 | AB54: 566
A55: =IF(E55="","",VLOOKUP('OPĆI DIO'!$C$1,'OPĆI DIO'!$N$4:$W$150,10,FALSE)) | B55: =IF(E55="","",VLOOKUP('OPĆI DIO'!$C$1,'OPĆI DIO'!$N$4:$W$150,9,FALSE)) | C55: =IFERROR(VLOOKUP(G55,$U$6:$AB$538,8,FALSE),"") | E55: =IFERROR(VLOOKUP(G55,$U$6:$AB$538,5,FALSE),"") | F55: =IFERROR(VLOOKUP(G55,$U$6:$AB$538,2,FALSE),"") | H55: =IFERROR(VLOOKUP(G55,$U$6:$AB$538,3,FALSE),"") | N55: =IF(E55="","",'OPĆI DIO'!$C$1) | O55: =LEFT(F55,2) | P55: =LEFT(F55,3) | U55: =V55&"-"&X55 -> 66312-567 | V55: 66312 | W55: Tekuće donacije od neprofitnih organizacija | X55: 567 | Y55: Socijalni fond za klimatsku politiku - predfinanciranje iz izvora 11 Opći prihodi i primici | Z55: =LEFT(V55,3) -> 663 | AA55: =LEFT(V55,2) -> 66 | AB55: 567
A56: =IF(E56="","",VLOOKUP('OPĆI DIO'!$C$1,'OPĆI DIO'!$N$4:$W$150,10,FALSE)) | B56: =IF(E56="","",VLOOKUP('OPĆI DIO'!$C$1,'OPĆI DIO'!$N$4:$W$150,9,FALSE)) | C56: =IFERROR(VLOOKUP(G56,$U$6:$AB$538,8,FALSE),"") | E56: =IFERROR(VLOOKUP(G56,$U$6:$AB$538,5,FALSE),"") | F56: =IFERROR(VLOOKUP(G56,$U$6:$AB$538,2,FALSE),"") | H56: =IFERROR(VLOOKUP(G56,$U$6:$AB$538,3,FALSE),"") | N56: =IF(E56="","",'OPĆI DIO'!$C$1) | O56: =LEFT(F56,2) | P56: =LEFT(F56,3) | U56: =V56&"-"&X56 -> 66312-575 | V56: 66312 | W56: Tekuće donacije od neprofitnih organizacija | X56: 575 | Y56: Fond za azil, migracije i integraciju - predfinanciranje iz izvora 11 Opći prihodi i primici | Z56: =LEFT(V56,3) -> 663 | AA56: =LEFT(V56,2) -> 66 | AB56: 575
A57: =IF(E57="","",VLOOKUP('OPĆI DIO'!$C$1,'OPĆI DIO'!$N$4:$W$150,10,FALSE)) | B57: =IF(E57="","",VLOOKUP('OPĆI DIO'!$C$1,'OPĆI DIO'!$N$4:$W$150,9,FALSE)) | C57: =IFERROR(VLOOKUP(G57,$U$6:$AB$538,8,FALSE),"") | E57: =IFERROR(VLOOKUP(G57,$U$6:$AB$538,5,FALSE),"") | F57: =IFERROR(VLOOKUP(G57,$U$6:$AB$538,2,FALSE),"") | H57: =IFERROR(VLOOKUP(G57,$U$6:$AB$538,3,FALSE),"") | N57: =IF(E57="","",'OPĆI DIO'!$C$1) | O57: =LEFT(F57,2) | P57: =LEFT(F57,3) | U57: =V57&"-"&X57 -> 66312-577 | V57: 66312 | W57: Tekuće donacije od neprofitnih organizacija | X57: 577 | Y57: Fond za pravednu tranziciju - predfinanciranje iz izvora 11 Opći prihodi i primici | Z57: =LEFT(V57,3) -> 663 | AA57: =LEFT(V57,2) -> 66 | AB57: 577
A58: =IF(E58="","",VLOOKUP('OPĆI DIO'!$C$1,'OPĆI DIO'!$N$4:$W$150,10,FALSE)) | B58: =IF(E58="","",VLOOKUP('OPĆI DIO'!$C$1,'OPĆI DIO'!$N$4:$W$150,9,FALSE)) | C58: =IFERROR(VLOOKUP(G58,$U$6:$AB$538,8,FALSE),"") | E58: =IFERROR(VLOOKUP(G58,$U$6:$AB$538,5,FALSE),"") | F58: =IFERROR(VLOOKUP(G58,$U$6:$AB$538,2,FALSE),"") | H58: =IFERROR(VLOOKUP(G58,$U$6:$AB$538,3,FALSE),"") | N58: =IF(E58="","",'OPĆI DIO'!$C$1) | O58: =LEFT(F58,2) | P58: =LEFT(F58,3) | U58: =V58&"-"&X58 -> 66312-578 | V58: 66312 | W58: Tekuće donacije od neprofitnih organizacija | X58: 578 | Y58: Fond za unutarnju sigurnost - predfinanciranje iz izvora 11 Opći prihodi i primici | Z58: =LEFT(V58,3) -> 663 | AA58: =LEFT(V58,2) -> 66 | AB58: 578
A59: =IF(E59="","",VLOOKUP('OPĆI DIO'!$C$1,'OPĆI DIO'!$N$4:$W$150,10,FALSE)) | B59: =IF(E59="","",VLOOKUP('OPĆI DIO'!$C$1,'OPĆI DIO'!$N$4:$W$150,9,FALSE)) | C59: =IFERROR(VLOOKUP(G59,$U$6:$AB$538,8,FALSE),"") | E59: =IFERROR(VLOOKUP(G59,$U$6:$AB$538,5,FALSE),"") | F59: =IFERROR(VLOOKUP(G59,$U$6:$AB$538,2,FALSE),"") | H59: =IFERROR(VLOOKUP(G59,$U$6:$AB$538,3,FALSE),"") | N59: =IF(E59="","",'OPĆI DIO'!$C$1) | O59: =LEFT(F59,2) | P59: =LEFT(F59,3) | U59: =V59&"-"&X59 -> 66312-579 | V59: 66312 | W59: Tekuće donacije od neprofitnih organizacija | X59: 579 | Y59: Fond za integrirano upravljanje granicama - predfinanciranje iz izvora 11 Opći prihodi i primici | Z59: =LEFT(V59,3) -> 663 | AA59: =LEFT(V59,2) -> 66 | AB59: 579
A60: =IF(E60="","",VLOOKUP('OPĆI DIO'!$C$1,'OPĆI DIO'!$N$4:$W$150,10,FALSE)) | B60: =IF(E60="","",VLOOKUP('OPĆI DIO'!$C$1,'OPĆI DIO'!$N$4:$W$150,9,FALSE)) | C60: =IFERROR(VLOOKUP(G60,$U$6:$AB$538,8,FALSE),"") | E60: =IFERROR(VLOOKUP(G60,$U$6:$AB$538,5,FALSE),"") | F60: =IFERROR(VLOOKUP(G60,$U$6:$AB$538,2,FALSE),"") | H60: =IFERROR(VLOOKUP(G60,$U$6:$AB$538,3,FALSE),"") | N60: =IF(E60="","",'OPĆI DIO'!$C$1) | O60: =LEFT(F60,2) | P60: =LEFT(F60,3) | U60: =V60&"-"&X60 -> 66312-581 | V60: 66312 | W60: Tekuće donacije od neprofitnih organizacija | X60: 581 | Y60: Mehanizam za oporavak i otpornost – bespovratna sredstva – raspoloživ predujam ili unaprijed naplaćen prihod | Z60: =LEFT(V60,3) -> 663 | AA60: =LEFT(V60,2) -> 66 | AB60: 581
A61: =IF(E61="","",VLOOKUP('OPĆI DIO'!$C$1,'OPĆI DIO'!$N$4:$W$150,10,FALSE)) | B61: =IF(E61="","",VLOOKUP('OPĆI DIO'!$C$1,'OPĆI DIO'!$N$4:$W$150,9,FALSE)) | C61: =IFERROR(VLOOKUP(G61,$U$6:$AB$538,8,FALSE),"") | E61: =IFERROR(VLOOKUP(G61,$U$6:$AB$538,5,FALSE),"") | F61: =IFERROR(VLOOKUP(G61,$U$6:$AB$538,2,FALSE),"") | H61: =IFERROR(VLOOKUP(G61,$U$6:$AB$538,3,FALSE),"") | N61: =IF(E61="","",'OPĆI DIO'!$C$1) | O61: =LEFT(F61,2) | P61: =LEFT(F61,3) | U61: =V61&"-"&X61 -> 66312-61 | V61: 66312 | W61: Tekuće donacije od neprofitnih organizacija | X61: 61 | Y61: Donacije | Z61: =LEFT(V61,3) -> 663 | AA61: =LEFT(V61,2) -> 66 | AB61: 61
A62: =IF(E62="","",VLOOKUP('OPĆI DIO'!$C$1,'OPĆI DIO'!$N$4:$W$150,10,FALSE)) | B62: =IF(E62="","",VLOOKUP('OPĆI DIO'!$C$1,'OPĆI DIO'!$N$4:$W$150,9,FALSE)) | C62: =IFERROR(VLOOKUP(G62,$U$6:$AB$538,8,FALSE),"") | E62: =IFERROR(VLOOKUP(G62,$U$6:$AB$538,5,FALSE),"") | F62: =IFERROR(VLOOKUP(G62,$U$6:$AB$538,2,FALSE),"") | H62: =IFERROR(VLOOKUP(G62,$U$6:$AB$538,3,FALSE),"") | N62: =IF(E62="","",'OPĆI DIO'!$C$1) | O62: =LEFT(F62,2) | P62: =LEFT(F62,3) | U62: =V62&"-"&X62 -> 66313-561 | V62: 66313 | W62: Tekuće donacije od trgovačkih društava | X62: 561 | Y62: Europski socijalni fond plus – predfinanciranje iz izvora 11 Opći prihodi i primici | Z62: =LEFT(V62,3) -> 663 | AA62: =LEFT(V62,2) -> 66 | AB62: 561
A63: =IF(E63="","",VLOOKUP('OPĆI DIO'!$C$1,'OPĆI DIO'!$N$4:$W$150,10,FALSE)) | B63: =IF(E63="","",VLOOKUP('OPĆI DIO'!$C$1,'OPĆI DIO'!$N$4:$W$150,9,FALSE)) | C63: =IFERROR(VLOOKUP(G63,$U$6:$AB$538,8,FALSE),"") | E63: =IFERROR(VLOOKUP(G63,$U$6:$AB$538,5,FALSE),"") | F63: =IFERROR(VLOOKUP(G63,$U$6:$AB$538,2,FALSE),"") | H63: =IFERROR(VLOOKUP(G63,$U$6:$AB$538,3,FALSE),"") | N63: =IF(E63="","",'OPĆI DIO'!$C$1) | O63: =LEFT(F63,2) | P63: =LEFT(F63,3) | U63: =V63&"-"&X63 -> 66313-562 | V63: 66313 | W63: Tekuće donacije od trgovačkih društava | X63: 562 | Y63: Kohezijski fond - predfinanciranje iz izvora 11 Opći prihodi i primici | Z63: =LEFT(V63,3) -> 663 | AA63: =LEFT(V63,2) -> 66 | AB63: 562
A64: =IF(E64="","",VLOOKUP('OPĆI DIO'!$C$1,'OPĆI DIO'!$N$4:$W$150,10,FALSE)) | B64: =IF(E64="","",VLOOKUP('OPĆI DIO'!$C$1,'OPĆI DIO'!$N$4:$W$150,9,FALSE)) | C64: =IFERROR(VLOOKUP(G64,$U$6:$AB$538,8,FALSE),"") | E64: =IFERROR(VLOOKUP(G64,$U$6:$AB$538,5,FALSE),"") | F64: =IFERROR(VLOOKUP(G64,$U$6:$AB$538,2,FALSE),"") | H64: =IFERROR(VLOOKUP(G64,$U$6:$AB$538,3,FALSE),"") | N64: =IF(E64="","",'OPĆI DIO'!$C$1) | O64: =LEFT(F64,2) | P64: =LEFT(F64,3) | T64: EVT | U64: =V64&"-"&X64 -> 66313-563 | V64: 66313 | W64: Tekuće donacije od trgovačkih društava | X64: 563 | Y64: Europski fond za regionalni razvoj - predfinanciranje iz izvora 11 Opći prihodi i primici | Z64: =LEFT(V64,3) -> 663 | AA64: =LEFT(V64,2) -> 66 | AB64: 563
A65: =IF(E65="","",VLOOKUP('OPĆI DIO'!$C$1,'OPĆI DIO'!$N$4:$W$150,10,FALSE)) | B65: =IF(E65="","",VLOOKUP('OPĆI DIO'!$C$1,'OPĆI DIO'!$N$4:$W$150,9,FALSE)) | C65: =IFERROR(VLOOKUP(G65,$U$6:$AB$538,8,FALSE),"") | E65: =IFERROR(VLOOKUP(G65,$U$6:$AB$538,5,FALSE),"") | F65: =IFERROR(VLOOKUP(G65,$U$6:$AB$538,2,FALSE),"") | H65: =IFERROR(VLOOKUP(G65,$U$6:$AB$538,3,FALSE),"") | N65: =IF(E65="","",'OPĆI DIO'!$C$1) | O65: =LEFT(F65,2) | P65: =LEFT(F65,3) | T65: EVT | U65: 66313-56331 | V65: 66313 | W65: Tekuće donacije od trgovačkih društava | X65: 56331 | Y65: Europski fond za regionalni razvoj - predfinanciranje iz izvora 31 Vlastiti prihodi | Z65: =LEFT(V65,3) -> 663 | AA65: =LEFT(V65,2) -> 66 | AB65: 56331
A66: =IF(E66="","",VLOOKUP('OPĆI DIO'!$C$1,'OPĆI DIO'!$N$4:$W$150,10,FALSE)) | B66: =IF(E66="","",VLOOKUP('OPĆI DIO'!$C$1,'OPĆI DIO'!$N$4:$W$150,9,FALSE)) | C66: =IFERROR(VLOOKUP(G66,$U$6:$AB$538,8,FALSE),"") | E66: =IFERROR(VLOOKUP(G66,$U$6:$AB$538,5,FALSE),"") | F66: =IFERROR(VLOOKUP(G66,$U$6:$AB$538,2,FALSE),"") | H66: =IFERROR(VLOOKUP(G66,$U$6:$AB$538,3,FALSE),"") | N66: =IF(E66="","",'OPĆI DIO'!$C$1) | O66: =LEFT(F66,2) | P66: =LEFT(F66,3) | T66: EVT | U66: 66313-56343 | V66: 66313 | W66: Tekuće donacije od trgovačkih društava | X66: 56343 | Y66: Europski fond za regionalni razvoj - predfinanciranje iz izvora 43 Ostali prihodi za posebne namjene | Z66: =LEFT(V66,3) -> 663 | AA66: =LEFT(V66,2) -> 66 | AB66: 56343
...

Sheet Unos rashoda i izdataka
A1: Plan za unos u SAP - rashodi i izdaci | F1: =IF(OR('[3]OPĆI DIO'!C1="odaberite -",'[3]OPĆI DIO'!C1=""),"Molimo odaberite proračunskog korisnika na radnom listu Opći podaci!","") -> Molimo odaberite proračunskog korisnika na radnom listu Opći podaci! | M1: u EUR
A2: GLAVA | B2: OPIS GLAVE | C2: IZVOR NA TERET | D2: IZVOR (odaberite) | E2: OPIS IZVORA | F2: Stavka (odaberite) | G2: OPIS STAVKE | H2: AKTIVNOST (odaberite) | I2: OPIS AKTIVNOSTI | J2: FP | K2: PLAN 2027. | L2: PROJEKCIJA 2028. | M2: PROJEKCIJA 2029. | N2: Primatelj prijenosa | O2: Ustanova | P2: left3 | Q2: left2 | R2: leftIzvor | S2: mid | T2: left1 | U2: IzvorKrovno
A3: =IF(D3="","",VLOOKUP('OPĆI DIO'!$C$1,'OPĆI DIO'!$N$4:$W$150,10,FALSE)) -> 08091 | B3: =IF(D3="","",VLOOKUP('OPĆI DIO'!$C$1,'OPĆI DIO'!$N$4:$W$150,9,FALSE)) -> Agencije | C3: =IFERROR(VLOOKUP(D3,$V$6:$X$36,3,FALSE),"") -> 11 | D3: 11 | E3: =IFERROR(VLOOKUP(D3,$V$6:$W$37,2,FALSE),"") -> Opći prihodi i primici | F3: 3111 | G3: =IFERROR(VLOOKUP(F3,$Y$5:$AA$129,2,FALSE),"") -> Plaće za redovan rad | H3: A580046 | I3: =IFERROR(VLOOKUP(H3,$AE$6:$AF$349,2,FALSE),"") -> ADMINISTRACIJA I UPRAVLJANJE NACIONALNOG CENTRA ZA VANJSKO VREDNOVANJE OBRAZOVANJA | J3: =IFERROR(VLOOKUP(H3,$AE$6:$AI$350,3,FALSE),"") -> 0970 | K3: 2142000 | L3: 2142000 | M3: 2142000 | O3: =IF(D3="","",'OPĆI DIO'!$C$1) -> 40883 NACIONALNI CENTAR ZA VANJSKO VREDNOVANJE OBRAZOVANJA | P3: =LEFT(F3,3) -> 311 | Q3: =LEFT(F3,2) -> 31 | R3: =LEFT(C3,3) -> 11 | S3: =MID(J3,2,2) -> 97 | T3: =LEFT(F3,1) -> 3 | U3: =IFERROR(VLOOKUP(C3,$V$6:$X$36,3,FALSE),"") -> 11
A4: =IF(D4="","",VLOOKUP('OPĆI DIO'!$C$1,'OPĆI DIO'!$N$4:$W$150,10,FALSE)) -> 08091 | B4: =IF(D4="","",VLOOKUP('OPĆI DIO'!$C$1,'OPĆI DIO'!$N$4:$W$150,9,FALSE)) -> Agencije | C4: =IFERROR(VLOOKUP(D4,$V$6:$X$36,3,FALSE),"") -> 11 | D4: 11 | E4: =IFERROR(VLOOKUP(D4,$V$6:$W$37,2,FALSE),"") -> Opći prihodi i primici | F4: 3113 | G4: =IFERROR(VLOOKUP(F4,$Y$5:$AA$129,2,FALSE),"") -> Plaće za prekovremeni rad | H4: A580046 | I4: =IFERROR(VLOOKUP(H4,$AE$6:$AF$349,2,FALSE),"") -> ADMINISTRACIJA I UPRAVLJANJE NACIONALNOG CENTRA ZA VANJSKO VREDNOVANJE OBRAZOVANJA | J4: =IFERROR(VLOOKUP(H4,$AE$6:$AI$350,3,FALSE),"") -> 0970 | K4: 21000 | L4: 21000 | M4: 21000 | O4: =IF(D4="","",'OPĆI DIO'!$C$1) -> 40883 NACIONALNI CENTAR ZA VANJSKO VREDNOVANJE OBRAZOVANJA | P4: =LEFT(F4,3) -> 311 | Q4: =LEFT(F4,2) -> 31 | R4: =LEFT(C4,3) -> 11 | S4: =MID(J4,2,2) -> 97 | T4: =LEFT(F4,1) -> 3 | U4: =IFERROR(VLOOKUP(C4,$V$6:$X$36,3,FALSE),"") -> 11
A5: =IF(D5="","",VLOOKUP('OPĆI DIO'!$C$1,'OPĆI DIO'!$N$4:$W$150,10,FALSE)) -> 08091 | B5: =IF(D5="","",VLOOKUP('OPĆI DIO'!$C$1,'OPĆI DIO'!$N$4:$W$150,9,FALSE)) -> Agencije | C5: =IFERROR(VLOOKUP(D5,$V$6:$X$36,3,FALSE),"") -> 11 | D5: 11 | E5: =IFERROR(VLOOKUP(D5,$V$6:$W$37,2,FALSE),"") -> Opći prihodi i primici | F5: 3121 | G5: =IFERROR(VLOOKUP(F5,$Y$5:$AA$129,2,FALSE),"") -> Ostali rashodi za zaposlene | H5: A580046 | I5: =IFERROR(VLOOKUP(H5,$AE$6:$AF$349,2,FALSE),"") -> ADMINISTRACIJA I UPRAVLJANJE NACIONALNOG CENTRA ZA VANJSKO VREDNOVANJE OBRAZOVANJA | J5: =IFERROR(VLOOKUP(H5,$AE$6:$AI$350,3,FALSE),"") -> 0970 | K5: 84000 | L5: 84000 | M5: 84000 | O5: =IF(D5="","",'OPĆI DIO'!$C$1) -> 40883 NACIONALNI CENTAR ZA VANJSKO VREDNOVANJE OBRAZOVANJA | P5: =LEFT(F5,3) -> 312 | Q5: =LEFT(F5,2) -> 31 | R5: =LEFT(C5,3) -> 11 | S5: =MID(J5,2,2) -> 97 | T5: =LEFT(F5,1) -> 3 | U5: =IFERROR(VLOOKUP(C5,$V$6:$X$36,3,FALSE),"") -> 11 | V5: IZVOR | W5: OPIS IZVORA | Y5: 3111 | Z5: Plaće za redovan rad | AB5: =LEFT(Y5,2) -> 31 | AC5: =LEFT(Y5,3) -> 311 | AE5: AKTIVNOST | AF5: OPIS AKTIVNOSTI
A6: =IF(D6="","",VLOOKUP('OPĆI DIO'!$C$1,'OPĆI DIO'!$N$4:$W$150,10,FALSE)) -> 08091 | B6: =IF(D6="","",VLOOKUP('OPĆI DIO'!$C$1,'OPĆI DIO'!$N$4:$W$150,9,FALSE)) -> Agencije | C6: =IFERROR(VLOOKUP(D6,$V$6:$X$36,3,FALSE),"") -> 11 | D6: 11 | E6: =IFERROR(VLOOKUP(D6,$V$6:$W$37,2,FALSE),"") -> Opći prihodi i primici | F6: 3132 | G6: =IFERROR(VLOOKUP(F6,$Y$5:$AA$129,2,FALSE),"") -> Doprinosi za obvezno zdravstveno osiguranje | H6: A580046 | I6: =IFERROR(VLOOKUP(H6,$AE$6:$AF$349,2,FALSE),"") -> ADMINISTRACIJA I UPRAVLJANJE NACIONALNOG CENTRA ZA VANJSKO VREDNOVANJE OBRAZOVANJA | J6: =IFERROR(VLOOKUP(H6,$AE$6:$AI$350,3,FALSE),"") -> 0970 | K6: 357000 | L6: 357000 | M6: 357000 | O6: =IF(D6="","",'OPĆI DIO'!$C$1) -> 40883 NACIONALNI CENTAR ZA VANJSKO VREDNOVANJE OBRAZOVANJA | P6: =LEFT(F6,3) -> 313 | Q6: =LEFT(F6,2) -> 31 | R6: =LEFT(C6,3) -> 11 | S6: =MID(J6,2,2) -> 97 | T6: =LEFT(F6,1) -> 3 | U6: =IFERROR(VLOOKUP(C6,$V$6:$X$36,3,FALSE),"") -> 11 | V6: 11 | W6: Opći prihodi i primici | X6: 11 | Y6: 3112 | Z6: Plaće u naravi | AB6: =LEFT(Y6,2) -> 31 | AC6: =LEFT(Y6,3) -> 311 | AE6: Podprogram (P3) | AF6: Naziv P3 | AG6: Funkcijsko područje | AH6: Naziv FP | AI6: NOVA AKT | AJ6: NOVA AKT
A7: =IF(D7="","",VLOOKUP('OPĆI DIO'!$C$1,'OPĆI DIO'!$N$4:$W$150,10,FALSE)) -> 08091 | B7: =IF(D7="","",VLOOKUP('OPĆI DIO'!$C$1,'OPĆI DIO'!$N$4:$W$150,9,FALSE)) -> Agencije | C7: =IFERROR(VLOOKUP(D7,$V$6:$X$36,3,FALSE),"") -> 11 | D7: 11 | E7: =IFERROR(VLOOKUP(D7,$V$6:$W$37,2,FALSE),"") -> Opći prihodi i primici | F7: 3211 | G7: =IFERROR(VLOOKUP(F7,$Y$5:$AA$129,2,FALSE),"") -> Službena putovanja | H7: A580046 | I7: =IFERROR(VLOOKUP(H7,$AE$6:$AF$349,2,FALSE),"") -> ADMINISTRACIJA I UPRAVLJANJE NACIONALNOG CENTRA ZA VANJSKO VREDNOVANJE OBRAZOVANJA | J7: =IFERROR(VLOOKUP(H7,$AE$6:$AI$350,3,FALSE),"") -> 0970 | K7: 25000 | L7: 25000 | M7: 25000 | O7: =IF(D7="","",'OPĆI DIO'!$C$1) -> 40883 NACIONALNI CENTAR ZA VANJSKO VREDNOVANJE OBRAZOVANJA | P7: =LEFT(F7,3) -> 321 | Q7: =LEFT(F7,2) -> 32 | R7: =LEFT(C7,3) -> 11 | S7: =MID(J7,2,2) -> 97 | T7: =LEFT(F7,1) -> 3 | U7: =IFERROR(VLOOKUP(C7,$V$6:$X$36,3,FALSE),"") -> 11 | V7: 12 | W7: Sredstva učešća za pomoći | X7: 12 | Y7: 3113 | Z7: Plaće za prekovremeni rad | AB7: =LEFT(Y7,2) -> 31 | AC7: =LEFT(Y7,3) -> 311 | AE7: A557041 | AF7: PREUZIMANJE OBVEZA ZA PROJEKTE JAVNO PRIVATNOG PARTNERSTVA U VARAŽDINSKOJ I KOPRIVNIČKO-KRIŽEVAČKOJ ŽUPANIJI | AG7: 0912 | AH7: Osnovno obrazovanje | AI7: =LEFT(AG7,2) -> 09 | AJ7: =LEFT(AG7,3) -> 091
A8: =IF(D8="","",VLOOKUP('OPĆI DIO'!$C$1,'OPĆI DIO'!$N$4:$W$150,10,FALSE)) -> 08091 | B8: =IF(D8="","",VLOOKUP('OPĆI DIO'!$C$1,'OPĆI DIO'!$N$4:$W$150,9,FALSE)) -> Agencije | C8: =IFERROR(VLOOKUP(D8,$V$6:$X$36,3,FALSE),"") -> 11 | D8: 11 | E8: =IFERROR(VLOOKUP(D8,$V$6:$W$37,2,FALSE),"") -> Opći prihodi i primici | F8: 3212 | G8: =IFERROR(VLOOKUP(F8,$Y$5:$AA$129,2,FALSE),"") -> Naknade za prijevoz, za rad na terenu i odvojeni život | H8: A580046 | I8: =IFERROR(VLOOKUP(H8,$AE$6:$AF$349,2,FALSE),"") -> ADMINISTRACIJA I UPRAVLJANJE NACIONALNOG CENTRA ZA VANJSKO VREDNOVANJE OBRAZOVANJA | J8: =IFERROR(VLOOKUP(H8,$AE$6:$AI$350,3,FALSE),"") -> 0970 | K8: 50000 | L8: 50000 | M8: 50000 | O8: =IF(D8="","",'OPĆI DIO'!$C$1) -> 40883 NACIONALNI CENTAR ZA VANJSKO VREDNOVANJE OBRAZOVANJA | P8: =LEFT(F8,3) -> 321 | Q8: =LEFT(F8,2) -> 32 | R8: =LEFT(C8,3) -> 11 | S8: =MID(J8,2,2) -> 97 | T8: =LEFT(F8,1) -> 3 | U8: =IFERROR(VLOOKUP(C8,$V$6:$X$36,3,FALSE),"") -> 11 | V8: 31 | W8: Vlastiti prihodi | X8: 31 | Y8: 3114 | Z8: Plaće za posebne uvjete rada | AB8: =LEFT(Y8,2) -> 31 | AC8: =LEFT(Y8,3) -> 311 | AE8: A557043 | AF8: NACIONALNO VIJEĆE ZA ODGOJ I OBRAZOVANJE | AG8: 0970 | AH8: Istraživanje i razvoj obrazovanja | AI8: =LEFT(AG8,2) -> 09 | AJ8: =LEFT(AG8,3) -> 097
A9: =IF(D9="","",VLOOKUP('OPĆI DIO'!$C$1,'OPĆI DIO'!$N$4:$W$150,10,FALSE)) -> 08091 | B9: =IF(D9="","",VLOOKUP('OPĆI DIO'!$C$1,'OPĆI DIO'!$N$4:$W$150,9,FALSE)) -> Agencije | C9: =IFERROR(VLOOKUP(D9,$V$6:$X$36,3,FALSE),"") -> 11 | D9: 11 | E9: =IFERROR(VLOOKUP(D9,$V$6:$W$37,2,FALSE),"") -> Opći prihodi i primici | F9: 3213 | G9: =IFERROR(VLOOKUP(F9,$Y$5:$AA$129,2,FALSE),"") -> Stručno usavršavanje zaposlenika | H9: A580046 | I9: =IFERROR(VLOOKUP(H9,$AE$6:$AF$349,2,FALSE),"") -> ADMINISTRACIJA I UPRAVLJANJE NACIONALNOG CENTRA ZA VANJSKO VREDNOVANJE OBRAZOVANJA | J9: =IFERROR(VLOOKUP(H9,$AE$6:$AI$350,3,FALSE),"") -> 0970 | K9: 5000 | L9: 5000 | M9: 5000 | O9: =IF(D9="","",'OPĆI DIO'!$C$1) -> 40883 NACIONALNI CENTAR ZA VANJSKO VREDNOVANJE OBRAZOVANJA | P9: =LEFT(F9,3) -> 321 | Q9: =LEFT(F9,2) -> 32 | R9: =LEFT(C9,3) -> 11 | S9: =MID(J9,2,2) -> 97 | T9: =LEFT(F9,1) -> 3 | U9: =IFERROR(VLOOKUP(C9,$V$6:$X$36,3,FALSE),"") -> 11 | V9: 41 | W9: Prihodi od igara na sreću | X9: 41 | Y9: 3121 | Z9: Ostali rashodi za zaposlene | AB9: =LEFT(Y9,2) -> 31 | AC9: =LEFT(Y9,3) -> 312 | AE9: A558047 | AF9: POLITIKA ZA MLADE | AG9: 1040 | AH9: Obitelj i djeca | AI9: =LEFT(AG9,2) -> 10 | AJ9: =LEFT(AG9,3) -> 104
A10: =IF(D10="","",VLOOKUP('OPĆI DIO'!$C$1,'OPĆI DIO'!$N$4:$W$150,10,FALSE)) -> 08091 | B10: =IF(D10="","",VLOOKUP('OPĆI DIO'!$C$1,'OPĆI DIO'!$N$4:$W$150,9,FALSE)) -> Agencije | C10: =IFERROR(VLOOKUP(D10,$V$6:$X$36,3,FALSE),"") -> 11 | D10: 11 | E10: =IFERROR(VLOOKUP(D10,$V$6:$W$37,2,FALSE),"") -> Opći prihodi i primici | F10: 3214 | G10: =IFERROR(VLOOKUP(F10,$Y$5:$AA$129,2,FALSE),"") -> Ostale naknade troškova zaposlenima | H10: A580046 | I10: =IFERROR(VLOOKUP(H10,$AE$6:$AF$349,2,FALSE),"") -> ADMINISTRACIJA I UPRAVLJANJE NACIONALNOG CENTRA ZA VANJSKO VREDNOVANJE OBRAZOVANJA | J10: =IFERROR(VLOOKUP(H10,$AE$6:$AI$350,3,FALSE),"") -> 0970 | K10: 0 | L10: 0 | M10: 0 | O10: =IF(D10="","",'OPĆI DIO'!$C$1) -> 40883 NACIONALNI CENTAR ZA VANJSKO VREDNOVANJE OBRAZOVANJA | P10: =LEFT(F10,3) -> 321 | Q10: =LEFT(F10,2) -> 32 | R10: =LEFT(C10,3) -> 11 | S10: =MID(J10,2,2) -> 97 | T10: =LEFT(F10,1) -> 3 | U10: =IFERROR(VLOOKUP(C10,$V$6:$X$36,3,FALSE),"") -> 11 | V10: 43 | W10: Ostali prihodi za posebne namjene | X10: 43 | Y10: 3132 | Z10: Doprinosi za obvezno zdravstveno osiguranje | AB10: =LEFT(Y10,2) -> 31 | AC10: =LEFT(Y10,3) -> 313 | AE10: A558053 | AF10: POTPORA ZA PROGRAME USMJERENE MLADIMA | AG10: 1040 | AH10: Obitelj i djeca | AI10: =LEFT(AG10,2) -> 10 | AJ10: =LEFT(AG10,3) -> 104
A11: =IF(D11="","",VLOOKUP('OPĆI DIO'!$C$1,'OPĆI DIO'!$N$4:$W$150,10,FALSE)) -> 08091 | B11: =IF(D11="","",VLOOKUP('OPĆI DIO'!$C$1,'OPĆI DIO'!$N$4:$W$150,9,FALSE)) -> Agencije | C11: =IFERROR(VLOOKUP(D11,$V$6:$X$36,3,FALSE),"") -> 11 | D11: 11 | E11: =IFERROR(VLOOKUP(D11,$V$6:$W$37,2,FALSE),"") -> Opći prihodi i primici | F11: 3221 | G11: =IFERROR(VLOOKUP(F11,$Y$5:$AA$129,2,FALSE),"") -> Uredski materijal i ostali materijalni rashodi | H11: A580046 | I11: =IFERROR(VLOOKUP(H11,$AE$6:$AF$349,2,FALSE),"") -> ADMINISTRACIJA I UPRAVLJANJE NACIONALNOG CENTRA ZA VANJSKO VREDNOVANJE OBRAZOVANJA | J11: =IFERROR(VLOOKUP(H11,$AE$6:$AI$350,3,FALSE),"") -> 0970 | K11: 30000 | L11: 30000 | M11: 30000 | O11: =IF(D11="","",'OPĆI DIO'!$C$1) -> 40883 NACIONALNI CENTAR ZA VANJSKO VREDNOVANJE OBRAZOVANJA | P11: =LEFT(F11,3) -> 322 | Q11: =LEFT(F11,2) -> 32 | R11: =LEFT(C11,3) -> 11 | S11: =MID(J11,2,2) -> 97 | T11: =LEFT(F11,1) -> 3 | U11: =IFERROR(VLOOKUP(C11,$V$6:$X$36,3,FALSE),"") -> 11 | V11: 5011 | W11: 5011 Pomoći iz državnog proračuna kroz opće prihode i primitke | X11: 50 | Y11: 3211 | Z11: Službena putovanja | AB11: =LEFT(Y11,2) -> 32 | AC11: =LEFT(Y11,3) -> 321 | AE11: A577000 | AF11: ADMINISTRACIJA I UPRAVLJANJE | AG11: 0970 | AH11: Istraživanje i razvoj obrazovanja | AI11: =LEFT(AG11,2) -> 09 | AJ11: =LEFT(AG11,3) -> 097
A12: =IF(D12="","",VLOOKUP('OPĆI DIO'!$C$1,'OPĆI DIO'!$N$4:$W$150,10,FALSE)) -> 08091 | B12: =IF(D12="","",VLOOKUP('OPĆI DIO'!$C$1,'OPĆI DIO'!$N$4:$W$150,9,FALSE)) -> Agencije | C12: =IFERROR(VLOOKUP(D12,$V$6:$X$36,3,FALSE),"") -> 11 | D12: 11 | E12: =IFERROR(VLOOKUP(D12,$V$6:$W$37,2,FALSE),"") -> Opći prihodi i primici | F12: 3223 | G12: =IFERROR(VLOOKUP(F12,$Y$5:$AA$129,2,FALSE),"") -> Energija | H12: A580046 | I12: =IFERROR(VLOOKUP(H12,$AE$6:$AF$349,2,FALSE),"") -> ADMINISTRACIJA I UPRAVLJANJE NACIONALNOG CENTRA ZA VANJSKO VREDNOVANJE OBRAZOVANJA | J12: =IFERROR(VLOOKUP(H12,$AE$6:$AI$350,3,FALSE),"") -> 0970 | K12: 60000 | L12: 60000 | M12: 60000 | O12: =IF(D12="","",'OPĆI DIO'!$C$1) -> 40883 NACIONALNI CENTAR ZA VANJSKO VREDNOVANJE OBRAZOVANJA | P12: =LEFT(F12,3) -> 322 | Q12: =LEFT(F12,2) -> 32 | R12: =LEFT(C12,3) -> 11 | S12: =MID(J12,2,2) -> 97 | T12: =LEFT(F12,1) -> 3 | U12: =IFERROR(VLOOKUP(C12,$V$6:$X$36,3,FALSE),"") -> 11 | V12: 5012 | W12: 5012 Pomoći iz državnog proračuna kroz nacionalno sufinanciranje EU projekata | X12: 50 | Y12: 3212 | Z12: Naknade za prijevoz, za rad na terenu i odvojeni život | AB12: =LEFT(Y12,2) -> 32 | AC12: =LEFT(Y12,3) -> 321 | AE12: A577000 | AF12: ADMINISTRACIJA I UPRAVLJANJE | AG12: 0980 | AH12: Usluge obrazovanja koje nisu drugdje svrstane | AI12: =LEFT(AG12,2) -> 09 | AJ12: =LEFT(AG12,3) -> 098
A13: =IF(D13="","",VLOOKUP('OPĆI DIO'!$C$1,'OPĆI DIO'!$N$4:$W$150,10,FALSE)) -> 08091 | B13: =IF(D13="","",VLOOKUP('OPĆI DIO'!$C$1,'OPĆI DIO'!$N$4:$W$150,9,FALSE)) -> Agencije | C13: =IFERROR(VLOOKUP(D13,$V$6:$X$36,3,FALSE),"") -> 11 | D13: 11 | E13: =IFERROR(VLOOKUP(D13,$V$6:$W$37,2,FALSE),"") -> Opći prihodi i primici | F13: 3224 | G13: =IFERROR(VLOOKUP(F13,$Y$5:$AA$129,2,FALSE),"") -> Materijal i dijelovi za tekuće i investicijsko održavanje | H13: A580046 | I13: =IFERROR(VLOOKUP(H13,$AE$6:$AF$349,2,FALSE),"") -> ADMINISTRACIJA I UPRAVLJANJE NACIONALNOG CENTRA ZA VANJSKO VREDNOVANJE OBRAZOVANJA | J13: =IFERROR(VLOOKUP(H13,$AE$6:$AI$350,3,FALSE),"") -> 0970 | K13: 3000 | L13: 3000 | M13: 3000 | O13: =IF(D13="","",'OPĆI DIO'!$C$1) -> 40883 NACIONALNI CENTAR ZA VANJSKO VREDNOVANJE OBRAZOVANJA | P13: =LEFT(F13,3) -> 322 | Q13: =LEFT(F13,2) -> 32 | R13: =LEFT(C13,3) -> 11 | S13: =MID(J13,2,2) -> 97 | T13: =LEFT(F13,1) -> 3 | U13: =IFERROR(VLOOKUP(C13,$V$6:$X$36,3,FALSE),"") -> 11 | V13: 5031 | W13: 5031 Pomoći iz državnog proračuna kroz vlastite prihode | X13: 50 | Y13: 3213 | Z13: Stručno usavršavanje zaposlenika | AB13: =LEFT(Y13,2) -> 32 | AC13: =LEFT(Y13,3) -> 321 | AE13: A577004 | AF13: POTPORA UNAPREĐENJU SUSTAVA | AG13: 0970 | AH13: Istraživanje i razvoj obrazovanja | AI13: =LEFT(AG13,2) -> 09 | AJ13: =LEFT(AG13,3) -> 097
