Workbook
Name Excel_BuiltIn_Print_Titles_3: 'KORISNICI DP'!$A$1:$IK$2
Name Excel_BuiltIn_Print_Titles_3_1: 'KORISNICI DP'!$A$1:$IJ$2

Sheet OPĆI DIO
B1: RKP-NAZIV PRORAČUNSKOG KORISNIKA | C1: 40883 NACIONALNI CENTAR ZA VANJSKO VREDNOVANJE OBRAZOVANJA
B2: MJESTO I DATUM | C2: ZAGREB, 06.10.2026.
B3: OSOBA ZA KONTAKTIRANJE | C3: ANTE BORAS | M3: R. BR. | N3: RKPNaziv | O3: RKP | P3: NAZIV PRORAČUNSKOGA KORISNIKA | Q3: DODIJELI PRIPADNOST PREMA RKP-U: GLAVA I SVEUČILIŠTE/MZO | R3: ADRESA PRORAČUNSKOGA KORISNIKA | S3: POŠTANSKI BROJ I NAZIV GRADA/OPĆINE | T3: MATIČNI BROJ | U3: OIB | V3: Tip | W3: Glava
B4: TELEFON ZA KONTAKT | C4: 01/4501-804 | M4: 0 | N4: odaberite - | V4: - | W4: -
B5: E-MAIL ZA KONTAKT | C5: racunovodstvo@ncvvo.hr | M5: =+M4+1 -> 1 | N5: =O5&" "&P5 -> 1222 MINISTARSTVO ZNANOSTI, OBRAZOVANJA I MLADIH | O5: 1222 | P5: MINISTARSTVO ZNANOSTI, OBRAZOVANJA I MLADIH | R5: DONJE SVETICE 38 | S5: 10000 ZAGREB | T5: 3271030 | U5: 49508397045 | V5: MZO | W5: 08005
M6: =+M5+1 -> 2 | N6: =O6&" "&P6 -> 1757 SVEUČILIŠTE U ZAGREBU FAKULTET ELEKTROTEHNIKE I RAČUNARSTVA | O6: 1757 | P6: SVEUČILIŠTE U ZAGREBU FAKULTET ELEKTROTEHNIKE I RAČUNARSTVA | Q6: SVEUČILIŠTE U ZAGREBU | R6: UNSKA 3 | S6: 10000 ZAGREB | T6: 3276643 | U6: 57029260362 | V6: Sveučilišta i veleučilišta u Republici Hrvatskoj | W6: 08006
B7: FINANCIJSKI PLAN ZA 2027. I PROJEKCIJE ZA 2028. I 2029. GODINU | M7: =+M6+1 -> 3 | N7: =O7&" "&P7 -> 1781 SVEUČILIŠTE U ZAGREBU - PRIRODOSLOVNO-MATEMATIČKI FAKULTET | O7: 1781 | P7: SVEUČILIŠTE U ZAGREBU - PRIRODOSLOVNO-MATEMATIČKI FAKULTET | Q7: SVEUČILIŠTE U ZAGREBU | R7: HORVATOVAC 102A | S7: 10000 ZAGREB | T7: 3270149 | U7: 28163265527 | V7: Sveučilišta i veleučilišta u Republici Hrvatskoj | W7: 08006
M8: =+M7+1 -> 4 | N8: =O8&" "&P8 -> 1790 SVEUČILIŠTE U ZAGREBU FAKULTET KEMIJSKOG INŽENJERSTVA I TEHNOLOGIJE | O8: 1790 | P8: SVEUČILIŠTE U ZAGREBU FAKULTET KEMIJSKOG INŽENJERSTVA I TEHNOLOGIJE | Q8: SVEUČILIŠTE U ZAGREBU | R8: MARULIĆEV TRG 19 | S8: 10000 ZAGREB | T8: 3250270 | U8: 71259740533 | V8: Sveučilišta i veleučilišta u Republici Hrvatskoj | W8: 08006
B9: I. OPĆI DIO | M9: =+M8+1 -> 5 | N9: =O9&" "&P9 -> 1804 SVEUČILIŠTE U ZAGREBU - TEKSTILNO-TEHNOLOŠKI FAKULTET | O9: 1804 | P9: SVEUČILIŠTE U ZAGREBU - TEKSTILNO-TEHNOLOŠKI FAKULTET | Q9: SVEUČILIŠTE U ZAGREBU | R9: PRILAZ BARUNA FILIPOVIĆA 28A | S9: 10000 ZAGREB | T9: 3207064 | U9: 43097527965 | V9: Sveučilišta i veleučilišta u Republici Hrvatskoj | W9: 08006
M10: =+M9+1 -> 6 | N10: =O10&" "&P10 -> 1812 Sveučilište u Zagrebu FAKULTET PROMETNIH ZNANOSTI | O10: 1812 | P10: Sveučilište u Zagrebu FAKULTET PROMETNIH ZNANOSTI | Q10: SVEUČILIŠTE U ZAGREBU | R10: VUKELIĆEVA 4 | S10: 10000 ZAGREB | T10: 3260771 | U10: 25410051374 | V10: Sveučilišta i veleučilišta u Republici Hrvatskoj | W10: 08006
B11: A. SAŽETAK RAČUNA PRIHODA I RASHODA | M11: =+M10+1 -> 7 | N11: =O11&" "&P11 -> 1829 SVEUČILIŠTE U ZAGREBU, FAKULTET STROJARSTVA I BRODOGRADNJE | O11: 1829 | P11: SVEUČILIŠTE U ZAGREBU, FAKULTET STROJARSTVA I BRODOGRADNJE | Q11: SVEUČILIŠTE U ZAGREBU | R11: IVANA LUČIĆA 5 | S11: 10000 ZAGREB | T11: 3276546 | U11: 22910368449 | V11: Sveučilišta i veleučilišta u Republici Hrvatskoj | W11: 08006
G12: u EUR | M12: =+M11+1 -> 8 | N12: =O12&" "&P12 -> 1837 SVEUČILIŠTE U ZAGREBU GRAĐEVINSKI FAKULTET | O12: 1837 | P12: SVEUČILIŠTE U ZAGREBU GRAĐEVINSKI FAKULTET | Q12: SVEUČILIŠTE U ZAGREBU | R12: FRA ANDRIJE KAČIĆA MIOŠIĆA 26 | S12: 10000 ZAGREB | T12: 3227120 | U12: 62924153420 | V12: Sveučilišta i veleučilišta u Republici Hrvatskoj | W12: 08006
C13: IZVRŠENJE 2025. | D13: TEKUĆI PLAN 2026. | E13: PLAN 2027. | F13: PROJEKCIJA 2028. | G13: PROJEKCIJA 2029. | M13: =+M12+1 -> 9 | N13: =O13&" "&P13 -> 1845 SVEUČILIŠTE U ZAGREBU PREHRAMBENO-BIOTEHNOLOŠKI FAKULTET | O13: 1845 | P13: SVEUČILIŠTE U ZAGREBU PREHRAMBENO-BIOTEHNOLOŠKI FAKULTET | Q13: SVEUČILIŠTE U ZAGREBU | R13: PIEROTTIJEVA 6 | S13: 10000 ZAGREB | T13: 3207102 | U13: 47824453867 | V13: Sveučilišta i veleučilišta u Republici Hrvatskoj | W13: 08006
A14: 6 | B14: PRIHODI POSLOVANJA | C14: 14909030 | D14: 14560994 | E14: ='A.1 PRIHODI I RASHODI EK'!D11 -> 16037969 | F14: ='A.1 PRIHODI I RASHODI EK'!E11 -> 16045367 | G14: ='A.1 PRIHODI I RASHODI EK'!F11 -> 16045367 | M14: =+M13+1 -> 10 | N14: =O14&" "&P14 -> 1853 SVEUČILIŠTE U ZAGREBU - GEODETSKI FAKULTET | O14: 1853 | P14: SVEUČILIŠTE U ZAGREBU - GEODETSKI FAKULTET | Q14: SVEUČILIŠTE U ZAGREBU | R14: A. KAČIĆA MIOŠIĆA 26 | S14: 10000 ZAGREB | T14: 3204987 | U14: 43594593297 | V14: Sveučilišta i veleučilišta u Republici Hrvatskoj | W14: 08006
A15: 7 | B15: PRIHODI OD NEFINANCIJSKE IMOVINE | C15: 0 | D15: 0 | E15: ='A.1 PRIHODI I RASHODI EK'!D19 -> 0 | F15: ='A.1 PRIHODI I RASHODI EK'!E19 -> 0 | G15: ='A.1 PRIHODI I RASHODI EK'!F19 -> 0 | M15: =+M14+1 -> 11 | N15: =O15&" "&P15 -> 1861 SVEUČILIŠTE U ZAGREBU - ARHITEKTONSKI FAKULTET | O15: 1861 | P15: SVEUČILIŠTE U ZAGREBU - ARHITEKTONSKI FAKULTET | Q15: SVEUČILIŠTE U ZAGREBU | R15: KAČIĆEVA 26 | S15: 10000 ZAGREB | T15: 3204952 | U15: 42061107444 | V15: Sveučilišta i veleučilišta u Republici Hrvatskoj | W15: 08006
B16: PRIHODI UKUPNO | C16: =SUM(C14:C15) -> 14909030 | D16: =SUM(D14:D15) -> 14560994 | E16: =SUM(E14:E15) -> 16037969 | F16: =+F14+F15 -> 16045367 | G16: =+G14+G15 -> 16045367 | M16: =+M15+1 -> 12 | N16: =O16&" "&P16 -> 1870 SVEUČILIŠTE U ZAGREBU STOMATOLOŠKI FAKULTET | O16: 1870 | P16: SVEUČILIŠTE U ZAGREBU STOMATOLOŠKI FAKULTET | Q16: SVEUČILIŠTE U ZAGREBU | R16: GUNDULIĆEVA 5 | S16: 10000 ZAGREB | T16: 3204995 | U16: 70221464726 | V16: Sveučilišta i veleučilišta u Republici Hrvatskoj | W16: 08006
A17: 3 | B17: RASHODI POSLOVANJA | C17: =IFERROR(VLOOKUP("3",[1]FP0002PRR!$A$3:$F$7,6,FALSE),0) -> 14596266 | D17: =IFERROR(VLOOKUP("3",[2]FP0002PRR!$A$3:$F$7,5,FALSE),0) -> 14235994 | E17: ='A.1 PRIHODI I RASHODI EK'!D27 -> 15984469 | F17: ='A.1 PRIHODI I RASHODI EK'!E27 -> 15991867 | G17: ='A.1 PRIHODI I RASHODI EK'!F27 -> 15991867 | M17: =+M16+1 -> 13 | N17: =O17&" "&P17 -> 1888 SVEUČILIŠTE U ZAGREBU, MEDICINSKI FAKULTET | O17: 1888 | P17: SVEUČILIŠTE U ZAGREBU, MEDICINSKI FAKULTET | Q17: SVEUČILIŠTE U ZAGREBU | R17: ŠALATA 3 | S17: 10000 ZAGREB | T17: 3270211 | U17: 45001686598 | V17: Sveučilišta i veleučilišta u Republici Hrvatskoj | W17: 08006
A18: 4 | B18: RASHODI ZA NEFINANCIJSKU IMOVINU | C18: =IFERROR(VLOOKUP("4",[1]FP0002PRR!$A$3:$F$7,6,FALSE),0) -> 570952.56 | D18: =IFERROR(VLOOKUP("4",[2]FP0002PRR!$A$3:$F$7,5,FALSE),0) -> 325000 | E18: ='A.1 PRIHODI I RASHODI EK'!D35 -> 53500 | F18: ='A.1 PRIHODI I RASHODI EK'!E35 -> 53500 | G18: ='A.1 PRIHODI I RASHODI EK'!F35 -> 53500 | M18: =+M17+1 -> 14 | N18: =O18&" "&P18 -> 1896 SVEUČILIŠTE U ZAGREBU FAKULTET ŠUMARSTVA I DRVNE TEHNOLOGIJE | O18: 1896 | P18: SVEUČILIŠTE U ZAGREBU FAKULTET ŠUMARSTVA I DRVNE TEHNOLOGIJE | Q18: SVEUČILIŠTE U ZAGREBU | R18: SVETOŠIMUNSKA CESTA 25 | S18: 10000 ZAGREB | T18: 3281485 | U18: 07699719217 | V18: Sveučilišta i veleučilišta u Republici Hrvatskoj | W18: 08006
B19: RASHODI UKUPNO | C19: =SUM(C17:C18) -> 15167219 | D19: =SUM(D17:D18) -> 14560994 | E19: =SUM(E17:E18) -> 16037969 | F19: =+F17+F18 -> 16045367 | G19: =+G17+G18 -> 16045367 | M19: =+M18+1 -> 15 | N19: =O19&" "&P19 -> 1907 SVEUČILIŠTE U ZAGREBU - FAKULTET POLITIČKIH ZNANOSTI | O19: 1907 | P19: SVEUČILIŠTE U ZAGREBU - FAKULTET POLITIČKIH ZNANOSTI | Q19: SVEUČILIŠTE U ZAGREBU | R19: LEPUŠIĆEVA 6 | S19: 10000 ZAGREB | T19: 3270262 | U19: 28011548575 | V19: Sveučilišta i veleučilišta u Republici Hrvatskoj | W19: 08006
B20: RAZLIKA - VIŠAK / MANJAK | C20: =+C16-C19 -> -258188.56 | D20: =+D16-D19 -> 0 | E20: =+E16-E19 -> 0 | F20: =+F16-F19 -> 0 | G20: =+G16-G19 -> 0 | M20: =+M19+1 -> 16 | N20: =O20&" "&P20 -> 1915 SVEUČILIŠTE U ZAGREBU - PRAVNI FAKULTET | O20: 1915 | P20: SVEUČILIŠTE U ZAGREBU - PRAVNI FAKULTET | Q20: SVEUČILIŠTE U ZAGREBU | R20: TRG REPUBLIKE HRVATSKE 14 | S20: 10000 ZAGREB | T20: 3225909 | U20: 38583303160 | V20: Sveučilišta i veleučilišta u Republici Hrvatskoj | W20: 08006
M21: =+M20+1 -> 17 | N21: =O21&" "&P21 -> 1923 SVEUČILIŠTE U ZAGREBU AGRONOMSKI FAKULTET | O21: 1923 | P21: SVEUČILIŠTE U ZAGREBU AGRONOMSKI FAKULTET | Q21: SVEUČILIŠTE U ZAGREBU | R21: SVETOŠIMUNSKA CESTA 25 | S21: 10000 ZAGREB | T21: 3283097 | U21: 76023745044 | V21: Sveučilišta i veleučilišta u Republici Hrvatskoj | W21: 08006
B22: B. SAŽETAK RAČUNA FINANCIRANJA | M22: =+M21+1 -> 18 | N22: =O22&" "&P22 -> 1931 SVEUČILIŠTE U ZAGREBU - EKONOMSKI FAKULTET | O22: 1931 | P22: SVEUČILIŠTE U ZAGREBU - EKONOMSKI FAKULTET | Q22: SVEUČILIŠTE U ZAGREBU | R22: TRG J. F. KENNEDEYA 6 | S22: 10000 ZAGREB | T22: 3272079 | U22: 27208467122 | V22: Sveučilišta i veleučilišta u Republici Hrvatskoj | W22: 08006
G23: u EUR | M23: =+M22+1 -> 19 | N23: =O23&" "&P23 -> 1940 SVEUČILIŠTE U ZAGREBU, UČITELJSKI FAKULTET | O23: 1940 | P23: SVEUČILIŠTE U ZAGREBU, UČITELJSKI FAKULTET | Q23: SVEUČILIŠTE U ZAGREBU | R23: SAVSKA CESTA 77 | S23: 10000 ZAGREB | T23: 1422545 | U23: 72226488129 | V23: Sveučilišta i veleučilišta u Republici Hrvatskoj | W23: 08006
C24: IZVRŠENJE 2025. | D24: TEKUĆI PLAN 2026. | E24: PLAN 2027. | F24: PROJEKCIJA 2028. | G24: PROJEKCIJA 2029. | M24: =+M23+1 -> 20 | N24: =O24&" "&P24 -> 1958 SVEUČILIŠTE U ZAGREBU - FILOZOFSKI FAKULTET | O24: 1958 | P24: SVEUČILIŠTE U ZAGREBU - FILOZOFSKI FAKULTET | Q24: SVEUČILIŠTE U ZAGREBU | R24: IVANA LUČIĆA 3 | S24: 10000 ZAGREB | T24: 3254852 | U24: 90633715804 | V24: Sveučilišta i veleučilišta u Republici Hrvatskoj | W24: 08006
A25: 8 | B25: PRIMICI OD FINANCIJSKE IMOVINE I ZADUŽIVANJA | E25: ='B.1 RAČUN FINANC EK'!D10 -> 0 | F25: ='B.1 RAČUN FINANC EK'!E10 -> 0 | G25: ='B.1 RAČUN FINANC EK'!F10 -> 0 | M25: =+M24+1 -> 21 | N25: =O25&" "&P25 -> 1966 SVEUČILIŠTE U ZAGREBU - EDUKCIJSKO-REHABILITACIJSKI FAKULTET | O25: 1966 | P25: SVEUČILIŠTE U ZAGREBU - EDUKCIJSKO-REHABILITACIJSKI FAKULTET | Q25: SVEUČILIŠTE U ZAGREBU | R25: BORONGAJSKA CESTA 83F | S25: 10000 ZAGREB | T25: 3219780 | U25: 34967762426 | V25: Sveučilišta i veleučilišta u Republici Hrvatskoj | W25: 08006
A26: 5 | B26: IZDACI ZA FINANCIJSKU IMOVINU I OTPLATE ZAJMOVA | E26: ='B.1 RAČUN FINANC EK'!D15 -> 0 | F26: ='B.1 RAČUN FINANC EK'!E15 -> 0 | G26: ='B.1 RAČUN FINANC EK'!F15 -> 0 | M26: =+M25+1 -> 22 | N26: =O26&" "&P26 -> 1974 SVEUČILIŠTE U ZAGREBU - AKADEMIJA DRAMSKE UMJETNOSTI | O26: 1974 | P26: SVEUČILIŠTE U ZAGREBU - AKADEMIJA DRAMSKE UMJETNOSTI | Q26: SVEUČILIŠTE U ZAGREBU | R26: TRG REPUBLIKE HRVATSKE 5 | S26: 10000 ZAGREB | T26: 3205029 | U26: 52097842295 | V26: Sveučilišta i veleučilišta u Republici Hrvatskoj | W26: 08006
B27: RAZLIKA PRIMITAKA I IZDATAKA | C27: =+C25-C26 -> 0 | D27: =+D25-D26 -> 0 | E27: =+E25-E26 -> 0 | F27: =+F25-F26 -> 0 | G27: =+G25-G26 -> 0 | M27: =+M26+1 -> 23 | N27: =O27&" "&P27 -> 1982 SVEUČILIŠTE U ZAGREBU AKADEMIJA LIKOVNIH UMJETNOSTI | O27: 1982 | P27: SVEUČILIŠTE U ZAGREBU AKADEMIJA LIKOVNIH UMJETNOSTI | Q27: SVEUČILIŠTE U ZAGREBU | R27: ILICA 85 | S27: 10000 ZAGREB | T27: 3207919 | U27: 95847257607 | V27: Sveučilišta i veleučilišta u Republici Hrvatskoj | W27: 08006
A28: DONOS | B28: PRIJENOS SREDSTAVA IZ PRETHODNE GODINE | C28: 818156 | D28: 559967 | E28: =+'Unos prijenosa'!D5 -> 559967 | F28: =+'Unos prijenosa'!D13 -> 0 | G28: =+'Unos prijenosa'!D21 -> 0 | M28: =+M27+1 -> 24 | N28: =O28&" "&P28 -> 1999 SVEUČILIŠTE U ZAGREBU - MUZIČKA AKADEMIJA | O28: 1999 | P28: SVEUČILIŠTE U ZAGREBU - MUZIČKA AKADEMIJA | Q28: SVEUČILIŠTE U ZAGREBU | R28: TRG REPUBLIKE HRVATSKE 12 | S28: 10000 ZAGREB | T28: 3205002 | U28: 18422925218 | V28: Sveučilišta i veleučilišta u Republici Hrvatskoj | W28: 08006
A29: ODNOS | B29: PRIJENOS SREDSTAVA U SLJEDEĆE RAZDOBLJE | C29: -559967 | D29: -559967 | E29: =+'Unos prijenosa'!D7 -> -559967 | F29: =+'Unos prijenosa'!D15 -> 0 | G29: =+'Unos prijenosa'!D23 -> 0 | M29: =+M28+1 -> 25 | N29: =O29&" "&P29 -> 2006 SVEUČILIŠTE U ZAGREBU KINEZIOLOŠKI FAKULTET | O29: 2006 | P29: SVEUČILIŠTE U ZAGREBU KINEZIOLOŠKI FAKULTET | Q29: SVEUČILIŠTE U ZAGREBU | R29: HORVAĆANSKI ZAVOJ 15 | S29: 10000 ZAGREB | T29: 3274080 | U29: 25329931628 | V29: Sveučilišta i veleučilišta u Republici Hrvatskoj | W29: 08006
B30: NETO FINANCIRANJE | C30: =+C27+C28+C29 -> 258189 | D30: =+D27+D28+D29 -> 0 | E30: =+E27+E28+E29 -> 0 | F30: =+F27+F28+F29 -> 0 | G30: =+G27+G28+G29 -> 0 | M30: =+M29+1 -> 26 | N30: =O30&" "&P30 -> 2014 SVEUČILIŠTE U ZAGREBU FARMACEUTSKO-BIOKEMIJSKI FAKULTET | O30: 2014 | P30: SVEUČILIŠTE U ZAGREBU FARMACEUTSKO-BIOKEMIJSKI FAKULTET | Q30: SVEUČILIŠTE U ZAGREBU | R30: ANTE KOVAČIĆA 1 | S30: 10000 ZAGREB | T30: 3205037 | U30: 14509285435 | V30: Sveučilišta i veleučilišta u Republici Hrvatskoj | W30: 08006
M31: =+M30+1 -> 27 | N31: =O31&" "&P31 -> 2022 SVEUČILIŠTE U ZAGREBU VETERINARSKI FAKULTET | O31: 2022 | P31: SVEUČILIŠTE U ZAGREBU VETERINARSKI FAKULTET | Q31: SVEUČILIŠTE U ZAGREBU | R31: HEINZELOVA 55 | S31: 10000 ZAGREB | T31: 3225755 | U31: 36389528408 | V31: Sveučilišta i veleučilišta u Republici Hrvatskoj | W31: 08006
B32: VIŠAK / MANJAK + NETO FINANCIRANJE | C32: =+C20+C30 -> 0.44 | D32: =+D20+D30 -> 0 | E32: =+E20+E30 -> 0 | F32: =+F20+F30 -> 0 | G32: =+G20+G30 -> 0 | M32: =+M31+1 -> 28 | N32: =O32&" "&P32 -> 2047 SVEUČILIŠTE U ZAGREBU RUDARSKO-GEOLOŠKO-NAFTNI FAKULTET | O32: 2047 | P32: SVEUČILIŠTE U ZAGREBU RUDARSKO-GEOLOŠKO-NAFTNI FAKULTET | Q32: SVEUČILIŠTE U ZAGREBU | R32: PIEROTTIJEVA 6 | S32: 10000 ZAGREB | T32: 3207005 | U32: 99534693762 | V32: Sveučilišta i veleučilišta u Republici Hrvatskoj | W32: 08006
M33: =+M32+1 -> 29 | N33: =O33&" "&P33 -> 2063 SVEUČILIŠTE U ZAGREBU FAKULTET ORGANIZACIJE I INFORMATIKE | O33: 2063 | P33: SVEUČILIŠTE U ZAGREBU FAKULTET ORGANIZACIJE I INFORMATIKE | Q33: SVEUČILIŠTE U ZAGREBU | R33: PAVLINSKA 2 | S33: 42000 VARAŽDIN | T33: 3006107 | U33: 02024882310 | V33: Sveučilišta i veleučilišta u Republici Hrvatskoj | W33: 08006
M34: =+M33+1 -> 30 | N34: =O34&" "&P34 -> 2071 SVEUČILIŠTE U ZAGREBU - METALURŠKI FAKULTET SISAK | O34: 2071 | P34: SVEUČILIŠTE U ZAGREBU - METALURŠKI FAKULTET SISAK | Q34: SVEUČILIŠTE U ZAGREBU | R34: ALEJA NARODNIH HEROJA 3 | S34: 44000 SISAK | T34: 3313786 | U34: 48006703414 | V34: Sveučilišta i veleučilišta u Republici Hrvatskoj | W34: 08006
M35: =+M34+1 -> 31 | N35: =O35&" "&P35 -> 2080 SVEUČILIŠTE U ZAGREBU - GRAFIČKI FAKULTET | O35: 2080 | P35: SVEUČILIŠTE U ZAGREBU - GRAFIČKI FAKULTET | Q35: SVEUČILIŠTE U ZAGREBU | R35: GETALDIĆEVA 2 | S35: 10000 ZAGREB | T35: 3219763 | U35: 25564990903 | V35: Sveučilišta i veleučilišta u Republici Hrvatskoj | W35: 08006
M36: =+M35+1 -> 32 | N36: =O36&" "&P36 -> 2102 SVEUČILIŠTE U ZAGREBU - GEOTEHNIČKI FAKULTET | O36: 2102 | P36: SVEUČILIŠTE U ZAGREBU - GEOTEHNIČKI FAKULTET | Q36: SVEUČILIŠTE U ZAGREBU | R36: HALLEROVA ALEJA 7 | S36: 42000 VARAŽDIN | T36: 3042316 | U36: 16146181375 | V36: Sveučilišta i veleučilišta u Republici Hrvatskoj | W36: 08006
M37: =+M36+1 -> 33 | N37: =O37&" "&P37 -> 2135 SVEUČILIŠTE U ZAGREBU, KATOLIČKI BOGOSLOVNI FAKULTET | O37: 2135 | P37: SVEUČILIŠTE U ZAGREBU, KATOLIČKI BOGOSLOVNI FAKULTET | Q37: SVEUČILIŠTE U ZAGREBU | R37: VLAŠKA 38 | S37: 10000 ZAGREB | T37: 3703088 | U37: 48987767944 | V37: Sveučilišta i veleučilišta u Republici Hrvatskoj | W37: 08006
M38: =+M37+1 -> 34 | N38: =O38&" "&P38 -> 2151 SVEUČILIŠTE U RIJECI - TEHNIČKI FAKULTET | O38: 2151 | P38: SVEUČILIŠTE U RIJECI - TEHNIČKI FAKULTET | Q38: SVEUČILIŠTE U RIJECI | R38: VUKOVARSKA 58 | S38: 51000 RIJEKA | T38: 3334317 | U38: 46319717480 | V38: Sveučilišta i veleučilišta u Republici Hrvatskoj | W38: 08006
M39: =+M38+1 -> 35 | N39: =O39&" "&P39 -> 2160 SVEUČILIŠTE U RIJECI - GRAĐEVINSKI FAKULTET | O39: 2160 | P39: SVEUČILIŠTE U RIJECI - GRAĐEVINSKI FAKULTET | Q39: SVEUČILIŠTE U RIJECI | R39: RADMILE MATEJČIĆ 3 | S39: 51000 RIJEKA | T39: 3395855 | U39: 92037849504 | V39: Sveučilišta i veleučilišta u Republici Hrvatskoj | W39: 08006
M40: =+M39+1 -> 36 | N40: =O40&" "&P40 -> 2186 SVEUČILIŠTE U RIJECI, EKONOMSKI FAKULTET | O40: 2186 | P40: SVEUČILIŠTE U RIJECI, EKONOMSKI FAKULTET | Q40: SVEUČILIŠTE U RIJECI | R40: IVANA FILIPOVIĆA 4 | S40: 51000 RIJEKA | T40: 3328627 | U40: 26093119930 | V40: Sveučilišta i veleučilišta u Republici Hrvatskoj | W40: 08006
M41: =+M40+1 -> 37 | N41: =O41&" "&P41 -> 2194 Sveučilište u Rijeci, Fakultet za menadžment u turizmu i ugostiteljstvu | O41: 2194 | P41: Sveučilište u Rijeci, Fakultet za menadžment u turizmu i ugostiteljstvu | Q41: SVEUČILIŠTE U RIJECI | R41: IKA PRIMORSKA 42 | S41: 51410 OPATIJA | T41: 3091732 | U41: 85799845149 | V41: Sveučilišta i veleučilišta u Republici Hrvatskoj | W41: 08006
M42: =+M41+1 -> 38 | N42: =O42&" "&P42 -> 2217 SVEUČILIŠTE U RIJECI, PRAVNI FAKULTET | O42: 2217 | P42: SVEUČILIŠTE U RIJECI, PRAVNI FAKULTET | Q42: SVEUČILIŠTE U RIJECI | R42: HAHLIĆ 6 | S42: 51000 RIJEKA | T42: 3328562 | U42: 43767699965 | V42: Sveučilišta i veleučilišta u Republici Hrvatskoj | W42: 08006
M43: =+M42+1 -> 39 | N43: =O43&" "&P43 -> 2225 SVEUČILIŠTE U RIJECI - MEDICINSKI FAKULTET | O43: 2225 | P43: SVEUČILIŠTE U RIJECI - MEDICINSKI FAKULTET | Q43: SVEUČILIŠTE U RIJECI | R43: BRAĆE BRANCHETTA 20 | S43: 51000 RIJEKA | T43: 3328554 | U43: 98164324541 | V43: Sveučilišta i veleučilišta u Republici Hrvatskoj | W43: 08006
M44: =+M43+1 -> 40 | N44: =O44&" "&P44 -> 2250 SVEUČILIŠTE JOSIPA JURJA STROSSMAYERA U OSIJEKU, GRAĐEVINSKI I ARHITEKTONSKI FAKULTET OSIJEK | O44: 2250 | P44: SVEUČILIŠTE JOSIPA JURJA STROSSMAYERA U OSIJEKU, GRAĐEVINSKI I ARHITEKTONSKI FAKULTET OSIJEK | Q44: SVEUČILIŠTE J.J STROSSMAYERA U OSIJEKU | R44: ULICA VLADIMIRA PRELOGA 3 | S44: 31000 OSIJEK | T44: 3397335 | U44: 04150850819 | V44: Sveučilišta i veleučilišta u Republici Hrvatskoj | W44: 08006
M45: =+M44+1 -> 41 | N45: =O45&" "&P45 -> 2268 SVEUČILIŠTE J.J. STROSSMAYERA U OSIJEKU - FAKULTET AGROBIOTEHNIČKIH ZNANOSTI OSIJEK | O45: 2268 | P45: SVEUČILIŠTE J.J. STROSSMAYERA U OSIJEKU - FAKULTET AGROBIOTEHNIČKIH ZNANOSTI OSIJEK | Q45: SVEUČILIŠTE J.J STROSSMAYERA U OSIJEKU | R45: VLADIMIRA PRELOGA 1 | S45: 31000 OSIJEK | T45: 3058212 | U45: 98816779821 | V45: Sveučilišta i veleučilišta u Republici Hrvatskoj | W45: 08006
M46: =+M45+1 -> 42 | N46: =O46&" "&P46 -> 2276 SVEUČILIŠTE J.J. STROSSMAYERA U OSIJEKU - PREHRAMBENO-TEHNOLOŠKI FAKULTET | O46: 2276 | P46: SVEUČILIŠTE J.J. STROSSMAYERA U OSIJEKU - PREHRAMBENO-TEHNOLOŠKI FAKULTET | Q46: SVEUČILIŠTE J.J STROSSMAYERA U OSIJEKU | R46: FRANJE KUHAČA 18 | S46: 31000 OSIJEK | T46: 3058204 | U46: 96371000697 | V46: Sveučilišta i veleučilišta u Republici Hrvatskoj | W46: 08006
M47: =+M46+1 -> 43 | N47: =O47&" "&P47 -> 2284 SVEUČILIŠTE J.J. STROSSMAYERA U OSIJEKU - EKONOMSKI FAKULTET | O47: 2284 | P47: SVEUČILIŠTE J.J. STROSSMAYERA U OSIJEKU - EKONOMSKI FAKULTET | Q47: SVEUČILIŠTE J.J STROSSMAYERA U OSIJEKU | R47: TRG LJUDEVITA GAJA 7 | S47: 31000 OSIJEK | T47: 3021645 | U47: 52778515544 | V47: Sveučilišta i veleučilišta u Republici Hrvatskoj | W47: 08006
M48: =+M47+1 -> 44 | N48: =O48&" "&P48 -> 2292 SVEUČILIŠTE JOSIPA JURJA STROSSMAYERA U OSIJEKU - PRAVNI FAKULTET | O48: 2292 | P48: SVEUČILIŠTE JOSIPA JURJA STROSSMAYERA U OSIJEKU - PRAVNI FAKULTET | Q48: SVEUČILIŠTE J.J STROSSMAYERA U OSIJEKU | R48: STJEPANA RADIĆA 13 | S48: 31000 OSIJEK | T48: 3014193 | U48: 26416570803 | V48: Sveučilišta i veleučilišta u Republici Hrvatskoj | W48: 08006
M49: =+M48+1 -> 45 | N49: =O49&" "&P49 -> 2313 SVEUČILIŠTE J.J. STROSSMAYERA U OSIJEKU - FAKULTET ELEKTROTEHNIKE, RAČUNARSTVA I INFORMACIJSKIH TEHNOLOGIJA OSIJEK | O49: 2313 | P49: SVEUČILIŠTE J.J. STROSSMAYERA U OSIJEKU - FAKULTET ELEKTROTEHNIKE, RAČUNARSTVA I INFORMACIJSKIH TEHNOLOGIJA OSIJEK | Q49: SVEUČILIŠTE J.J STROSSMAYERA U OSIJEKU | R49: KNEZA TRPIMIRA 2 B | S49: 31000 OSIJEK | T49: 3392589 | U49: 95494259952 | V49: Sveučilišta i veleučilišta u Republici Hrvatskoj | W49: 08006
... M63: =+M62+1 -> 59 | N63: =O63&" "&P63 -> 2524 SVEUČILIŠTE U SPLITU - SVEUČILIŠNA KNJIŽNICA | O63: 2524 | P63: SVEUČILIŠTE U SPLITU - SVEUČILIŠNA KNJIŽNICA | Q63: SVEUČILIŠTE U SPLITU | R63: RUĐERA BOŠKOVIĆA 31 | S63: 21000 SPLIT | T63: 3118436 | U63: 40099344720 | V63: Sveučilišta i veleučilišta u Republici Hrvatskoj | W63: 08006
M64: =+M63+1 -> 60 | N64: =O64&" "&P64 -> 2532 SVEUČILIŠTE U ZADRU, ZNANSTVENA KNJIŽNICA | O64: 2532 | P64: SVEUČILIŠTE U ZADRU, ZNANSTVENA KNJIŽNICA | Q64: SVEUČILIŠTE U ZADRU | T64: 03141993 | U64: 94403503942 | V64: Sveučilišta i veleučilišta u Republici Hrvatskoj | W64: 08006
M65: =+M64+1 -> 61 | N65: =O65&" "&P65 -> 2900 INSTITUT ZA OCEANOGRAFIJU I RIBARSTVO | O65: 2900 | P65: INSTITUT ZA OCEANOGRAFIJU I RIBARSTVO | Q65: JAVNI INSTITUTI | R65: ŠETALIŠTE I. MEŠTROVIĆA 63 | S65: 21000 SPLIT | T65: 3118355 | U65: 86235185568 | V65: Javni instituti | W65: 08008
M66: =+M65+1 -> 62 | N66: =O66&" "&P66 -> 2918 EKONOMSKI INSTITUT, ZAGREB | O66: 2918 | P66: EKONOMSKI INSTITUT, ZAGREB | Q66: JAVNI INSTITUTI | R66: TRG JOHNA KENNEDYA 7 | S66: 10000 ZAGREB | T66: 3219925 | U66: 70925432731 | V66: Javni instituti | W66: 08008
M67: =+M66+1 -> 63 | N67: =O67&" "&P67 -> 2934 HRVATSKI INSTITUT ZA POVIJEST | O67: 2934 | P67: HRVATSKI INSTITUT ZA POVIJEST | Q67: JAVNI INSTITUTI | R67: OPATIČKA 10 | S67: 10000 ZAGREB | T67: 3207153 | U67: 23296176633 | V67: Javni instituti | W67: 08008
M68: =+M67+1 -> 64 | N68: =O68&" "&P68 -> 2942 INSTITUT ZA POVIJEST UMJETNOSTI | O68: 2942 | P68: INSTITUT ZA POVIJEST UMJETNOSTI | Q68: JAVNI INSTITUTI | R68: ULICA GRADA VUKOVARA 68 | S68: 10000 ZAGREB | T68: 1339958 | U68: 59451980348 | V68: Javni instituti | W68: 08008
M69: =+M68+1 -> 65 | N69: =O69&" "&P69 -> 2959 INSTITUT ZA MEDICINSKA ISTRAŽIVANJA I MEDICINU RADA | O69: 2959 | P69: INSTITUT ZA MEDICINSKA ISTRAŽIVANJA I MEDICINU RADA | Q69: JAVNI INSTITUTI | R69: KSAVERSKA CESTA 2 | S69: 10000 ZAGREB | T69: 3270475 | U69: 30285469659 | V69: Javni instituti | W69: 08008
M70: =+M69+1 -> 66 | N70: =O70&" "&P70 -> 2967 HRVATSKI ŠUMARSKI INSTITUT | O70: 2967 | P70: HRVATSKI ŠUMARSKI INSTITUT | Q70: JAVNI INSTITUTI | R70: CVJETNO NASELJE 41 | S70: 10450 JASTREBARSKO | T70: 3115879 | U70: 13579392023 | V70: Javni instituti | W70: 08008
M71: =+M70+1 -> 67 | N71: =O71&" "&P71 -> 2975 INSTITUT ZA FIZIKU | O71: 2975 | P71: INSTITUT ZA FIZIKU | Q71: JAVNI INSTITUTI | R71: BIJENIČKA CESTA 46 | S71: 10000 ZAGREB | T71: 3270424 | U71: 77627408491 | V71: Javni instituti | W71: 08008
M72: =+M71+1 -> 68 | N72: =O72&" "&P72 -> 2991 POLJOPRIVREDNI INSTITUT OSIJEK | O72: 2991 | P72: POLJOPRIVREDNI INSTITUT OSIJEK | Q72: JAVNI INSTITUTI | R72: JUŽNO PREDGRAĐE 17 | S72: 31000 OSIJEK | T72: 3058239 | U72: 03665720049 | V72: Javni instituti | W72: 08008
M73: =+M72+1 -> 69 | N73: =O73&" "&P73 -> 3009 INSTITUT ZA MIGRACIJE I NARODNOSTI | O73: 3009 | P73: INSTITUT ZA MIGRACIJE I NARODNOSTI | Q73: JAVNI INSTITUTI | R73: TRG STJEPANA RADIĆA 3 | S73: 10000 ZAGREB | T73: 3287572 | U73: 80265403319 | V73: Javni instituti | W73: 08008
M74: =+M73+1 -> 70 | N74: =O74&" "&P74 -> 3025 INSTITUT ZA JADRANSKE KULTURE I MELIORACIJU KRŠA | O74: 3025 | P74: INSTITUT ZA JADRANSKE KULTURE I MELIORACIJU KRŠA | Q74: JAVNI INSTITUTI | R74: PUT DUILOVA 11 | S74: 21000 SPLIT | T74: 3140792 | U74: 90884993104 | V74: Javni instituti | W74: 08008
M75: =+M74+1 -> 71 | N75: =O75&" "&P75 -> 3041 INSTITUT RUĐER BOŠKOVIĆ | O75: 3041 | P75: INSTITUT RUĐER BOŠKOVIĆ | Q75: JAVNI INSTITUTI | R75: BIJENIČKA CESTA 46 | S75: 10000 ZAGREB | T75: 3270289 | U75: 69715301002 | V75: Javni instituti | W75: 08008
M76: =+M75+1 -> 72 | N76: =O76&" "&P76 -> 3050 INSTITUT ZA DRUŠTVENA ISTRAŽIVANJA U ZAGREBU | O76: 3050 | P76: INSTITUT ZA DRUŠTVENA ISTRAŽIVANJA U ZAGREBU | Q76: JAVNI INSTITUTI | R76: AMRUŠEVA 11 | S76: 10000 ZAGREB | T76: 3205118 | U76: 11986338639 | V76: Javni instituti | W76: 08008
... M107: =+M106+1 -> 103 | N107: =O107&" "&P107 -> 23286 INSTITUT ZA JAVNE FINANCIJE | O107: 23286 | P107: INSTITUT ZA JAVNE FINANCIJE | Q107: JAVNI INSTITUTI | R107: SMIČIKLASOVA 21 | S107: 10000 ZAGREB | T107: 3226344 | U107: 41683226810 | V107: Javni instituti | W107: 08008
M108: =+M107+1 -> 104 | N108: =O108&" "&P108 -> 23368 SVEUČILIŠTE U SPLITU , KATOLIČKI BOGOSLOVNI FAKULTET | O108: 23368 | P108: SVEUČILIŠTE U SPLITU , KATOLIČKI BOGOSLOVNI FAKULTET | Q108: SVEUČILIŠTE U SPLITU | R108: ZRINSKOG FRANKOPANA 19 | S108: 21000 SPLIT | T108: 1465643 | U108: 36149548625 | V108: Sveučilišta i veleučilišta u Republici Hrvatskoj | W108: 08006
M109: =+M108+1 -> 105 | N109: =O109&" "&P109 -> 23665 SVEUČILIŠTE U ZAGREBU SVEUČILIŠNI RAČUNSKI CENTAR | O109: 23665 | P109: SVEUČILIŠTE U ZAGREBU SVEUČILIŠNI RAČUNSKI CENTAR | Q109: AGENCIJE | R109: JOSIPA MAROHNIĆA 5 | S109: 10000 ZAGREB | T109: 3283020 | U109: 34016189309 | V109: Agencije | W109: 08091
M110: =+M109+1 -> 106 | N110: =O110&" "&P110 -> 23815 SVEUČILIŠTE U ZADRU | O110: 23815 | P110: SVEUČILIŠTE U ZADRU | Q110: SVEUČILIŠTE U ZADRU | R110: MIHOVILA PAVLINOVIĆA 1 | S110: 23000 ZADAR | T110: 1695525 | U110: 10839679016 | V110: Sveučilišta i veleučilišta u Republici Hrvatskoj | W110: 08006
M111: =+M110+1 -> 107 | N111: =O111&" "&P111 -> 23962 AGENCIJA ZA ODGOJ I OBRAZOVANJE | O111: 23962 | P111: AGENCIJA ZA ODGOJ I OBRAZOVANJE | Q111: AGENCIJE | R111: DONJE SVETICE 38 | S111: 10000 ZAGREB | T111: 1778129 | U111: 72193628411 | V111: Agencije | W111: 08091
M112: =+M111+1 -> 108 | N112: =O112&" "&P112 -> 24141 SVEUČILIŠTE U DUBROVNIKU | O112: 24141 | P112: SVEUČILIŠTE U DUBROVNIKU | Q112: SVEUČILIŠTE U DUBROVNIKU | R112: BRANITELJA DUBROVNIKA 29 | S112: 20000 DUBROVNIK | T112: 1787578 | U112: 01338491514 | V112: Sveučilišta i veleučilišta u Republici Hrvatskoj | W112: 08006
M113: =+M112+1 -> 109 | N113: =O113&" "&P113 -> 38438 VELEUČILIŠTE MARKO MARULIĆ | O113: 38438 | P113: VELEUČILIŠTE MARKO MARULIĆ | Q113: VELEUČILIŠTA | R113: KRALJA PETRA KREŠIMIRA IV 30 | S113: 22300 KNIN | T113: 1963813 | U113: 13664089430 | V113: Sveučilišta i veleučilišta u Republici Hrvatskoj | W113: 08006
M114: =+M113+1 -> 110 | N114: =O114&" "&P114 -> 38446 VELEUČILIŠTE LAVOSLAV RUŽIČKA U VUKOVARU | O114: 38446 | P114: VELEUČILIŠTE LAVOSLAV RUŽIČKA U VUKOVARU | Q114: VELEUČILIŠTA | R114: ŽUPANIJSKA 50 | S114: 32000 VUKOVAR | T114: 1970828 | U114: 21720825730 | V114: Sveučilišta i veleučilišta u Republici Hrvatskoj | W114: 08006
M115: =+M114+1 -> 111 | N115: =O115&" "&P115 -> 38454 SVEUČILIŠTE U RIJECI, AKADEMIJA PRIMIJENJENIH UMJETNOSTI | O115: 38454 | P115: SVEUČILIŠTE U RIJECI, AKADEMIJA PRIMIJENJENIH UMJETNOSTI | Q115: SVEUČILIŠTE U RIJECI | R115: SLAVKA KRAUTZEKA 83 | S115: 51000 RIJEKA | T115: 1954253 | U115: 55704161999 | V115: Sveučilišta i veleučilišta u Republici Hrvatskoj | W115: 08006
M116: =+M115+1 -> 112 | N116: =O116&" "&P116 -> 38479 SVEUČILIŠTE JOSIPA JURJA STROSSMAYERA U OSIJEKU, KATOLIČKI BOGOSLOVNI FAKULTET U ĐAKOVU | O116: 38479 | P116: SVEUČILIŠTE JOSIPA JURJA STROSSMAYERA U OSIJEKU, KATOLIČKI BOGOSLOVNI FAKULTET U ĐAKOVU | Q116: SVEUČILIŠTE J.J STROSSMAYERA U OSIJEKU | R116: PETRA PRERADOVIĆA 17 | S116: 31400 ĐAKOVO | T116: 1986490 | U116: 05384220316 | V116: Sveučilišta i veleučilišta u Republici Hrvatskoj | W116: 08006
M117: =+M116+1 -> 113 | N117: =O117&" "&P117 -> 38487 AGENCIJA ZA ZNANOST I VISOKO OBRAZOVANJE | O117: 38487 | P117: AGENCIJA ZA ZNANOST I VISOKO OBRAZOVANJE | Q117: AGENCIJE | R117: DONJE SVETICE 38/5 | S117: 10000 ZAGREB | T117: 1922548 | U117: 83358955356 | V117: Agencije | W117: 08091
M118: =+M117+1 -> 114 | N118: =O118&" "&P118 -> 40883 NACIONALNI CENTAR ZA VANJSKO VREDNOVANJE OBRAZOVANJA | O118: 40883 | P118: NACIONALNI CENTAR ZA VANJSKO VREDNOVANJE OBRAZOVANJA | Q118: AGENCIJE | R118: ULICA D. TOMLJANOVIĆA GAVRANA 11 | S118: 10020 ZAGREB | T118: 1943430 | U118: 94833993984 | V118: Agencije | W118: 08091
M119: =+M118+1 -> 115 | N119: =O119&" "&P119 -> 40947 SVEUČILIŠTE U RIJECI, UČITELJSKI FAKULTET | O119: 40947 | P119: SVEUČILIŠTE U RIJECI, UČITELJSKI FAKULTET | Q119: SVEUČILIŠTE U RIJECI | R119: SVEUČILIŠNA AVENIJA 6 | S119: 51000 RIJEKA | T119: 2116073 | U119: 96996385705 | V119: Sveučilišta i veleučilišta u Republici Hrvatskoj | W119: 08006
M120: =+M119+1 -> 116 | N120: =O120&" "&P120 -> 41185 VELEUČILIŠTE NIKOLA TESLA U GOSPIĆU | O120: 41185 | P120: VELEUČILIŠTE NIKOLA TESLA U GOSPIĆU | Q120: VELEUČILIŠTA | R120: ULICA BANA IVANA KARLOVIĆA 16 | S120: 53000 GOSPIĆ | T120: 2103133 | U120: 42552392522 | V120: Sveučilišta i veleučilišta u Republici Hrvatskoj | W120: 08006
... M126: =+M125+1 -> 122 | N126: =O126&" "&P126 -> 46173 AGENCIJA ZA STRUKOVNO OBRAZOVANJE I OBRAZOVANJE ODRASLIH | O126: 46173 | P126: AGENCIJA ZA STRUKOVNO OBRAZOVANJE I OBRAZOVANJE ODRASLIH | Q126: AGENCIJE | R126: GARIĆGRADSKA ULICA 18 | S126: 10000 ZAGREB | T126: 2650029 | U126: 40719411729 | V126: Agencije | W126: 08091
M127: =+M126+1 -> 123 | N127: =O127&" "&P127 -> 48023 SVEUČILIŠTE U RIJECI, FAKULTET ZDRAVSTVENIH STUDIJA | O127: 48023 | P127: SVEUČILIŠTE U RIJECI, FAKULTET ZDRAVSTVENIH STUDIJA | Q127: SVEUČILIŠTE U RIJECI | R127: VIKTORA CARA EMINA 5 | S127: 51000 RIJEKA | T127: 04052510 | U127: 19213484918 | V127: Sveučilišta i veleučilišta u Republici Hrvatskoj | W127: 08006
M128: =+M127+1 -> 124 | N128: =O128&" "&P128 -> 48267 SVEUČILIŠTE SJEVER | O128: 48267 | P128: SVEUČILIŠTE SJEVER | Q128: SVEUČILIŠTE SJEVER | R128: TRG DR. ŽARKA DOLINARA 1 | S128: 48000 KOPRIVNICA | T128: 2752298 | U128: 59624928052 | V128: Sveučilišta i veleučilišta u Republici Hrvatskoj | W128: 08006
M129: =+M128+1 -> 125 | N129: =O129&" "&P129 -> 49796 SVEUČILIŠTE J.J. STROSMAYERA U OSIJEKU - FAKULTET ZA DENTALNU MEDICINU I ZDRAVSTVO | O129: 49796 | P129: SVEUČILIŠTE J.J. STROSMAYERA U OSIJEKU - FAKULTET ZA DENTALNU MEDICINU I ZDRAVSTVO | Q129: SVEUČILIŠTE J.J STROSSMAYERA U OSIJEKU | R129: CRKVENA 21 | S129: 31000 OSIJEK | T129: 4748875 | U129: 83830458507 | V129: Sveučilišta i veleučilišta u Republici Hrvatskoj | W129: 08006
M130: =+M129+1 -> 126 | N130: =O130&" "&P130 -> 50215 SVEUČILIŠTE JOSIPA JURJA STROSSMAYERA U OSIJEKU - AKADEMIJA ZA UMJETNOST I KULTURU U OSIJEKU | O130: 50215 | P130: SVEUČILIŠTE JOSIPA JURJA STROSSMAYERA U OSIJEKU - AKADEMIJA ZA UMJETNOST I KULTURU U OSIJEKU | Q130: SVEUČILIŠTE J.J STROSSMAYERA U OSIJEKU | R130: KRALJA PETRA SVAČIĆA 1/F | S130: 31000 OSIJEK | T130: 4907361 | U130: 60277424315 | V130: Sveučilišta i veleučilišta u Republici Hrvatskoj | W130: 08006
M131: =+M130+1 -> 127 | N131: =O131&" "&P131 -> 50848 VELEUČILIŠTE HRVATSKO ZAGORJE KRAPINA | O131: 50848 | P131: VELEUČILIŠTE HRVATSKO ZAGORJE KRAPINA | Q131: VELEUČILIŠTA | R131: ŠETALIŠTE HRVATSKOG NARODNOG PREPORODA 6 | S131: 49000 KRAPINA | T131: 2271354 | U131: 16465214888 | V131: Sveučilišta i veleučilišta u Republici Hrvatskoj | W131: 08006
M132: =+M131+1 -> 128 | N132: =O132&" "&P132 -> 51191 Sveučilište u Zagrebu Fakultet hrvatskih studija | O132: 51191 | P132: Sveučilište u Zagrebu Fakultet hrvatskih studija | Q132: SVEUČILIŠTE U ZAGREBU | R132: BORONGAJSKA CESTA 83D | S132: 10000 ZAGREB | T132: 5214068 | U132: 99454315441 | V132: Sveučilišta i veleučilišta u Republici Hrvatskoj | W132: 08006
M133: =+M132+1 -> 129 | N133: =O133&" "&P133 -> 51360 SVEUČILIŠTE U SLAVONSKOM BRODU | O133: 51360 | P133: SVEUČILIŠTE U SLAVONSKOM BRODU | Q133: SVEUČILIŠTE U SLAVONSKOM BRODU | R133: TRG IVANE BRLIĆ MAŽURANIĆ 2 | S133: 35000 SLAVONSKI BROD | T133: 5290538 | U133: 33027834374 | V133: Sveučilišta i veleučilišta u Republici Hrvatskoj | W133: 08006
M134: =+M133+1 -> 130 | N134: =O134&" "&P134 -> 51450 SVEUČILIŠTE JOSIPA JURJA STROSSMAYERA U OSIJEKU - KINEZIOLOŠKI FAKULTET OSIJEK | O134: 51450 | P134: SVEUČILIŠTE JOSIPA JURJA STROSSMAYERA U OSIJEKU - KINEZIOLOŠKI FAKULTET OSIJEK | Q134: SVEUČILIŠTE J.J STROSSMAYERA U OSIJEKU | R134: DRINSKA 16/A | S134: 31000 OSIJEK | T134: 5302099 | U134: 70788591483 | V134: Sveučilišta i veleučilišta u Republici Hrvatskoj | W134: 08006
M135: =+M134+1 -> 131 | N135: =O135&" "&P135 -> 52209 HRVATSKA ZAKLADA ZA ZNANOST | O135: 52209 | P135: HRVATSKA ZAKLADA ZA ZNANOST | Q135: AGENCIJE | R135: ILICA 24 | S135: 10000 ZAGREB | T135: 1626841 | U135: 88776522763 | V135: Agencije | W135: 08091
M136: =+M135+1 -> 132 | N136: =O136&" "&P136 -> 52565 SVEUČILIŠTE JOSIPA JURJA STROSSMAYERA U OSIJEKU, FAKULTET TURIZMA I RURALNOG RAZVOJA U POŽEGI | O136: 52565 | P136: SVEUČILIŠTE JOSIPA JURJA STROSSMAYERA U OSIJEKU, FAKULTET TURIZMA I RURALNOG RAZVOJA U POŽEGI | Q136: SVEUČILIŠTE J.J STROSSMAYERA U OSIJEKU | R136: VUKOVARSKA 17 | S136: 31000 OSIJEK | T136: 5619696 | U136: 11614501047 | V136: Sveučilišta i veleučilišta u Republici Hrvatskoj | W136: 08006
M137: =+M136+1 -> 133 | N137: =O137&" "&P137 -> 53919 Sveučilište u Osijeku, Fakultet primijenjene matematike i informatike | O137: 53919 | P137: Sveučilište u Osijeku, Fakultet primijenjene matematike i informatike | Q137: SVEUČILIŠTE J.J STROSSMAYERA U OSIJEKU | V137: Sveučilišta i veleučilišta u Republici Hrvatskoj | W137: 08006

Sheet Unos prihoda i primitaka
A1: Plan za unos u SAP - prihodi i primici | F1: =IF(OR('OPĆI DIO'!C1="odaberite -",'OPĆI DIO'!C1=""),"Molimo odaberite proračunskog korisnika na radnom listu Opći podaci!","") | K1: u EUR
A2: GLAVA | B2: OPIS GLAVE | C2: IZVOR NA TERET | D2: IZVOR | E2: OPIS IZVORA | F2: STAVKA | G2: Stavka-Izvor | H2: OPIS STAVKE | I2: PLAN 2027. | J2: PROJEKCIJA 2028. | K2: PROJEKCIJA 2029. | L2: Davatelj prijenosa 639 | M2: UPLATITELJ SREDSTAVA - tekstualni unos za ostale prihode | N2: Ustanova | O2: left3 | P2: left2
A3: =IF(E3="","",VLOOKUP('OPĆI DIO'!$C$1,'OPĆI DIO'!$N$4:$W$150,10,FALSE)) -> 08091 | B3: =IF(E3="","",VLOOKUP('OPĆI DIO'!$C$1,'OPĆI DIO'!$N$4:$W$150,9,FALSE)) -> Agencije | C3: =IFERROR(VLOOKUP(G3,$U$6:$AB$538,8,FALSE),"") -> 11 | D3: 11 | E3: =IFERROR(VLOOKUP(G3,$U$6:$AB$538,5,FALSE),"") -> Opći prihodi i primici | F3: =IFERROR(VLOOKUP(G3,$U$6:$AB$538,2,FALSE),"") -> 67111 | G3: 67111-11 | H3: =IFERROR(VLOOKUP(G3,$U$6:$AB$538,3,FALSE),"") -> Prihodi iz nadležnog proračuna za financiranje rashoda poslovanja | I3: 9071302 | J3: 9078700 | K3: 9078700 | N3: =IF(E3="","",'OPĆI DIO'!$C$1) -> 40883 NACIONALNI CENTAR ZA VANJSKO VREDNOVANJE OBRAZOVANJA | O3: =LEFT(F3,2) -> 67 | P3: =LEFT(F3,3) -> 671 | Q3: glava za visoko 6
A4: =IF(E4="","",VLOOKUP('OPĆI DIO'!$C$1,'OPĆI DIO'!$N$4:$W$150,10,FALSE)) -> 08091 | B4: =IF(E4="","",VLOOKUP('OPĆI DIO'!$C$1,'OPĆI DIO'!$N$4:$W$150,9,FALSE)) -> Agencije | C4: =IFERROR(VLOOKUP(G4,$U$6:$AB$538,8,FALSE),"") -> 12 | D4: 12 | E4: =IFERROR(VLOOKUP(G4,$U$6:$AB$538,5,FALSE),"") -> Sredstva učešća za pomoći | F4: =IFERROR(VLOOKUP(G4,$U$6:$AB$538,2,FALSE),"") -> 67111 | G4: 67111-12 | H4: =IFERROR(VLOOKUP(G4,$U$6:$AB$538,3,FALSE),"") -> Prihodi iz nadležnog proračuna za financiranje rashoda poslovanja | I4: 1000000 | J4: 1000000 | K4: 1000000 | N4: =IF(E4="","",'OPĆI DIO'!$C$1) -> 40883 NACIONALNI CENTAR ZA VANJSKO VREDNOVANJE OBRAZOVANJA | O4: =LEFT(F4,2) -> 67 | P4: =LEFT(F4,3) -> 671
A5: =IF(E5="","",VLOOKUP('OPĆI DIO'!$C$1,'OPĆI DIO'!$N$4:$W$150,10,FALSE)) -> 08091 | B5: =IF(E5="","",VLOOKUP('OPĆI DIO'!$C$1,'OPĆI DIO'!$N$4:$W$150,9,FALSE)) -> Agencije | C5: =IFERROR(VLOOKUP(G5,$U$6:$AB$538,8,FALSE),"") -> 561 | D5: 561 | E5: =IFERROR(VLOOKUP(G5,$U$6:$AB$538,5,FALSE),"") -> Europski socijalni fond plus – predfinanciranje iz izvora 11 Opći prihodi i primici | F5: =IFERROR(VLOOKUP(G5,$U$6:$AB$538,2,FALSE),"") -> 67111 | G5: 67111-561 | H5: =IFERROR(VLOOKUP(G5,$U$6:$AB$538,3,FALSE),"") -> Prihodi iz nadležnog proračuna za financiranje rashoda poslovanja | I5: 5666667 | J5: 5666667 | K5: 5666667 | N5: =IF(E5="","",'OPĆI DIO'!$C$1) -> 40883 NACIONALNI CENTAR ZA VANJSKO VREDNOVANJE OBRAZOVANJA | O5: =LEFT(F5,2) -> 67 | P5: =LEFT(F5,3) -> 671 | Q5: IZVOR | R5: OPIS IZVORA | U5: StavkaIzvor | V5: Stavka | W5: opis stavke | X5: izvor | Y5: OPIS IZVORA | Z5: 3 konto | AA5: 2 konto | AB5: Izvor
A6: =IF(E6="","",VLOOKUP('OPĆI DIO'!$C$1,'OPĆI DIO'!$N$4:$W$150,10,FALSE)) -> 08091 | B6: =IF(E6="","",VLOOKUP('OPĆI DIO'!$C$1,'OPĆI DIO'!$N$4:$W$150,9,FALSE)) -> Agencije | C6: =IFERROR(VLOOKUP(G6,$U$6:$AB$538,8,FALSE),"") -> 43 | D6: 43 | E6: =IFERROR(VLOOKUP(G6,$U$6:$AB$538,5,FALSE),"") -> Ostali prihodi za posebne namjene | F6: =IFERROR(VLOOKUP(G6,$U$6:$AB$538,2,FALSE),"") -> 65268 | G6: 65268-43 | H6: =IFERROR(VLOOKUP(G6,$U$6:$AB$538,3,FALSE),"") -> Ostali prihodi za posebne namjene | I6: 300000 | J6: 300000 | K6: 300000 | N6: =IF(E6="","",'OPĆI DIO'!$C$1) -> 40883 NACIONALNI CENTAR ZA VANJSKO VREDNOVANJE OBRAZOVANJA | O6: =LEFT(F6,2) -> 65 | P6: =LEFT(F6,3) -> 652 | Q6: 11 | R6: Opći prihodi i primici | S6: 11 | U6: =V6&"-"&X6 -> 67111-11 | V6: 67111 | W6: Prihodi iz nadležnog proračuna za financiranje rashoda poslovanja | X6: 11 | Y6: Opći prihodi i primici | Z6: =LEFT(V6,3) -> 671 | AA6: =LEFT(V6,2) -> 67 | AB6: 11
A7: =IF(E7="","",VLOOKUP('OPĆI DIO'!$C$1,'OPĆI DIO'!$N$4:$W$150,10,FALSE)) | B7: =IF(E7="","",VLOOKUP('OPĆI DIO'!$C$1,'OPĆI DIO'!$N$4:$W$150,9,FALSE)) | C7: =IFERROR(VLOOKUP(G7,$U$6:$AB$538,8,FALSE),"") | E7: =IFERROR(VLOOKUP(G7,$U$6:$AB$538,5,FALSE),"") | F7: =IFERROR(VLOOKUP(G7,$U$6:$AB$538,2,FALSE),"") | H7: =IFERROR(VLOOKUP(G7,$U$6:$AB$538,3,FALSE),"") | N7: =IF(E7="","",'OPĆI DIO'!$C$1) | O7: =LEFT(F7,2) | P7: =LEFT(F7,3) | Q7: 12 | R7: Sredstva učešća za pomoći | S7: 12 | U7: =V7&"-"&X7 -> 67111-12 | V7: 67111 | W7: Prihodi iz nadležnog proračuna za financiranje rashoda poslovanja | X7: 12 | Y7: Sredstva učešća za pomoći | Z7: =LEFT(V7,3) -> 671 | AA7: =LEFT(V7,2) -> 67 | AB7: 12
A8: =IF(E8="","",VLOOKUP('OPĆI DIO'!$C$1,'OPĆI DIO'!$N$4:$W$150,10,FALSE)) | B8: =IF(E8="","",VLOOKUP('OPĆI DIO'!$C$1,'OPĆI DIO'!$N$4:$W$150,9,FALSE)) | C8: =IFERROR(VLOOKUP(G8,$U$6:$AB$538,8,FALSE),"") | E8: =IFERROR(VLOOKUP(G8,$U$6:$AB$538,5,FALSE),"") | F8: =IFERROR(VLOOKUP(G8,$U$6:$AB$538,2,FALSE),"") | H8: =IFERROR(VLOOKUP(G8,$U$6:$AB$538,3,FALSE),"") | N8: =IF(E8="","",'OPĆI DIO'!$C$1) | O8: =LEFT(F8,2) | P8: =LEFT(F8,3) | Q8: 31 | R8: Vlastiti prihodi | S8: 31 | U8: =V8&"-"&X8 -> 67111-531 | V8: 67111 | W8: Prihodi iz nadležnog proračuna za financiranje rashoda poslovanja | X8: 531 | Y8: Švicarsko - hrvatski program suradnje | Z8: =LEFT(V8,3) -> 671 | AA8: =LEFT(V8,2) -> 67 | AB8: 531
A9: =IF(E9="","",VLOOKUP('OPĆI DIO'!$C$1,'OPĆI DIO'!$N$4:$W$150,10,FALSE)) | B9: =IF(E9="","",VLOOKUP('OPĆI DIO'!$C$1,'OPĆI DIO'!$N$4:$W$150,9,FALSE)) | C9: =IFERROR(VLOOKUP(G9,$U$6:$AB$538,8,FALSE),"") | E9: =IFERROR(VLOOKUP(G9,$U$6:$AB$538,5,FALSE),"") | F9: =IFERROR(VLOOKUP(G9,$U$6:$AB$538,2,FALSE),"") | H9: =IFERROR(VLOOKUP(G9,$U$6:$AB$538,3,FALSE),"") | N9: =IF(E9="","",'OPĆI DIO'!$C$1) | O9: =LEFT(F9,2) | P9: =LEFT(F9,3) | Q9: 41 | R9: Prihodi od igara na sreću | S9: 41 | U9: =V9&"-"&X9 -> 67111-532 | V9: 67111 | W9: Prihodi iz nadležnog proračuna za financiranje rashoda poslovanja | X9: 532 | Y9: Financijski mehanizam Europskog gospodarskog prostora i Norveški financijski mehanizam | Z9: =LEFT(V9,3) -> 671 | AA9: =LEFT(V9,2) -> 67 | AB9: 532
A10: =IF(E10="","",VLOOKUP('OPĆI DIO'!$C$1,'OPĆI DIO'!$N$4:$W$150,10,FALSE)) | B10: =IF(E10="","",VLOOKUP('OPĆI DIO'!$C$1,'OPĆI DIO'!$N$4:$W$150,9,FALSE)) | C10: =IFERROR(VLOOKUP(G10,$U$6:$AB$538,8,FALSE),"") | E10: =IFERROR(VLOOKUP(G10,$U$6:$AB$538,5,FALSE),"") | F10: =IFERROR(VLOOKUP(G10,$U$6:$AB$538,2,FALSE),"") | H10: =IFERROR(VLOOKUP(G10,$U$6:$AB$538,3,FALSE),"") | N10: =IF(E10="","",'OPĆI DIO'!$C$1) | O10: =LEFT(F10,2) | P10: =LEFT(F10,3) | Q10: 43 | R10: Ostali prihodi za posebne namjene | S10: 43 | U10: =V10&"-"&X10 -> 67111-54 | V10: 67111 | W10: Prihodi iz nadležnog proračuna za financiranje rashoda poslovanja | X10: 54 | Y10: Europski poljoprivredni jamstveni fond (EAGF) | Z10: =LEFT(V10,3) -> 671 | AA10: =LEFT(V10,2) -> 67 | AB10: 54
A11: =IF(E11="","",VLOOKUP('OPĆI DIO'!$C$1,'OPĆI DIO'!$N$4:$W$150,10,FALSE)) | B11: =IF(E11="","",VLOOKUP('OPĆI DIO'!$C$1,'OPĆI DIO'!$N$4:$W$150,9,FALSE)) | C11: =IFERROR(VLOOKUP(G11,$U$6:$AB$538,8,FALSE),"") | E11: =IFERROR(VLOOKUP(G11,$U$6:$AB$538,5,FALSE),"") | F11: =IFERROR(VLOOKUP(G11,$U$6:$AB$538,2,FALSE),"") | H11: =IFERROR(VLOOKUP(G11,$U$6:$AB$538,3,FALSE),"") | N11: =IF(E11="","",'OPĆI DIO'!$C$1) | O11: =LEFT(F11,2) | P11: =LEFT(F11,3) | Q11: 50 | R11: 5011 Pomoći iz državnog proračuna kroz opće prihode i primitke | S11: 50 | U11: =V11&"-"&X11 -> 67111-561 | V11: 67111 | W11: Prihodi iz nadležnog proračuna za financiranje rashoda poslovanja | X11: 561 | Y11: Europski socijalni fond plus – predfinanciranje iz izvora 11 Opći prihodi i primici | Z11: =LEFT(V11,3) -> 671 | AA11: =LEFT(V11,2) -> 67 | AB11: 561
A12: =IF(E12="","",VLOOKUP('OPĆI DIO'!$C$1,'OPĆI DIO'!$N$4:$W$150,10,FALSE)) | B12: =IF(E12="","",VLOOKUP('OPĆI DIO'!$C$1,'OPĆI DIO'!$N$4:$W$150,9,FALSE)) | C12: =IFERROR(VLOOKUP(G12,$U$6:$AB$538,8,FALSE),"") | E12: =IFERROR(VLOOKUP(G12,$U$6:$AB$538,5,FALSE),"") | F12: =IFERROR(VLOOKUP(G12,$U$6:$AB$538,2,FALSE),"") | H12: =IFERROR(VLOOKUP(G12,$U$6:$AB$538,3,FALSE),"") | N12: =IF(E12="","",'OPĆI DIO'!$C$1) | O12: =LEFT(F12,2) | P12: =LEFT(F12,3) | Q12: 50 | R12: 5012 Pomoći iz državnog proračuna kroz nacionalno sufinanciranje EU projekata | S12: 50 | U12: =V12&"-"&X12 -> 67111-562 | V12: 67111 | W12: Prihodi iz nadležnog proračuna za financiranje rashoda poslovanja | X12: 562 | Y12: Kohezijski fond - predfinanciranje iz izvora 11 Opći prihodi i primici | Z12: =LEFT(V12,3) -> 671 | AA12: =LEFT(V12,2) -> 67 | AB12: 562
A13: =IF(E13="","",VLOOKUP('OPĆI DIO'!$C$1,'OPĆI DIO'!$N$4:$W$150,10,FALSE)) | B13: =IF(E13="","",VLOOKUP('OPĆI DIO'!$C$1,'OPĆI DIO'!$N$4:$W$150,9,FALSE)) | C13: =IFERROR(VLOOKUP(G13,$U$6:$AB$538,8,FALSE),"") | E13: =IFERROR(VLOOKUP(G13,$U$6:$AB$538,5,FALSE),"") | F13: =IFERROR(VLOOKUP(G13,$U$6:$AB$538,2,FALSE),"") | H13: =IFERROR(VLOOKUP(G13,$U$6:$AB$538,3,FALSE),"") | N13: =IF(E13="","",'OPĆI DIO'!$C$1) | O13: =LEFT(F13,2) | P13: =LEFT(F13,3) | Q13: 50 | R13: 5031 Pomoći iz državnog proračuna kroz vlastite prihode | S13: 50 | U13: =V13&"-"&X13 -> 67111-563 | V13: 67111 | W13: Prihodi iz nadležnog proračuna za financiranje rashoda poslovanja | X13: 563 | Y13: Europski fond za regionalni razvoj - predfinanciranje iz izvora 11 Opći prihodi i primici | Z13: =LEFT(V13,3) -> 671 | AA13: =LEFT(V13,2) -> 67 | AB13: 563
A14: =IF(E14="","",VLOOKUP('OPĆI DIO'!$C$1,'OPĆI DIO'!$N$4:$W$150,10,FALSE)) | B14: =IF(E14="","",VLOOKUP('OPĆI DIO'!$C$1,'OPĆI DIO'!$N$4:$W$150,9,FALSE)) | C14: =IFERROR(VLOOKUP(G14,$U$6:$AB$538,8,FALSE),"") | E14: =IFERROR(VLOOKUP(G14,$U$6:$AB$538,5,FALSE),"") | F14: =IFERROR(VLOOKUP(G14,$U$6:$AB$538,2,FALSE),"") | H14: =IFERROR(VLOOKUP(G14,$U$6:$AB$538,3,FALSE),"") | N14: =IF(E14="","",'OPĆI DIO'!$C$1) | O14: =LEFT(F14,2) | P14: =LEFT(F14,3) | Q14: 50 | R14: 5041 Pomoći iz državnog proračuna kroz prihode od igara na sreću | S14: 50 | U14: =V14&"-"&X14 -> 67111-564 | V14: 67111 | W14: Prihodi iz nadležnog proračuna za financiranje rashoda poslovanja | X14: 564 | Y14: Fond za pomorstvo, ribarstvo i akvakulturu - predfinanciranje iz izvora 11 Opći prihodi i primici | Z14: =LEFT(V14,3) -> 671 | AA14: =LEFT(V14,2) -> 67 | AB14: 564
A15: =IF(E15="","",VLOOKUP('OPĆI DIO'!$C$1,'OPĆI DIO'!$N$4:$W$150,10,FALSE)) | B15: =IF(E15="","",VLOOKUP('OPĆI DIO'!$C$1,'OPĆI DIO'!$N$4:$W$150,9,FALSE)) | C15: =IFERROR(VLOOKUP(G15,$U$6:$AB$538,8,FALSE),"") | E15: =IFERROR(VLOOKUP(G15,$U$6:$AB$538,5,FALSE),"") | F15: =IFERROR(VLOOKUP(G15,$U$6:$AB$538,2,FALSE),"") | H15: =IFERROR(VLOOKUP(G15,$U$6:$AB$538,3,FALSE),"") | N15: =IF(E15="","",'OPĆI DIO'!$C$1) | O15: =LEFT(F15,2) | P15: =LEFT(F15,3) | Q15: 50 | R15: 5043 Pomoći iz državnog proračuna kroz ostale prihode za posebne namjene | S15: 50 | U15: =V15&"-"&X15 -> 67111-565 | V15: 67111 | W15: Prihodi iz nadležnog proračuna za financiranje rashoda poslovanja | X15: 565 | Y15: Europski poljoprivredni fond za ruralni razvoj - predfinanciranje iz izvora 11 Opći prihodi i primici | Z15: =LEFT(V15,3) -> 671 | AA15: =LEFT(V15,2) -> 67 | AB15: 565
A16: =IF(E16="","",VLOOKUP('OPĆI DIO'!$C$1,'OPĆI DIO'!$N$4:$W$150,10,FALSE)) | B16: =IF(E16="","",VLOOKUP('OPĆI DIO'!$C$1,'OPĆI DIO'!$N$4:$W$150,9,FALSE)) | C16: =IFERROR(VLOOKUP(G16,$U$6:$AB$538,8,FALSE),"") | E16: =IFERROR(VLOOKUP(G16,$U$6:$AB$538,5,FALSE),"") | F16: =IFERROR(VLOOKUP(G16,$U$6:$AB$538,2,FALSE),"") | H16: =IFERROR(VLOOKUP(G16,$U$6:$AB$538,3,FALSE),"") | N16: =IF(E16="","",'OPĆI DIO'!$C$1) | O16: =LEFT(F16,2) | P16: =LEFT(F16,3) | Q16: 50 | R16: 5052 Pomoći iz državnog proračuna kroz ostale pomoći | S16: 50 | U16: =V16&"-"&X16 -> 67111-566 | V16: 67111 | W16: Prihodi iz nadležnog proračuna za financiranje rashoda poslovanja | X16: 566 | Y16: Modernizacijski fond - predfinanciranje iz izvora 11 Opći prihodi i primici | Z16: =LEFT(V16,3) -> 671 | AA16: =LEFT(V16,2) -> 67 | AB16: 566
A17: =IF(E17="","",VLOOKUP('OPĆI DIO'!$C$1,'OPĆI DIO'!$N$4:$W$150,10,FALSE)) | B17: =IF(E17="","",VLOOKUP('OPĆI DIO'!$C$1,'OPĆI DIO'!$N$4:$W$150,9,FALSE)) | C17: =IFERROR(VLOOKUP(G17,$U$6:$AB$538,8,FALSE),"") | E17: =IFERROR(VLOOKUP(G17,$U$6:$AB$538,5,FALSE),"") | F17: =IFERROR(VLOOKUP(G17,$U$6:$AB$538,2,FALSE),"") | H17: =IFERROR(VLOOKUP(G17,$U$6:$AB$538,3,FALSE),"") | N17: =IF(E17="","",'OPĆI DIO'!$C$1) | O17: =LEFT(F17,2) | P17: =LEFT(F17,3) | Q17: 50 | R17: 50810 Pomoći iz državnog proračuna kroz namjenske primitke od zaduživanja – ostali | S17: 50 | U17: =V17&"-"&X17 -> 67111-567 | V17: 67111 | W17: Prihodi iz nadležnog proračuna za financiranje rashoda poslovanja | X17: 567 | Y17: Socijalni fond za klimatsku politiku - predfinanciranje iz izvora 11 Opći prihodi i primici | Z17: =LEFT(V17,3) -> 671 | AA17: =LEFT(V17,2) -> 67 | AB17: 567
A18: =IF(E18="","",VLOOKUP('OPĆI DIO'!$C$1,'OPĆI DIO'!$N$4:$W$150,10,FALSE)) | B18: =IF(E18="","",VLOOKUP('OPĆI DIO'!$C$1,'OPĆI DIO'!$N$4:$W$150,9,FALSE)) | C18: =IFERROR(VLOOKUP(G18,$U$6:$AB$538,8,FALSE),"") | E18: =IFERROR(VLOOKUP(G18,$U$6:$AB$538,5,FALSE),"") | F18: =IFERROR(VLOOKUP(G18,$U$6:$AB$538,2,FALSE),"") | H18: =IFERROR(VLOOKUP(G18,$U$6:$AB$538,3,FALSE),"") | N18: =IF(E18="","",'OPĆI DIO'!$C$1) | O18: =LEFT(F18,2) | P18: =LEFT(F18,3) | Q18: 50 | R18: 50815 Pomoći iz državnog proračuna kroz namjenske primitke od zaduživanja – NPOO | S18: 50 | U18: =V18&"-"&X18 -> 67111-575 | V18: 67111 | W18: Prihodi iz nadležnog proračuna za financiranje rashoda poslovanja | X18: 575 | Y18: Fond za azil, migracije i integraciju - predfinanciranje iz izvora 11 Opći prihodi i primici | Z18: =LEFT(V18,3) -> 671 | AA18: =LEFT(V18,2) -> 67 | AB18: 575
... A45: =IF(E45="","",VLOOKUP('OPĆI DIO'!$C$1,'OPĆI DIO'!$N$4:$W$150,10,FALSE)) | B45: =IF(E45="","",VLOOKUP('OPĆI DIO'!$C$1,'OPĆI DIO'!$N$4:$W$150,9,FALSE)) | C45: =IFERROR(VLOOKUP(G45,$U$6:$AB$538,8,FALSE),"") | E45: =IFERROR(VLOOKUP(G45,$U$6:$AB$538,5,FALSE),"") | F45: =IFERROR(VLOOKUP(G45,$U$6:$AB$538,2,FALSE),"") | H45: =IFERROR(VLOOKUP(G45,$U$6:$AB$538,3,FALSE),"") | N45: =IF(E45="","",'OPĆI DIO'!$C$1) | O45: =LEFT(F45,2) | P45: =LEFT(F45,3) | Q45: 815 | R45: Mehanizam za oporavak i otpornost (NPOO – zajam) | S45: 815 | U45: =V45&"-"&X45 -> 66151-31 | V45: 66151 | W45: Prihodi od pruženih usluga | X45: 31 | Y45: Vlastiti prihodi | Z45: =LEFT(V45,3) -> 661 | AA45: =LEFT(V45,2) -> 66 | AB45: 31
A46: =IF(E46="","",VLOOKUP('OPĆI DIO'!$C$1,'OPĆI DIO'!$N$4:$W$150,10,FALSE)) | B46: =IF(E46="","",VLOOKUP('OPĆI DIO'!$C$1,'OPĆI DIO'!$N$4:$W$150,9,FALSE)) | C46: =IFERROR(VLOOKUP(G46,$U$6:$AB$538,8,FALSE),"") | E46: =IFERROR(VLOOKUP(G46,$U$6:$AB$538,5,FALSE),"") | F46: =IFERROR(VLOOKUP(G46,$U$6:$AB$538,2,FALSE),"") | H46: =IFERROR(VLOOKUP(G46,$U$6:$AB$538,3,FALSE),"") | N46: =IF(E46="","",'OPĆI DIO'!$C$1) | O46: =LEFT(F46,2) | P46: =LEFT(F46,3) | U46: =V46&"-"&X46 -> 66311-61 | V46: 66311 | W46: Tekuće donacije od fizičkih osoba | X46: 61 | Y46: Donacije | Z46: =LEFT(V46,3) -> 663 | AA46: =LEFT(V46,2) -> 66 | AB46: 61
A47: =IF(E47="","",VLOOKUP('OPĆI DIO'!$C$1,'OPĆI DIO'!$N$4:$W$150,10,FALSE)) | B47: =IF(E47="","",VLOOKUP('OPĆI DIO'!$C$1,'OPĆI DIO'!$N$4:$W$150,9,FALSE)) | C47: =IFERROR(VLOOKUP(G47,$U$6:$AB$538,8,FALSE),"") | E47: =IFERROR(VLOOKUP(G47,$U$6:$AB$538,5,FALSE),"") | F47: =IFERROR(VLOOKUP(G47,$U$6:$AB$538,2,FALSE),"") | H47: =IFERROR(VLOOKUP(G47,$U$6:$AB$538,3,FALSE),"") | N47: =IF(E47="","",'OPĆI DIO'!$C$1) | O47: =LEFT(F47,2) | P47: =LEFT(F47,3) | U47: =V47&"-"&X47 -> 66312-561 | V47: 66312 | W47: Tekuće donacije od neprofitnih organizacija | X47: 561 | Y47: Europski socijalni fond plus – predfinanciranje iz izvora 11 Opći prihodi i primici | Z47: =LEFT(V47,3) -> 663 | AA47: =LEFT(V47,2) -> 66 | AB47: 561
A48: =IF(E48="","",VLOOKUP('OPĆI DIO'!$C$1,'OPĆI DIO'!$N$4:$W$150,10,FALSE)) | B48: =IF(E48="","",VLOOKUP('OPĆI DIO'!$C$1,'OPĆI DIO'!$N$4:$W$150,9,FALSE)) | C48: =IFERROR(VLOOKUP(G48,$U$6:$AB$538,8,FALSE),"") | E48: =IFERROR(VLOOKUP(G48,$U$6:$AB$538,5,FALSE),"") | F48: =IFERROR(VLOOKUP(G48,$U$6:$AB$538,2,FALSE),"") | H48: =IFERROR(VLOOKUP(G48,$U$6:$AB$538,3,FALSE),"") | N48: =IF(E48="","",'OPĆI DIO'!$C$1) | O48: =LEFT(F48,2) | P48: =LEFT(F48,3) | U48: =V48&"-"&X48 -> 66312-562 | V48: 66312 | W48: Tekuće donacije od neprofitnih organizacija | X48: 562 | Y48: Kohezijski fond - predfinanciranje iz izvora 11 Opći prihodi i primici | Z48: =LEFT(V48,3) -> 663 | AA48: =LEFT(V48,2) -> 66 | AB48: 562
A49: =IF(E49="","",VLOOKUP('OPĆI DIO'!$C$1,'OPĆI DIO'!$N$4:$W$150,10,FALSE)) | B49: =IF(E49="","",VLOOKUP('OPĆI DIO'!$C$1,'OPĆI DIO'!$N$4:$W$150,9,FALSE)) | C49: =IFERROR(VLOOKUP(G49,$U$6:$AB$538,8,FALSE),"") | E49: =IFERROR(VLOOKUP(G49,$U$6:$AB$538,5,FALSE),"") | F49: =IFERROR(VLOOKUP(G49,$U$6:$AB$538,2,FALSE),"") | H49: =IFERROR(VLOOKUP(G49,$U$6:$AB$538,3,FALSE),"") | N49: =IF(E49="","",'OPĆI DIO'!$C$1) | O49: =LEFT(F49,2) | P49: =LEFT(F49,3) | U49: =V49&"-"&X49 -> 66312-563 | V49: 66312 | W49: Tekuće donacije od neprofitnih organizacija | X49: 563 | Y49: Europski fond za regionalni razvoj - predfinanciranje iz izvora 11 Opći prihodi i primici | Z49: =LEFT(V49,3) -> 663 | AA49: =LEFT(V49,2) -> 66 | AB49: 563
A50: =IF(E50="","",VLOOKUP('OPĆI DIO'!$C$1,'OPĆI DIO'!$N$4:$W$150,10,FALSE)) | B50: =IF(E50="","",VLOOKUP('OPĆI DIO'!$C$1,'OPĆI DIO'!$N$4:$W$150,9,FALSE)) | C50: =IFERROR(VLOOKUP(G50,$U$6:$AB$538,8,FALSE),"") | E50: =IFERROR(VLOOKUP(G50,$U$6:$AB$538,5,FALSE),"") | F50: =IFERROR(VLOOKUP(G50,$U$6:$AB$538,2,FALSE),"") | H50: =IFERROR(VLOOKUP(G50,$U$6:$AB$538,3,FALSE),"") | N50: =IF(E50="","",'OPĆI DIO'!$C$1) | O50: =LEFT(F50,2) | P50: =LEFT(F50,3) | U50: 66312-56331 | V50: 66312 | W50: Tekuće donacije od neprofitnih organizacija | X50: 56331 | Y50: Europski fond za regionalni razvoj - predfinanciranje iz izvora 31 Vlastiti prihodi | Z50: =LEFT(V50,3) -> 663 | AA50: =LEFT(V50,2) -> 66 | AB50: 56331
A51: =IF(E51="","",VLOOKUP('OPĆI DIO'!$C$1,'OPĆI DIO'!$N$4:$W$150,10,FALSE)) | B51: =IF(E51="","",VLOOKUP('OPĆI DIO'!$C$1,'OPĆI DIO'!$N$4:$W$150,9,FALSE)) | C51: =IFERROR(VLOOKUP(G51,$U$6:$AB$538,8,FALSE),"") | E51: =IFERROR(VLOOKUP(G51,$U$6:$AB$538,5,FALSE),"") | F51: =IFERROR(VLOOKUP(G51,$U$6:$AB$538,2,FALSE),"") | H51: =IFERROR(VLOOKUP(G51,$U$6:$AB$538,3,FALSE),"") | N51: =IF(E51="","",'OPĆI DIO'!$C$1) | O51: =LEFT(F51,2) | P51: =LEFT(F51,3) | U51: 66312-56343 | V51: 66312 | W51: Tekuće donacije od neprofitnih organizacija | X51: 56343 | Y51: Europski fond za regionalni razvoj - predfinanciranje iz izvora 43 Ostali prihodi za posebne namjene | Z51: =LEFT(V51,3) -> 663 | AA51: =LEFT(V51,2) -> 66 | AB51: 56343
A52: =IF(E52="","",VLOOKUP('OPĆI DIO'!$C$1,'OPĆI DIO'!$N$4:$W$150,10,FALSE)) | B52: =IF(E52="","",VLOOKUP('OPĆI DIO'!$C$1,'OPĆI DIO'!$N$4:$W$150,9,FALSE)) | C52: =IFERROR(VLOOKUP(G52,$U$6:$AB$538,8,FALSE),"") | E52: =IFERROR(VLOOKUP(G52,$U$6:$AB$538,5,FALSE),"") | F52: =IFERROR(VLOOKUP(G52,$U$6:$AB$538,2,FALSE),"") | H52: =IFERROR(VLOOKUP(G52,$U$6:$AB$538,3,FALSE),"") | N52: =IF(E52="","",'OPĆI DIO'!$C$1) | O52: =LEFT(F52,2) | P52: =LEFT(F52,3) | U52: =V52&"-"&X52 -> 66312-564 | V52: 66312 | W52: Tekuće donacije od neprofitnih organizacija | X52: 564 | Y52: Fond za pomorstvo, ribarstvo i akvakulturu - predfinanciranje iz izvora 11 Opći prihodi i primici | Z52: =LEFT(V52,3) -> 663 | AA52: =LEFT(V52,2) -> 66 | AB52: 564
A53: =IF(E53="","",VLOOKUP('OPĆI DIO'!$C$1,'OPĆI DIO'!$N$4:$W$150,10,FALSE)) | B53: =IF(E53="","",VLOOKUP('OPĆI DIO'!$C$1,'OPĆI DIO'!$N$4:$W$150,9,FALSE)) | C53: =IFERROR(VLOOKUP(G53,$U$6:$AB$538,8,FALSE),"") | E53: =IFERROR(VLOOKUP(G53,$U$6:$AB$538,5,FALSE),"") | F53: =IFERROR(VLOOKUP(G53,$U$6:$AB$538,2,FALSE),"") | H53: =IFERROR(VLOOKUP(G53,$U$6:$AB$538,3,FALSE),"") | N53: =IF(E53="","",'OPĆI DIO'!$C$1) | O53: =LEFT(F53,2) | P53: =LEFT(F53,3) | U53: =V53&"-"&X53 -> 66312-565 | V53: 66312 | W53: Tekuće donacije od neprofitnih organizacija | X53: 565 | Y53: Europski poljoprivredni fond za ruralni razvoj - predfinanciranje iz izvora 11 Opći prihodi i primici | Z53: =LEFT(V53,3) -> 663 | AA53: =LEFT(V53,2) -> 66 | AB53: 565
A54: =IF(E54="","",VLOOKUP('OPĆI DIO'!$C$1,'OPĆI DIO'!$N$4:$W$150,10,FALSE)) | B54: =IF(E54="","",VLOOKUP('OPĆI DIO'!$C$1,'OPĆI DIO'!$N$4:$W$150,9,FALSE)) | C54: =IFERROR(VLOOKUP(G54,$U$6:$AB$538,8,FALSE),"") | E54: =IFERROR(VLOOKUP(G54,$U$6:$AB$538,5,FALSE),"") | F54: =IFERROR(VLOOKUP(G54,$U$6:$AB$538,2,FALSE),"") | H54: =IFERROR(VLOOKUP(G54,$U$6:$AB$538,3,FALSE),"") | N54: =IF(E54="","",'OPĆI DIO'!$C$1) | O54: =LEFT(F54,2) | P54: =LEFT(F54,3) | U54: =V54&"-"&X54 -> 66312-566 | V54: 66312 | W54: Tekuće donacije od neprofitnih organizacija | X54: 566 | Y54: Modernizacijski fond - predfinanciranje iz izvora 11 Opći prihodi i primici | Z54: =LEFT(V54,3) -> 663 | AA54: =LEFT(V54,2) -> 66 | AB54: 566
A55: =IF(E55="","",VLOOKUP('OPĆI DIO'!$C$1,'OPĆI DIO'!$N$4:$W$150,10,FALSE)) | B55: =IF(E55="","",VLOOKUP('OPĆI DIO'!$C$1,'OPĆI DIO'!$N$4:$W$150,9,FALSE)) | C55: =IFERROR(VLOOKUP(G55,$U$6:$AB$538,8,FALSE),"") | E55: =IFERROR(VLOOKUP(G55,$U$6:$AB$538,5,FALSE),"") | F55: =IFERROR(VLOOKUP(G55,$U$6:$AB$538,2,FALSE),"") | H55: =IFERROR(VLOOKUP(G55,$U$6:$AB$538,3,FALSE),"") | N55: =IF(E55="","",'OPĆI DIO'!$C$1) | O55: =LEFT(F55,2) | P55: =LEFT(F55,3) | U55: =V55&"-"&X55 -> 66312-567 | V55: 66312 | W55: Tekuće donacije od neprofitnih organizacija | X55: 567 | Y55: Socijalni fond za klimatsku politiku - predfinanciranje iz izvora 11 Opći prihodi i primici | Z55: =LEFT(V55,3) -> 663 | AA55: =LEFT(V55,2) -> 66 | AB55: 567
A56: =IF(E56="","",VLOOKUP('OPĆI DIO'!$C$1,'OPĆI DIO'!$N$4:$W$150,10,FALSE)) | B56: =IF(E56="","",VLOOKUP('OPĆI DIO'!$C$1,'OPĆI DIO'!$N$4:$W$150,9,FALSE)) | C56: =IFERROR(VLOOKUP(G56,$U$6:$AB$538,8,FALSE),"") | E56: =IFERROR(VLOOKUP(G56,$U$6:$AB$538,5,FALSE),"") | F56: =IFERROR(VLOOKUP(G56,$U$6:$AB$538,2,FALSE),"") | H56: =IFERROR(VLOOKUP(G56,$U$6:$AB$538,3,FALSE),"") | N56: =IF(E56="","",'OPĆI DIO'!$C$1) | O56: =LEFT(F56,2) | P56: =LEFT(F56,3) | U56: =V56&"-"&X56 -> 66312-575 | V56: 66312 | W56: Tekuće donacije od neprofitnih organizacija | X56: 575 | Y56: Fond za azil, migracije i integraciju - predfinanciranje iz izvora 11 Opći prihodi i primici | Z56: =LEFT(V56,3) -> 663 | AA56: =LEFT(V56,2) -> 66 | AB56: 575
A57: =IF(E57="","",VLOOKUP('OPĆI DIO'!$C$1,'OPĆI DIO'!$N$4:$W$150,10,FALSE)) | B57: =IF(E57="","",VLOOKUP('OPĆI DIO'!$C$1,'OPĆI DIO'!$N$4:$W$150,9,FALSE)) | C57: =IFERROR(VLOOKUP(G57,$U$6:$AB$538,8,FALSE),"") | E57: =IFERROR(VLOOKUP(G57,$U$6:$AB$538,5,FALSE),"") | F57: =IFERROR(VLOOKUP(G57,$U$6:$AB$538,2,FALSE),"") | H57: =IFERROR(VLOOKUP(G57,$U$6:$AB$538,3,FALSE),"") | N57: =IF(E57="","",'OPĆI DIO'!$C$1) | O57: =LEFT(F57,2) | P57: =LEFT(F57,3) | U57: =V57&"-"&X57 -> 66312-577 | V57: 66312 | W57: Tekuće donacije od neprofitnih organizacija | X57: 577 | Y57: Fond za pravednu tranziciju - predfinanciranje iz izvora 11 Opći prihodi i primici | Z57: =LEFT(V57,3) -> 663 | AA57: =LEFT(V57,2) -> 66 | AB57: 577
A58: =IF(E58="","",VLOOKUP('OPĆI DIO'!$C$1,'OPĆI DIO'!$N$4:$W$150,10,FALSE)) | B58: =IF(E58="","",VLOOKUP('OPĆI DIO'!$C$1,'OPĆI DIO'!$N$4:$W$150,9,FALSE)) | C58: =IFERROR(VLOOKUP(G58,$U$6:$AB$538,8,FALSE),"") | E58: =IFERROR(VLOOKUP(G58,$U$6:$AB$538,5,FALSE),"") | F58: =IFERROR(VLOOKUP(G58,$U$6:$AB$538,2,FALSE),"") | H58: =IFERROR(VLOOKUP(G58,$U$6:$AB$538,3,FALSE),"") | N58: =IF(E58="","",'OPĆI DIO'!$C$1) | O58: =LEFT(F58,2) | P58: =LEFT(F58,3) | U58: =V58&"-"&X58 -> 66312-578 | V58: 66312 | W58: Tekuće donacije od neprofitnih organizacija | X58: 578 | Y58: Fond za unutarnju sigurnost - predfinanciranje iz izvora 11 Opći prihodi i primici | Z58: =LEFT(V58,3) -> 663 | AA58: =LEFT(V58,2) -> 66 | AB58: 578
A59: =IF(E59="","",VLOOKUP('OPĆI DIO'!$C$1,'OPĆI DIO'!$N$4:$W$150,10,FALSE)) | B59: =IF(E59="","",VLOOKUP('OPĆI DIO'!$C$1,'OPĆI DIO'!$N$4:$W$150,9,FALSE)) | C59: =IFERROR(VLOOKUP(G59,$U$6:$AB$538,8,FALSE),"") | E59: =IFERROR(VLOOKUP(G59,$U$6:$AB$538,5,FALSE),"") | F59: =IFERROR(VLOOKUP(G59,$U$6:$AB$538,2,FALSE),"") | H59: =IFERROR(VLOOKUP(G59,$U$6:$AB$538,3,FALSE),"") | N59: =IF(E59="","",'OPĆI DIO'!$C$1) | O59: =LEFT(F59,2) | P59: =LEFT(F59,3) | U59: =V59&"-"&X59 -> 66312-579 | V59: 66312 | W59: Tekuće donacije od neprofitnih organizacija | X59: 579 | Y59: Fond za integrirano upravljanje granicama - predfinanciranje iz izvora 11 Opći prihodi i primici | Z59: =LEFT(V59,3) -> 663 | AA59: =LEFT(V59,2) -> 66 | AB59: 579
A60: =IF(E60="","",VLOOKUP('OPĆI DIO'!$C$1,'OPĆI DIO'!$N$4:$W$150,10,FALSE)) | B60: =IF(E60="","",VLOOKUP('OPĆI DIO'!$C$1,'OPĆI DIO'!$N$4:$W$150,9,FALSE)) | C60: =IFERROR(VLOOKUP(G60,$U$6:$AB$538,8,FALSE),"") | E60: =IFERROR(VLOOKUP(G60,$U$6:$AB$538,5,FALSE),"") | F60: =IFERROR(VLOOKUP(G60,$U$6:$AB$538,2,FALSE),"") | H60: =IFERROR(VLOOKUP(G60,$U$6:$AB$538,3,FALSE),"") | N60: =IF(E60="","",'OPĆI DIO'!$C$1) | O60: =LEFT(F60,2) | P60: =LEFT(F60,3) | U60: =V60&"-"&X60 -> 66312-581 | V60: 66312 | W60: Tekuće donacije od neprofitnih organizacija | X60: 581 | Y60: Mehanizam za oporavak i otpornost – bespovratna sredstva – raspoloživ predujam ili unaprijed naplaćen prihod | Z60: =LEFT(V60,3) -> 663 | AA60: =LEFT(V60,2) -> 66 | AB60: 581
A61: =IF(E61="","",VLOOKUP('OPĆI DIO'!$C$1,'OPĆI DIO'!$N$4:$W$150,10,FALSE)) | B61: =IF(E61="","",VLOOKUP('OPĆI DIO'!$C$1,'OPĆI DIO'!$N$4:$W$150,9,FALSE)) | C61: =IFERROR(VLOOKUP(G61,$U$6:$AB$538,8,FALSE),"") | E61: =IFERROR(VLOOKUP(G61,$U$6:$AB$538,5,FALSE),"") | F61: =IFERROR(VLOOKUP(G61,$U$6:$AB$538,2,FALSE),"") | H61: =IFERROR(VLOOKUP(G61,$U$6:$AB$538,3,FALSE),"") | N61: =IF(E61="","",'OPĆI DIO'!$C$1) | O61: =LEFT(F61,2) | P61: =LEFT(F61,3) | U61: =V61&"-"&X61 -> 66312-61 | V61: 66312 | W61: Tekuće donacije od neprofitnih organizacija | X61: 61 | Y61: Donacije | Z61: =LEFT(V61,3) -> 663 | AA61: =LEFT(V61,2) -> 66 | AB61: 61
A62: =IF(E62="","",VLOOKUP('OPĆI DIO'!$C$1,'OPĆI DIO'!$N$4:$W$150,10,FALSE)) | B62: =IF(E62="","",VLOOKUP('OPĆI DIO'!$C$1,'OPĆI DIO'!$N$4:$W$150,9,FALSE)) | C62: =IFERROR(VLOOKUP(G62,$U$6:$AB$538,8,FALSE),"") | E62: =IFERROR(VLOOKUP(G62,$U$6:$AB$538,5,FALSE),"") | F62: =IFERROR(VLOOKUP(G62,$U$6:$AB$538,2,FALSE),"") | H62: =IFERROR(VLOOKUP(G62,$U$6:$AB$538,3,FALSE),"") | N62: =IF(E62="","",'OPĆI DIO'!$C$1) | O62: =LEFT(F62,2) | P62: =LEFT(F62,3) | U62: =V62&"-"&X62 -> 66313-561 | V62: 66313 | W62: Tekuće donacije od trgovačkih društava | X62: 561 | Y62: Europski socijalni fond plus – predfinanciranje iz izvora 11 Opći prihodi i primici | Z62: =LEFT(V62,3) -> 663 | AA62: =LEFT(V62,2) -> 66 | AB62: 561
A63: =IF(E63="","",VLOOKUP('OPĆI DIO'!$C$1,'OPĆI DIO'!$N$4:$W$150,10,FALSE)) | B63: =IF(E63="","",VLOOKUP('OPĆI DIO'!$C$1,'OPĆI DIO'!$N$4:$W$150,9,FALSE)) | C63: =IFERROR(VLOOKUP(G63,$U$6:$AB$538,8,FALSE),"") | E63: =IFERROR(VLOOKUP(G63,$U$6:$AB$538,5,FALSE),"") | F63: =IFERROR(VLOOKUP(G63,$U$6:$AB$538,2,FALSE),"") | H63: =IFERROR(VLOOKUP(G63,$U$6:$AB$538,3,FALSE),"") | N63: =IF(E63="","",'OPĆI DIO'!$C$1) | O63: =LEFT(F63,2) | P63: =LEFT(F63,3) | U63: =V63&"-"&X63 -> 66313-562 | V63: 66313 | W63: Tekuće donacije od trgovačkih društava | X63: 562 | Y63: Kohezijski fond - predfinanciranje iz izvora 11 Opći prihodi i primici | Z63: =LEFT(V63,3) -> 663 | AA63: =LEFT(V63,2) -> 66 | AB63: 562
A64: =IF(E64="","",VLOOKUP('OPĆI DIO'!$C$1,'OPĆI DIO'!$N$4:$W$150,10,FALSE)) | B64: =IF(E64="","",VLOOKUP('OPĆI DIO'!$C$1,'OPĆI DIO'!$N$4:$W$150,9,FALSE)) | C64: =IFERROR(VLOOKUP(G64,$U$6:$AB$538,8,FALSE),"") | E64: =IFERROR(VLOOKUP(G64,$U$6:$AB$538,5,FALSE),"") | F64: =IFERROR(VLOOKUP(G64,$U$6:$AB$538,2,FALSE),"") | H64: =IFERROR(VLOOKUP(G64,$U$6:$AB$538,3,FALSE),"") | N64: =IF(E64="","",'OPĆI DIO'!$C$1) | O64: =LEFT(F64,2) | P64: =LEFT(F64,3) | T64: EVT | U64: =V64&"-"&X64 -> 66313-563 | V64: 66313 | W64: Tekuće donacije od trgovačkih društava | X64: 563 | Y64: Europski fond za regionalni razvoj - predfinanciranje iz izvora 11 Opći prihodi i primici | Z64: =LEFT(V64,3) -> 663 | AA64: =LEFT(V64,2) -> 66 | AB64: 563
A65: =IF(E65="","",VLOOKUP('OPĆI DIO'!$C$1,'OPĆI DIO'!$N$4:$W$150,10,FALSE)) | B65: =IF(E65="","",VLOOKUP('OPĆI DIO'!$C$1,'OPĆI DIO'!$N$4:$W$150,9,FALSE)) | C65: =IFERROR(VLOOKUP(G65,$U$6:$AB$538,8,FALSE),"") | E65: =IFERROR(VLOOKUP(G65,$U$6:$AB$538,5,FALSE),"") | F65: =IFERROR(VLOOKUP(G65,$U$6:$AB$538,2,FALSE),"") | H65: =IFERROR(VLOOKUP(G65,$U$6:$AB$538,3,FALSE),"") | N65: =IF(E65="","",'OPĆI DIO'!$C$1) | O65: =LEFT(F65,2) | P65: =LEFT(F65,3) | T65: EVT | U65: 66313-56331 | V65: 66313 | W65: Tekuće donacije od trgovačkih društava | X65: 56331 | Y65: Europski fond za regionalni razvoj - predfinanciranje iz izvora 31 Vlastiti prihodi | Z65: =LEFT(V65,3) -> 663 | AA65: =LEFT(V65,2) -> 66 | AB65: 56331
A66: =IF(E66="","",VLOOKUP('OPĆI DIO'!$C$1,'OPĆI DIO'!$N$4:$W$150,10,FALSE)) | B66: =IF(E66="","",VLOOKUP('OPĆI DIO'!$C$1,'OPĆI DIO'!$N$4:$W$150,9,FALSE)) | C66: =IFERROR(VLOOKUP(G66,$U$6:$AB$538,8,FALSE),"") | E66: =IFERROR(VLOOKUP(G66,$U$6:$AB$538,5,FALSE),"") | F66: =IFERROR(VLOOKUP(G66,$U$6:$AB$538,2,FALSE),"") | H66: =IFERROR(VLOOKUP(G66,$U$6:$AB$538,3,FALSE),"") | N66: =IF(E66="","",'OPĆI DIO'!$C$1) | O66: =LEFT(F66,2) | P66: =LEFT(F66,3) | T66: EVT | U66: 66313-56343 | V66: 66313 | W66: Tekuće donacije od trgovačkih društava | X66: 56343 | Y66: Europski fond za regionalni razvoj - predfinanciranje iz izvora 43 Ostali prihodi za posebne namjene | Z66: =LEFT(V66,3) -> 663 | AA66: =LEFT(V66,2) -> 66 | AB66: 56343
A67: =IF(E67="","",VLOOKUP('OPĆI DIO'!$C$1,'OPĆI DIO'!$N$4:$W$150,10,FALSE)) | B67: =IF(E67="","",VLOOKUP('OPĆI DIO'!$C$1,'OPĆI DIO'!$N$4:$W$150,9,FALSE)) | C67: =IFERROR(VLOOKUP(G67,$U$6:$AB$538,8,FALSE),"") | E67: =IFERROR(VLOOKUP(G67,$U$6:$AB$538,5,FALSE),"") | F67: =IFERROR(VLOOKUP(G67,$U$6:$AB$538,2,FALSE),"") | H67: =IFERROR(VLOOKUP(G67,$U$6:$AB$538,3,FALSE),"") | N67: =IF(E67="","",'OPĆI DIO'!$C$1) | O67: =LEFT(F67,2) | P67: =LEFT(F67,3) | T67: EVT | U67: =V67&"-"&X67 -> 66313-564 | V67: 66313 | W67: Tekuće donacije od trgovačkih društava | X67: 564 | Y67: Fond za pomorstvo, ribarstvo i akvakulturu - predfinanciranje iz izvora 11 Opći prihodi i primici | Z67: =LEFT(V67,3) -> 663 | AA67: =LEFT(V67,2) -> 66 | AB67: 564
A68: =IF(E68="","",VLOOKUP('OPĆI DIO'!$C$1,'OPĆI DIO'!$N$4:$W$150,10,FALSE)) | B68: =IF(E68="","",VLOOKUP('OPĆI DIO'!$C$1,'OPĆI DIO'!$N$4:$W$150,9,FALSE)) | C68: =IFERROR(VLOOKUP(G68,$U$6:$AB$538,8,FALSE),"") | E68: =IFERROR(VLOOKUP(G68,$U$6:$AB$538,5,FALSE),"") | F68: =IFERROR(VLOOKUP(G68,$U$6:$AB$538,2,FALSE),"") | H68: =IFERROR(VLOOKUP(G68,$U$6:$AB$538,3,FALSE),"") | N68: =IF(E68="","",'OPĆI DIO'!$C$1) | O68: =LEFT(F68,2) | P68: =LEFT(F68,3) | U68: =V68&"-"&X68 -> 66313-565 | V68: 66313 | W68: Tekuće donacije od trgovačkih društava | X68: 565 | Y68: Europski poljoprivredni fond za ruralni razvoj - predfinanciranje iz izvora 11 Opći prihodi i primici | Z68: =LEFT(V68,3) -> 663 | AA68: =LEFT(V68,2) -> 66 | AB68: 565
A69: =IF(E69="","",VLOOKUP('OPĆI DIO'!$C$1,'OPĆI DIO'!$N$4:$W$150,10,FALSE)) | B69: =IF(E69="","",VLOOKUP('OPĆI DIO'!$C$1,'OPĆI DIO'!$N$4:$W$150,9,FALSE)) | C69: =IFERROR(VLOOKUP(G69,$U$6:$AB$538,8,FALSE),"") | E69: =IFERROR(VLOOKUP(G69,$U$6:$AB$538,5,FALSE),"") | F69: =IFERROR(VLOOKUP(G69,$U$6:$AB$538,2,FALSE),"") | H69: =IFERROR(VLOOKUP(G69,$U$6:$AB$538,3,FALSE),"") | N69: =IF(E69="","",'OPĆI DIO'!$C$1) | O69: =LEFT(F69,2) | P69: =LEFT(F69,3) | T69: EVT | U69: =V69&"-"&X69 -> 66313-566 | V69: 66313 | W69: Tekuće donacije od trgovačkih društava | X69: 566 | Y69: Modernizacijski fond - predfinanciranje iz izvora 11 Opći prihodi i primici | Z69: =LEFT(V69,3) -> 663 | AA69: =LEFT(V69,2) -> 66 | AB69: 566
A70: =IF(E70="","",VLOOKUP('OPĆI DIO'!$C$1,'OPĆI DIO'!$N$4:$W$150,10,FALSE)) | B70: =IF(E70="","",VLOOKUP('OPĆI DIO'!$C$1,'OPĆI DIO'!$N$4:$W$150,9,FALSE)) | C70: =IFERROR(VLOOKUP(G70,$U$6:$AB$538,8,FALSE),"") | E70: =IFERROR(VLOOKUP(G70,$U$6:$AB$538,5,FALSE),"") | F70: =IFERROR(VLOOKUP(G70,$U$6:$AB$538,2,FALSE),"") | H70: =IFERROR(VLOOKUP(G70,$U$6:$AB$538,3,FALSE),"") | N70: =IF(E70="","",'OPĆI DIO'!$C$1) | U70: =V70&"-"&X70 -> 66313-567 | V70: 66313 | W70: Tekuće donacije od trgovačkih društava | X70: 567 | Y70: Socijalni fond za klimatsku politiku - predfinanciranje iz izvora 11 Opći prihodi i primici | Z70: =LEFT(V70,3) -> 663 | AA70: =LEFT(V70,2) -> 66 | AB70: 567
A71: =IF(E71="","",VLOOKUP('OPĆI DIO'!$C$1,'OPĆI DIO'!$N$4:$W$150,10,FALSE)) | B71: =IF(E71="","",VLOOKUP('OPĆI DIO'!$C$1,'OPĆI DIO'!$N$4:$W$150,9,FALSE)) | C71: =IFERROR(VLOOKUP(G71,$U$6:$AB$538,8,FALSE),"") | F71: =IFERROR(VLOOKUP(G71,$U$6:$AB$538,2,FALSE),"") | H71: =IFERROR(VLOOKUP(G71,$U$6:$AB$538,3,FALSE),"") | N71: =IF(E71="","",'OPĆI DIO'!$C$1) | U71: =V71&"-"&X71 -> 66313-575 | V71: 66313 | W71: Tekuće donacije od trgovačkih društava | X71: 575 | Y71: Fond za azil, migracije i integraciju - predfinanciranje iz izvora 11 Opći prihodi i primici | Z71: =LEFT(V71,3) -> 663 | AA71: =LEFT(V71,2) -> 66 | AB71: 575
A72: =IF(E72="","",VLOOKUP('OPĆI DIO'!$C$1,'OPĆI DIO'!$N$4:$W$150,10,FALSE)) | B72: =IF(E72="","",VLOOKUP('OPĆI DIO'!$C$1,'OPĆI DIO'!$N$4:$W$150,9,FALSE)) | C72: =IFERROR(VLOOKUP(G72,$U$6:$AB$538,8,FALSE),"") | F72: =IFERROR(VLOOKUP(G72,$U$6:$AB$538,2,FALSE),"") | H72: =IFERROR(VLOOKUP(G72,$U$6:$AB$538,3,FALSE),"") | N72: =IF(E72="","",'OPĆI DIO'!$C$1) | U72: =V72&"-"&X72 -> 66313-577 | V72: 66313 | W72: Tekuće donacije od trgovačkih društava | X72: 577 | Y72: Fond za pravednu tranziciju - predfinanciranje iz izvora 11 Opći prihodi i primici | Z72: =LEFT(V72,3) -> 663 | AA72: =LEFT(V72,2) -> 66 | AB72: 577
A73: =IF(E73="","",VLOOKUP('OPĆI DIO'!$C$1,'OPĆI DIO'!$N$4:$W$150,10,FALSE)) | B73: =IF(E73="","",VLOOKUP('OPĆI DIO'!$C$1,'OPĆI DIO'!$N$4:$W$150,9,FALSE)) | C73: =IFERROR(VLOOKUP(G73,$U$6:$AB$538,8,FALSE),"") | F73: =IFERROR(VLOOKUP(G73,$U$6:$AB$538,2,FALSE),"") | H73: =IFERROR(VLOOKUP(G73,$U$6:$AB$538,3,FALSE),"") | N73: =IF(E73="","",'OPĆI DIO'!$C$1) | U73: =V73&"-"&X73 -> 66313-578 | V73: 66313 | W73: Tekuće donacije od trgovačkih društava | X73: 578 | Y73: Fond za unutarnju sigurnost - predfinanciranje iz izvora 11 Opći prihodi i primici | Z73: =LEFT(V73,3) -> 663 | AA73: =LEFT(V73,2) -> 66 | AB73: 578
A74: =IF(E74="","",VLOOKUP('OPĆI DIO'!$C$1,'OPĆI DIO'!$N$4:$W$150,10,FALSE)) | B74: =IF(E74="","",VLOOKUP('OPĆI DIO'!$C$1,'OPĆI DIO'!$N$4:$W$150,9,FALSE)) | C74: =IFERROR(VLOOKUP(G74,$U$6:$AB$538,8,FALSE),"") | E74: =IFERROR(VLOOKUP(F74,$V$6:$Y$122,4,FALSE),"") | F74: =IFERROR(VLOOKUP(G74,$U$6:$AB$538,2,FALSE),"") | H74: =IFERROR(VLOOKUP(G74,$U$6:$AB$538,3,FALSE),"") | N74: =IF(E74="","",'OPĆI DIO'!$C$1) | O74: =LEFT(F74,2) | P74: =LEFT(F74,3) | T74: EVT | U74: =V74&"-"&X74 -> 66313-579 | V74: 66313 | W74: Tekuće donacije od trgovačkih društava | X74: 579 | Y74: Fond za integrirano upravljanje granicama - predfinanciranje iz izvora 11 Opći prihodi i primici | Z74: =LEFT(V74,3) -> 663 | AA74: =LEFT(V74,2) -> 66 | AB74: 579
A75: =IF(E75="","",VLOOKUP('OPĆI DIO'!$C$1,'OPĆI DIO'!$N$4:$W$150,10,FALSE)) | B75: =IF(E75="","",VLOOKUP('OPĆI DIO'!$C$1,'OPĆI DIO'!$N$4:$W$150,9,FALSE)) | C75: =IFERROR(VLOOKUP(G75,$U$6:$AB$538,8,FALSE),"") | E75: =IFERROR(VLOOKUP(F75,$V$6:$Y$122,4,FALSE),"") | F75: =IFERROR(VLOOKUP(G75,$U$6:$AB$538,2,FALSE),"") | H75: =IFERROR(VLOOKUP(G75,$U$6:$AB$538,3,FALSE),"") | N75: =IF(E75="","",'OPĆI DIO'!$C$1) | O75: =LEFT(F75,2) | P75: =LEFT(F75,3) | T75: EVT | U75: =V75&"-"&X75 -> 66313-581 | V75: 66313 | W75: Tekuće donacije od trgovačkih društava | X75: 581 | Y75: Mehanizam za oporavak i otpornost – bespovratna sredstva – raspoloživ predujam ili unaprijed naplaćen prihod | Z75: =LEFT(V75,3) -> 663 | AA75: =LEFT(V75,2) -> 66 | AB75: 581
A76: =IF(E76="","",VLOOKUP('OPĆI DIO'!$C$1,'OPĆI DIO'!$N$4:$W$150,10,FALSE)) | B76: =IF(E76="","",VLOOKUP('OPĆI DIO'!$C$1,'OPĆI DIO'!$N$4:$W$150,9,FALSE)) | C76: =IFERROR(VLOOKUP(G76,$U$6:$AB$538,8,FALSE),"") | E76: =IFERROR(VLOOKUP(F76,$V$6:$Y$122,4,FALSE),"") | F76: =IFERROR(VLOOKUP(G76,$U$6:$AB$538,2,FALSE),"") | H76: =IFERROR(VLOOKUP(G76,$U$6:$AB$538,3,FALSE),"") | N76: =IF(E76="","",'OPĆI DIO'!$C$1) | O76: =LEFT(F76,2) | P76: =LEFT(F76,3) | T76: EVT | U76: =V76&"-"&X76 -> 66313-61 | V76: 66313 | W76: Tekuće donacije od trgovačkih društava | X76: 61 | Y76: Donacije | Z76: =LEFT(V76,3) -> 663 | AA76: =LEFT(V76,2) -> 66 | AB76: 61
A77: =IF(E77="","",VLOOKUP('OPĆI DIO'!$C$1,'OPĆI DIO'!$N$4:$W$150,10,FALSE)) | B77: =IF(E77="","",VLOOKUP('OPĆI DIO'!$C$1,'OPĆI DIO'!$N$4:$W$150,9,FALSE)) | C77: =IFERROR(VLOOKUP(G77,$U$6:$AB$538,8,FALSE),"") | E77: =IFERROR(VLOOKUP(F77,$V$6:$Y$122,4,FALSE),"") | F77: =IFERROR(VLOOKUP(G77,$U$6:$AB$538,2,FALSE),"") | H77: =IFERROR(VLOOKUP(G77,$U$6:$AB$538,3,FALSE),"") | N77: =IF(E77="","",'OPĆI DIO'!$C$1) | O77: =LEFT(F77,2) | P77: =LEFT(F77,3) | T77: EVT | U77: =V77&"-"&X77 -> 66314-561 | V77: 66314 | W77: Tekuće donacije od ostalih subjekata izvan općeg proračuna | X77: 561 | Y77: Europski socijalni fond plus – predfinanciranje iz izvora 11 Opći prihodi i primici | Z77: =LEFT(V77,3) -> 663 | AA77: =LEFT(V77,2) -> 66 | AB77: 561
A78: =IF(E78="","",VLOOKUP('OPĆI DIO'!$C$1,'OPĆI DIO'!$N$4:$W$150,10,FALSE)) | B78: =IF(E78="","",VLOOKUP('OPĆI DIO'!$C$1,'OPĆI DIO'!$N$4:$W$150,9,FALSE)) | C78: =IFERROR(VLOOKUP(G78,$U$6:$AB$538,8,FALSE),"") | E78: =IFERROR(VLOOKUP(F78,$V$6:$Y$122,4,FALSE),"") | F78: =IFERROR(VLOOKUP(G78,$U$6:$AB$538,2,FALSE),"") | H78: =IFERROR(VLOOKUP(G78,$U$6:$AB$538,3,FALSE),"") | N78: =IF(E78="","",'OPĆI DIO'!$C$1) | O78: =LEFT(F78,2) | P78: =LEFT(F78,3) | T78: EVT | U78: =V78&"-"&X78 -> 66314-562 | V78: 66314 | W78: Tekuće donacije od ostalih subjekata izvan općeg proračuna | X78: 562 | Y78: Kohezijski fond - predfinanciranje iz izvora 11 Opći prihodi i primici | Z78: =LEFT(V78,3) -> 663 | AA78: =LEFT(V78,2) -> 66 | AB78: 562
A79: =IF(E79="","",VLOOKUP('OPĆI DIO'!$C$1,'OPĆI DIO'!$N$4:$W$150,10,FALSE)) | B79: =IF(E79="","",VLOOKUP('OPĆI DIO'!$C$1,'OPĆI DIO'!$N$4:$W$150,9,FALSE)) | C79: =IFERROR(VLOOKUP(G79,$U$6:$AB$538,8,FALSE),"") | E79: =IFERROR(VLOOKUP(F79,$V$6:$Y$122,4,FALSE),"") | F79: =IFERROR(VLOOKUP(G79,$U$6:$AB$538,2,FALSE),"") | H79: =IFERROR(VLOOKUP(G79,$U$6:$AB$538,3,FALSE),"") | N79: =IF(E79="","",'OPĆI DIO'!$C$1) | O79: =LEFT(F79,2) | P79: =LEFT(F79,3) | T79: EVT | U79: =V79&"-"&X79 -> 66314-563 | V79: 66314 | W79: Tekuće donacije od ostalih subjekata izvan općeg proračuna | X79: 563 | Y79: Europski fond za regionalni razvoj - predfinanciranje iz izvora 11 Opći prihodi i primici | Z79: =LEFT(V79,3) -> 663 | AA79: =LEFT(V79,2) -> 66 | AB79: 563
A80: =IF(E80="","",VLOOKUP('OPĆI DIO'!$C$1,'OPĆI DIO'!$N$4:$W$150,10,FALSE)) | B80: =IF(E80="","",VLOOKUP('OPĆI DIO'!$C$1,'OPĆI DIO'!$N$4:$W$150,9,FALSE)) | C80: =IFERROR(VLOOKUP(G80,$U$6:$AB$538,8,FALSE),"") | E80: =IFERROR(VLOOKUP(F80,$V$6:$Y$122,4,FALSE),"") | F80: =IFERROR(VLOOKUP(G80,$U$6:$AB$538,2,FALSE),"") | H80: =IFERROR(VLOOKUP(G80,$U$6:$AB$538,3,FALSE),"") | N80: =IF(E80="","",'OPĆI DIO'!$C$1) | O80: =LEFT(F80,2) | P80: =LEFT(F80,3) | T80: EVT | U80: 66314-56331 | V80: 66314 | W80: Tekuće donacije od ostalih subjekata izvan općeg proračuna | X80: 56331 | Y80: Europski fond za regionalni razvoj - predfinanciranje iz izvora 31 Vlastiti prihodi | Z80: =LEFT(V80,3) -> 663 | AA80: =LEFT(V80,2) -> 66 | AB80: 56331
A81: =IF(E81="","",VLOOKUP('OPĆI DIO'!$C$1,'OPĆI DIO'!$N$4:$W$150,10,FALSE)) | B81: =IF(E81="","",VLOOKUP('OPĆI DIO'!$C$1,'OPĆI DIO'!$N$4:$W$150,9,FALSE)) | C81: =IFERROR(VLOOKUP(G81,$U$6:$AB$538,8,FALSE),"") | E81: =IFERROR(VLOOKUP(F81,$V$6:$Y$122,4,FALSE),"") | F81: =IFERROR(VLOOKUP(G81,$U$6:$AB$538,2,FALSE),"") | H81: =IFERROR(VLOOKUP(G81,$U$6:$AB$538,3,FALSE),"") | N81: =IF(E81="","",'OPĆI DIO'!$C$1) | O81: =LEFT(F81,2) | P81: =LEFT(F81,3) | T81: EVT | U81: 66314-56343 | V81: 66314 | W81: Tekuće donacije od ostalih subjekata izvan općeg proračuna | X81: 56343 | Y81: Europski fond za regionalni razvoj - predfinanciranje iz izvora 43 Ostali prihodi za posebne namjene | Z81: =LEFT(V81,3) -> 663 | AA81: =LEFT(V81,2) -> 66 | AB81: 56343
A82: =IF(E82="","",VLOOKUP('OPĆI DIO'!$C$1,'OPĆI DIO'!$N$4:$W$150,10,FALSE)) | B82: =IF(E82="","",VLOOKUP('OPĆI DIO'!$C$1,'OPĆI DIO'!$N$4:$W$150,9,FALSE)) | C82: =IFERROR(VLOOKUP(G82,$U$6:$AB$538,8,FALSE),"") | E82: =IFERROR(VLOOKUP(F82,$V$6:$Y$122,4,FALSE),"") | F82: =IFERROR(VLOOKUP(G82,$U$6:$AB$538,2,FALSE),"") | H82: =IFERROR(VLOOKUP(G82,$U$6:$AB$538,3,FALSE),"") | N82: =IF(E82="","",'OPĆI DIO'!$C$1) | O82: =LEFT(F82,2) | P82: =LEFT(F82,3) | T82: EVT | U82: =V82&"-"&X82 -> 66314-564 | V82: 66314 | W82: Tekuće donacije od ostalih subjekata izvan općeg proračuna | X82: 564 | Y82: Fond za pomorstvo, ribarstvo i akvakulturu - predfinanciranje iz izvora 11 Opći prihodi i primici | Z82: =LEFT(V82,3) -> 663 | AA82: =LEFT(V82,2) -> 66 | AB82: 564
A83: =IF(E83="","",VLOOKUP('OPĆI DIO'!$C$1,'OPĆI DIO'!$N$4:$W$150,10,FALSE)) | B83: =IF(E83="","",VLOOKUP('OPĆI DIO'!$C$1,'OPĆI DIO'!$N$4:$W$150,9,FALSE)) | C83: =IFERROR(VLOOKUP(G83,$U$6:$AB$538,8,FALSE),"") | E83: =IFERROR(VLOOKUP(F83,$V$6:$Y$122,4,FALSE),"") | F83: =IFERROR(VLOOKUP(G83,$U$6:$AB$538,2,FALSE),"") | H83: =IFERROR(VLOOKUP(G83,$U$6:$AB$538,3,FALSE),"") | N83: =IF(E83="","",'OPĆI DIO'!$C$1) | O83: =LEFT(F83,2) | P83: =LEFT(F83,3) | T83: EVT | U83: =V83&"-"&X83 -> 66314-565 | V83: 66314 | W83: Tekuće donacije od ostalih subjekata izvan općeg proračuna | X83: 565 | Y83: Europski poljoprivredni fond za ruralni razvoj - predfinanciranje iz izvora 11 Opći prihodi i primici | Z83: =LEFT(V83,3) -> 663 | AA83: =LEFT(V83,2) -> 66 | AB83: 565
A84: =IF(E84="","",VLOOKUP('OPĆI DIO'!$C$1,'OPĆI DIO'!$N$4:$W$150,10,FALSE)) | B84: =IF(E84="","",VLOOKUP('OPĆI DIO'!$C$1,'OPĆI DIO'!$N$4:$W$150,9,FALSE)) | C84: =IFERROR(VLOOKUP(G84,$U$6:$AB$538,8,FALSE),"") | E84: =IFERROR(VLOOKUP(F84,$V$6:$Y$122,4,FALSE),"") | F84: =IFERROR(VLOOKUP(G84,$U$6:$AB$538,2,FALSE),"") | H84: =IFERROR(VLOOKUP(G84,$U$6:$AB$538,3,FALSE),"") | N84: =IF(E84="","",'OPĆI DIO'!$C$1) | O84: =LEFT(F84,2) | P84: =LEFT(F84,3) | T84: EVT | U84: =V84&"-"&X84 -> 66314-566 | V84: 66314 | W84: Tekuće donacije od ostalih subjekata izvan općeg proračuna | X84: 566 | Y84: Modernizacijski fond - predfinanciranje iz izvora 11 Opći prihodi i primici | Z84: =LEFT(V84,3) -> 663 | AA84: =LEFT(V84,2) -> 66 | AB84: 566
A85: =IF(E85="","",VLOOKUP('OPĆI DIO'!$C$1,'OPĆI DIO'!$N$4:$W$150,10,FALSE)) | B85: =IF(E85="","",VLOOKUP('OPĆI DIO'!$C$1,'OPĆI DIO'!$N$4:$W$150,9,FALSE)) | C85: =IFERROR(VLOOKUP(G85,$U$6:$AB$538,8,FALSE),"") | E85: =IFERROR(VLOOKUP(F85,$V$6:$Y$122,4,FALSE),"") | F85: =IFERROR(VLOOKUP(G85,$U$6:$AB$538,2,FALSE),"") | H85: =IFERROR(VLOOKUP(G85,$U$6:$AB$538,3,FALSE),"") | N85: =IF(E85="","",'OPĆI DIO'!$C$1) | O85: =LEFT(F85,2) | P85: =LEFT(F85,3) | U85: =V85&"-"&X85 -> 66314-567 | V85: 66314 | W85: Tekuće donacije od ostalih subjekata izvan općeg proračuna | X85: 567 | Y85: Socijalni fond za klimatsku politiku - predfinanciranje iz izvora 11 Opći prihodi i primici | Z85: =LEFT(V85,3) -> 663 | AA85: =LEFT(V85,2) -> 66 | AB85: 567
A86: =IF(E86="","",VLOOKUP('OPĆI DIO'!$C$1,'OPĆI DIO'!$N$4:$W$150,10,FALSE)) | B86: =IF(E86="","",VLOOKUP('OPĆI DIO'!$C$1,'OPĆI DIO'!$N$4:$W$150,9,FALSE)) | C86: =IFERROR(VLOOKUP(G86,$U$6:$AB$538,8,FALSE),"") | E86: =IFERROR(VLOOKUP(F86,$V$6:$Y$122,4,FALSE),"") | F86: =IFERROR(VLOOKUP(G86,$U$6:$AB$538,2,FALSE),"") | H86: =IFERROR(VLOOKUP(G86,$U$6:$AB$538,3,FALSE),"") | N86: =IF(E86="","",'OPĆI DIO'!$C$1) | O86: =LEFT(F86,2) | P86: =LEFT(F86,3) | T86: EVT | U86: =V86&"-"&X86 -> 66314-575 | V86: 66314 | W86: Tekuće donacije od ostalih subjekata izvan općeg proračuna | X86: 575 | Y86: Fond za azil, migracije i integraciju - predfinanciranje iz izvora 11 Opći prihodi i primici | Z86: =LEFT(V86,3) -> 663 | AA86: =LEFT(V86,2) -> 66 | AB86: 575
A87: =IF(E87="","",VLOOKUP('OPĆI DIO'!$C$1,'OPĆI DIO'!$N$4:$W$150,10,FALSE)) | B87: =IF(E87="","",VLOOKUP('OPĆI DIO'!$C$1,'OPĆI DIO'!$N$4:$W$150,9,FALSE)) | C87: =IFERROR(VLOOKUP(G87,$U$6:$AB$538,8,FALSE),"") | E87: =IFERROR(VLOOKUP(F87,$V$6:$Y$122,4,FALSE),"") | F87: =IFERROR(VLOOKUP(G87,$U$6:$AB$538,2,FALSE),"") | H87: =IFERROR(VLOOKUP(G87,$U$6:$AB$538,3,FALSE),"") | N87: =IF(E87="","",'OPĆI DIO'!$C$1) | O87: =LEFT(F87,2) | P87: =LEFT(F87,3) | T87: EVT | U87: =V87&"-"&X87 -> 66314-577 | V87: 66314 | W87: Tekuće donacije od ostalih subjekata izvan općeg proračuna | X87: 577 | Y87: Fond za pravednu tranziciju - predfinanciranje iz izvora 11 Opći prihodi i primici | Z87: =LEFT(V87,3) -> 663 | AA87: =LEFT(V87,2) -> 66 | AB87: 577
A88: =IF(E88="","",VLOOKUP('OPĆI DIO'!$C$1,'OPĆI DIO'!$N$4:$W$150,10,FALSE)) | B88: =IF(E88="","",VLOOKUP('OPĆI DIO'!$C$1,'OPĆI DIO'!$N$4:$W$150,9,FALSE)) | C88: =IFERROR(VLOOKUP(G88,$U$6:$AB$538,8,FALSE),"") | E88: =IFERROR(VLOOKUP(F88,$V$6:$Y$122,4,FALSE),"") | F88: =IFERROR(VLOOKUP(G88,$U$6:$AB$538,2,FALSE),"") | H88: =IFERROR(VLOOKUP(G88,$U$6:$AB$538,3,FALSE),"") | N88: =IF(E88="","",'OPĆI DIO'!$C$1) | O88: =LEFT(F88,2) | P88: =LEFT(F88,3) | T88: EVT | U88: =V88&"-"&X88 -> 66314-578 | V88: 66314 | W88: Tekuće donacije od ostalih subjekata izvan općeg proračuna | X88: 578 | Y88: Fond za unutarnju sigurnost - predfinanciranje iz izvora 11 Opći prihodi i primici | Z88: =LEFT(V88,3) -> 663 | AA88: =LEFT(V88,2) -> 66 | AB88: 578
A89: =IF(E89="","",VLOOKUP('OPĆI DIO'!$C$1,'OPĆI DIO'!$N$4:$W$150,10,FALSE)) | B89: =IF(E89="","",VLOOKUP('OPĆI DIO'!$C$1,'OPĆI DIO'!$N$4:$W$150,9,FALSE)) | C89: =IFERROR(VLOOKUP(G89,$U$6:$AB$538,8,FALSE),"") | E89: =IFERROR(VLOOKUP(F89,$V$6:$Y$122,4,FALSE),"") | F89: =IFERROR(VLOOKUP(G89,$U$6:$AB$538,2,FALSE),"") | H89: =IFERROR(VLOOKUP(G89,$U$6:$AB$538,3,FALSE),"") | N89: =IF(E89="","",'OPĆI DIO'!$C$1) | O89: =LEFT(F89,2) | P89: =LEFT(F89,3) | T89: EVT | U89: =V89&"-"&X89 -> 66314-579 | V89: 66314 | W89: Tekuće donacije od ostalih subjekata izvan općeg proračuna | X89: 579 | Y89: Fond za integrirano upravljanje granicama - predfinanciranje iz izvora 11 Opći prihodi i primici | Z89: =LEFT(V89,3) -> 663 | AA89: =LEFT(V89,2) -> 66 | AB89: 579
A90: =IF(E90="","",VLOOKUP('OPĆI DIO'!$C$1,'OPĆI DIO'!$N$4:$W$150,10,FALSE)) | B90: =IF(E90="","",VLOOKUP('OPĆI DIO'!$C$1,'OPĆI DIO'!$N$4:$W$150,9,FALSE)) | C90: =IFERROR(VLOOKUP(G90,$U$6:$AB$538,8,FALSE),"") | E90: =IFERROR(VLOOKUP(F90,$V$6:$Y$122,4,FALSE),"") | F90: =IFERROR(VLOOKUP(G90,$U$6:$AB$538,2,FALSE),"") | H90: =IFERROR(VLOOKUP(G90,$U$6:$AB$538,3,FALSE),"") | N90: =IF(E90="","",'OPĆI DIO'!$C$1) | O90: =LEFT(F90,2) | P90: =LEFT(F90,3) | U90: =V90&"-"&X90 -> 66314-581 | V90: 66314 | W90: Tekuće donacije od ostalih subjekata izvan općeg proračuna | X90: 581 | Y90: Mehanizam za oporavak i otpornost – bespovratna sredstva – raspoloživ predujam ili unaprijed naplaćen prihod | Z90: =LEFT(V90,3) -> 663 | AA90: =LEFT(V90,2) -> 66 | AB90: 581
A91: =IF(E91="","",VLOOKUP('OPĆI DIO'!$C$1,'OPĆI DIO'!$N$4:$W$150,10,FALSE)) | B91: =IF(E91="","",VLOOKUP('OPĆI DIO'!$C$1,'OPĆI DIO'!$N$4:$W$150,9,FALSE)) | C91: =IFERROR(VLOOKUP(G91,$U$6:$AB$538,8,FALSE),"") | E91: =IFERROR(VLOOKUP(F91,$V$6:$Y$122,4,FALSE),"") | F91: =IFERROR(VLOOKUP(G91,$U$6:$AB$538,2,FALSE),"") | H91: =IFERROR(VLOOKUP(G91,$U$6:$AB$538,3,FALSE),"") | N91: =IF(E91="","",'OPĆI DIO'!$C$1) | O91: =LEFT(F91,2) | P91: =LEFT(F91,3) | U91: =V91&"-"&X91 -> 66314-61 | V91: 66314 | W91: Tekuće donacije od ostalih subjekata izvan općeg proračuna | X91: 61 | Y91: Donacije | Z91: =LEFT(V91,3) -> 663 | AA91: =LEFT(V91,2) -> 66 | AB91: 61
A92: =IF(E92="","",VLOOKUP('OPĆI DIO'!$C$1,'OPĆI DIO'!$N$4:$W$150,10,FALSE)) | B92: =IF(E92="","",VLOOKUP('OPĆI DIO'!$C$1,'OPĆI DIO'!$N$4:$W$150,9,FALSE)) | C92: =IFERROR(VLOOKUP(G92,$U$6:$AB$538,8,FALSE),"") | E92: =IFERROR(VLOOKUP(F92,$V$6:$Y$122,4,FALSE),"") | F92: =IFERROR(VLOOKUP(G92,$U$6:$AB$538,2,FALSE),"") | H92: =IFERROR(VLOOKUP(G92,$U$6:$AB$538,3,FALSE),"") | N92: =IF(E92="","",'OPĆI DIO'!$C$1) | O92: =LEFT(F92,2) | P92: =LEFT(F92,3) | U92: =V92&"-"&X92 -> 66321-61 | V92: 66321 | W92: Kapitalne donacije od fizičkih osoba | X92: 61 | Y92: Donacije | Z92: =LEFT(V92,3) -> 663 | AA92: =LEFT(V92,2) -> 66 | AB92: 61
A93: =IF(E93="","",VLOOKUP('OPĆI DIO'!$C$1,'OPĆI DIO'!$N$4:$W$150,10,FALSE)) | B93: =IF(E93="","",VLOOKUP('OPĆI DIO'!$C$1,'OPĆI DIO'!$N$4:$W$150,9,FALSE)) | C93: =IFERROR(VLOOKUP(G93,$U$6:$AB$538,8,FALSE),"") | E93: =IFERROR(VLOOKUP(F93,$V$6:$Y$122,4,FALSE),"") | F93: =IFERROR(VLOOKUP(G93,$U$6:$AB$538,2,FALSE),"") | H93: =IFERROR(VLOOKUP(G93,$U$6:$AB$538,3,FALSE),"") | N93: =IF(E93="","",'OPĆI DIO'!$C$1) | O93: =LEFT(F93,2) | P93: =LEFT(F93,3) | U93: =V93&"-"&X93 -> 66322-561 | V93: 66322 | W93: Kapitalne donacije od neprofitnih organizacija | X93: 561 | Y93: Europski socijalni fond plus – predfinanciranje iz izvora 11 Opći prihodi i primici | Z93: =LEFT(V93,3) -> 663 | AA93: =LEFT(V93,2) -> 66 | AB93: 561
A94: =IF(E94="","",VLOOKUP('OPĆI DIO'!$C$1,'OPĆI DIO'!$N$4:$W$150,10,FALSE)) | B94: =IF(E94="","",VLOOKUP('OPĆI DIO'!$C$1,'OPĆI DIO'!$N$4:$W$150,9,FALSE)) | C94: =IFERROR(VLOOKUP(G94,$U$6:$AB$538,8,FALSE),"") | E94: =IFERROR(VLOOKUP(F94,$V$6:$Y$122,4,FALSE),"") | F94: =IFERROR(VLOOKUP(G94,$U$6:$AB$538,2,FALSE),"") | H94: =IFERROR(VLOOKUP(G94,$U$6:$AB$538,3,FALSE),"") | N94: =IF(E94="","",'OPĆI DIO'!$C$1) | O94: =LEFT(F94,2) | P94: =LEFT(F94,3) | U94: =V94&"-"&X94 -> 66322-562 | V94: 66322 | W94: Kapitalne donacije od neprofitnih organizacija | X94: 562 | Y94: Kohezijski fond - predfinanciranje iz izvora 11 Opći prihodi i primici | Z94: =LEFT(V94,3) -> 663 | AA94: =LEFT(V94,2) -> 66 | AB94: 562
A95: =IF(E95="","",VLOOKUP('OPĆI DIO'!$C$1,'OPĆI DIO'!$N$4:$W$150,10,FALSE)) | B95: =IF(E95="","",VLOOKUP('OPĆI DIO'!$C$1,'OPĆI DIO'!$N$4:$W$150,9,FALSE)) | C95: =IFERROR(VLOOKUP(G95,$U$6:$AB$538,8,FALSE),"") | E95: =IFERROR(VLOOKUP(F95,$V$6:$Y$122,4,FALSE),"") | F95: =IFERROR(VLOOKUP(G95,$U$6:$AB$538,2,FALSE),"") | H95: =IFERROR(VLOOKUP(G95,$U$6:$AB$538,3,FALSE),"") | N95: =IF(E95="","",'OPĆI DIO'!$C$1) | O95: =LEFT(F95,2) | P95: =LEFT(F95,3) | U95: =V95&"-"&X95 -> 66322-563 | V95: 66322 | W95: Kapitalne donacije od neprofitnih organizacija | X95: 563 | Y95: Europski fond za regionalni razvoj - predfinanciranje iz izvora 11 Opći prihodi i primici | Z95: =LEFT(V95,3) -> 663 | AA95: =LEFT(V95,2) -> 66 | AB95: 563
A96: =IF(E96="","",VLOOKUP('OPĆI DIO'!$C$1,'OPĆI DIO'!$N$4:$W$150,10,FALSE)) | B96: =IF(E96="","",VLOOKUP('OPĆI DIO'!$C$1,'OPĆI DIO'!$N$4:$W$150,9,FALSE)) | C96: =IFERROR(VLOOKUP(G96,$U$6:$AB$538,8,FALSE),"") | E96: =IFERROR(VLOOKUP(F96,$V$6:$Y$122,4,FALSE),"") | F96: =IFERROR(VLOOKUP(G96,$U$6:$AB$538,2,FALSE),"") | H96: =IFERROR(VLOOKUP(G96,$U$6:$AB$538,3,FALSE),"") | N96: =IF(E96="","",'OPĆI DIO'!$C$1) | O96: =LEFT(F96,2) | P96: =LEFT(F96,3) | U96: 66322-56331 | V96: 66322 | W96: Kapitalne donacije od neprofitnih organizacija | X96: 56331 | Y96: Europski fond za regionalni razvoj - predfinanciranje iz izvora 31 Vlastiti prihodi | Z96: =LEFT(V96,3) -> 663 | AA96: =LEFT(V96,2) -> 66 | AB96: 56331
A97: =IF(E97="","",VLOOKUP('OPĆI DIO'!$C$1,'OPĆI DIO'!$N$4:$W$150,10,FALSE)) | B97: =IF(E97="","",VLOOKUP('OPĆI DIO'!$C$1,'OPĆI DIO'!$N$4:$W$150,9,FALSE)) | C97: =IFERROR(VLOOKUP(G97,$U$6:$AB$538,8,FALSE),"") | E97: =IFERROR(VLOOKUP(F97,$V$6:$Y$122,4,FALSE),"") | F97: =IFERROR(VLOOKUP(G97,$U$6:$AB$538,2,FALSE),"") | H97: =IFERROR(VLOOKUP(G97,$U$6:$AB$538,3,FALSE),"") | N97: =IF(E97="","",'OPĆI DIO'!$C$1) | O97: =LEFT(F97,2) | P97: =LEFT(F97,3) | U97: 66322-56343 | V97: 66322 | W97: Kapitalne donacije od neprofitnih organizacija | X97: 56343 | Y97: Europski fond za regionalni razvoj - predfinanciranje iz izvora 43 Ostali prihodi za posebne namjene | Z97: =LEFT(V97,3) -> 663 | AA97: =LEFT(V97,2) -> 66 | AB97: 56343
A98: =IF(E98="","",VLOOKUP('OPĆI DIO'!$C$1,'OPĆI DIO'!$N$4:$W$150,10,FALSE)) | B98: =IF(E98="","",VLOOKUP('OPĆI DIO'!$C$1,'OPĆI DIO'!$N$4:$W$150,9,FALSE)) | C98: =IFERROR(VLOOKUP(G98,$U$6:$AB$538,8,FALSE),"") | E98: =IFERROR(VLOOKUP(F98,$V$6:$Y$122,4,FALSE),"") | F98: =IFERROR(VLOOKUP(G98,$U$6:$AB$538,2,FALSE),"") | H98: =IFERROR(VLOOKUP(G98,$U$6:$AB$538,3,FALSE),"") | N98: =IF(E98="","",'OPĆI DIO'!$C$1) | O98: =LEFT(F98,2) | P98: =LEFT(F98,3) | U98: =V98&"-"&X98 -> 66322-564 | V98: 66322 | W98: Kapitalne donacije od neprofitnih organizacija | X98: 564 | Y98: Fond za pomorstvo, ribarstvo i akvakulturu - predfinanciranje iz izvora 11 Opći prihodi i primici | Z98: =LEFT(V98,3) -> 663 | AA98: =LEFT(V98,2) -> 66 | AB98: 564
A99: =IF(E99="","",VLOOKUP('OPĆI DIO'!$C$1,'OPĆI DIO'!$N$4:$W$150,10,FALSE)) | B99: =IF(E99="","",VLOOKUP('OPĆI DIO'!$C$1,'OPĆI DIO'!$N$4:$W$150,9,FALSE)) | C99: =IFERROR(VLOOKUP(G99,$U$6:$AB$538,8,FALSE),"") | E99: =IFERROR(VLOOKUP(F99,$V$6:$Y$122,4,FALSE),"") | F99: =IFERROR(VLOOKUP(G99,$U$6:$AB$538,2,FALSE),"") | H99: =IFERROR(VLOOKUP(G99,$U$6:$AB$538,3,FALSE),"") | N99: =IF(E99="","",'OPĆI DIO'!$C$1) | O99: =LEFT(F99,2) | P99: =LEFT(F99,3) | U99: =V99&"-"&X99 -> 66322-565 | V99: 66322 | W99: Kapitalne donacije od neprofitnih organizacija | X99: 565 | Y99: Europski poljoprivredni fond za ruralni razvoj - predfinanciranje iz izvora 11 Opći prihodi i primici | Z99: =LEFT(V99,3) -> 663 | AA99: =LEFT(V99,2) -> 66 | AB99: 565
A100: =IF(E100="","",VLOOKUP('OPĆI DIO'!$C$1,'OPĆI DIO'!$N$4:$W$150,10,FALSE)) | B100: =IF(E100="","",VLOOKUP('OPĆI DIO'!$C$1,'OPĆI DIO'!$N$4:$W$150,9,FALSE)) | C100: =IFERROR(VLOOKUP(G100,$U$6:$AB$538,8,FALSE),"") | E100: =IFERROR(VLOOKUP(F100,$V$6:$Y$122,4,FALSE),"") | F100: =IFERROR(VLOOKUP(G100,$U$6:$AB$538,2,FALSE),"") | H100: =IFERROR(VLOOKUP(G100,$U$6:$AB$538,3,FALSE),"") | N100: =IF(E100="","",'OPĆI DIO'!$C$1) | O100: =LEFT(F100,2) | P100: =LEFT(F100,3) | U100: =V100&"-"&X100 -> 66322-566 | V100: 66322 | W100: Kapitalne donacije od neprofitnih organizacija | X100: 566 | Y100: Modernizacijski fond - predfinanciranje iz izvora 11 Opći prihodi i primici | Z100: =LEFT(V100,3) -> 663 | AA100: =LEFT(V100,2) -> 66 | AB100: 566
A101: =IF(E101="","",VLOOKUP('OPĆI DIO'!$C$1,'OPĆI DIO'!$N$4:$W$150,10,FALSE)) | B101: =IF(E101="","",VLOOKUP('OPĆI DIO'!$C$1,'OPĆI DIO'!$N$4:$W$150,9,FALSE)) | C101: =IFERROR(VLOOKUP(G101,$U$6:$AB$538,8,FALSE),"") | E101: =IFERROR(VLOOKUP(F101,$V$6:$Y$122,4,FALSE),"") | F101: =IFERROR(VLOOKUP(G101,$U$6:$AB$538,2,FALSE),"") | H101: =IFERROR(VLOOKUP(G101,$U$6:$AB$538,3,FALSE),"") | N101: =IF(E101="","",'OPĆI DIO'!$C$1) | O101: =LEFT(F101,2) | P101: =LEFT(F101,3) | U101: =V101&"-"&X101 -> 66322-567 | V101: 66322 | W101: Kapitalne donacije od neprofitnih organizacija | X101: 567 | Y101: Socijalni fond za klimatsku politiku - predfinanciranje iz izvora 11 Opći prihodi i primici | Z101: =LEFT(V101,3) -> 663 | AA101: =LEFT(V101,2) -> 66 | AB101: 567
A102: =IF(E102="","",VLOOKUP('OPĆI DIO'!$C$1,'OPĆI DIO'!$N$4:$W$150,10,FALSE)) | B102: =IF(E102="","",VLOOKUP('OPĆI DIO'!$C$1,'OPĆI DIO'!$N$4:$W$150,9,FALSE)) | C102: =IFERROR(VLOOKUP(G102,$U$6:$AB$538,8,FALSE),"") | E102: =IFERROR(VLOOKUP(F102,$V$6:$Y$122,4,FALSE),"") | F102: =IFERROR(VLOOKUP(G102,$U$6:$AB$538,2,FALSE),"") | H102: =IFERROR(VLOOKUP(G102,$U$6:$AB$538,3,FALSE),"") | N102: =IF(E102="","",'OPĆI DIO'!$C$1) | O102: =LEFT(F102,2) | P102: =LEFT(F102,3) | U102: =V102&"-"&X102 -> 66322-575 | V102: 66322 | W102: Kapitalne donacije od neprofitnih organizacija | X102: 575 | Y102: Fond za azil, migracije i integraciju - predfinanciranje iz izvora 11 Opći prihodi i primici | Z102: =LEFT(V102,3) -> 663 | AA102: =LEFT(V102,2) -> 66 | AB102: 575
A103: =IF(E103="","",VLOOKUP('OPĆI DIO'!$C$1,'OPĆI DIO'!$N$4:$W$150,10,FALSE)) | B103: =IF(E103="","",VLOOKUP('OPĆI DIO'!$C$1,'OPĆI DIO'!$N$4:$W$150,9,FALSE)) | C103: =IFERROR(VLOOKUP(G103,$U$6:$AB$538,8,FALSE),"") | E103: =IFERROR(VLOOKUP(F103,$V$6:$Y$122,4,FALSE),"") | F103: =IFERROR(VLOOKUP(G103,$U$6:$AB$538,2,FALSE),"") | H103: =IFERROR(VLOOKUP(G103,$U$6:$AB$538,3,FALSE),"") | N103: =IF(E103="","",'OPĆI DIO'!$C$1) | O103: =LEFT(F103,2) | P103: =LEFT(F103,3) | U103: =V103&"-"&X103 -> 66322-577 | V103: 66322 | W103: Kapitalne donacije od neprofitnih organizacija | X103: 577 | Y103: Fond za pravednu tranziciju - predfinanciranje iz izvora 11 Opći prihodi i primici | Z103: =LEFT(V103,3) -> 663 | AA103: =LEFT(V103,2) -> 66 | AB103: 577
A104: =IF(E104="","",VLOOKUP('OPĆI DIO'!$C$1,'OPĆI DIO'!$N$4:$W$150,10,FALSE)) | B104: =IF(E104="","",VLOOKUP('OPĆI DIO'!$C$1,'OPĆI DIO'!$N$4:$W$150,9,FALSE)) | C104: =IFERROR(VLOOKUP(G104,$U$6:$AB$538,8,FALSE),"") | E104: =IFERROR(VLOOKUP(F104,$V$6:$Y$122,4,FALSE),"") | F104: =IFERROR(VLOOKUP(G104,$U$6:$AB$538,2,FALSE),"") | H104: =IFERROR(VLOOKUP(G104,$U$6:$AB$538,3,FALSE),"") | N104: =IF(E104="","",'OPĆI DIO'!$C$1) | O104: =LEFT(F104,2) | P104: =LEFT(F104,3) | U104: =V104&"-"&X104 -> 66322-578 | V104: 66322 | W104: Kapitalne donacije od neprofitnih organizacija | X104: 578 | Y104: Fond za unutarnju sigurnost - predfinanciranje iz izvora 11 Opći prihodi i primici | Z104: =LEFT(V104,3) -> 663 | AA104: =LEFT(V104,2) -> 66 | AB104: 578
A105: =IF(E105="","",VLOOKUP('OPĆI DIO'!$C$1,'OPĆI DIO'!$N$4:$W$150,10,FALSE)) | B105: =IF(E105="","",VLOOKUP('OPĆI DIO'!$C$1,'OPĆI DIO'!$N$4:$W$150,9,FALSE)) | C105: =IFERROR(VLOOKUP(G105,$U$6:$AB$538,8,FALSE),"") | E105: =IFERROR(VLOOKUP(F105,$V$6:$Y$122,4,FALSE),"") | F105: =IFERROR(VLOOKUP(G105,$U$6:$AB$538,2,FALSE),"") | H105: =IFERROR(VLOOKUP(G105,$U$6:$AB$538,3,FALSE),"") | N105: =IF(E105="","",'OPĆI DIO'!$C$1) | O105: =LEFT(F105,2) | P105: =LEFT(F105,3) | U105: =V105&"-"&X105 -> 66322-579 | V105: 66322 | W105: Kapitalne donacije od neprofitnih organizacija | X105: 579 | Y105: Fond za integrirano upravljanje granicama - predfinanciranje iz izvora 11 Opći prihodi i primici | Z105: =LEFT(V105,3) -> 663 | AA105: =LEFT(V105,2) -> 66 | AB105: 579
A106: =IF(E106="","",VLOOKUP('OPĆI DIO'!$C$1,'OPĆI DIO'!$N$4:$W$150,10,FALSE)) | B106: =IF(E106="","",VLOOKUP('OPĆI DIO'!$C$1,'OPĆI DIO'!$N$4:$W$150,9,FALSE)) | C106: =IFERROR(VLOOKUP(G106,$U$6:$AB$538,8,FALSE),"") | E106: =IFERROR(VLOOKUP(F106,$V$6:$Y$122,4,FALSE),"") | F106: =IFERROR(VLOOKUP(G106,$U$6:$AB$538,2,FALSE),"") | H106: =IFERROR(VLOOKUP(G106,$U$6:$AB$538,3,FALSE),"") | N106: =IF(E106="","",'OPĆI DIO'!$C$1) | O106: =LEFT(F106,2) | P106: =LEFT(F106,3) | U106: =V106&"-"&X106 -> 66322-581 | V106: 66322 | W106: Kapitalne donacije od neprofitnih organizacija | X106: 581 | Y106: Mehanizam za oporavak i otpornost – bespovratna sredstva – raspoloživ predujam ili unaprijed naplaćen prihod | Z106: =LEFT(V106,3) -> 663 | AA106: =LEFT(V106,2) -> 66 | AB106: 581
A107: =IF(E107="","",VLOOKUP('OPĆI DIO'!$C$1,'OPĆI DIO'!$N$4:$W$150,10,FALSE)) | B107: =IF(E107="","",VLOOKUP('OPĆI DIO'!$C$1,'OPĆI DIO'!$N$4:$W$150,9,FALSE)) | C107: =IFERROR(VLOOKUP(G107,$U$6:$AB$538,8,FALSE),"") | E107: =IFERROR(VLOOKUP(F107,$V$6:$Y$122,4,FALSE),"") | F107: =IFERROR(VLOOKUP(G107,$U$6:$AB$538,2,FALSE),"") | H107: =IFERROR(VLOOKUP(G107,$U$6:$AB$538,3,FALSE),"") | N107: =IF(E107="","",'OPĆI DIO'!$C$1) | O107: =LEFT(F107,2) | P107: =LEFT(F107,3) | U107: =V107&"-"&X107 -> 66322-61 | V107: 66322 | W107: Kapitalne donacije od neprofitnih organizacija | X107: 61 | Y107: Donacije | Z107: =LEFT(V107,3) -> 663 | AA107: =LEFT(V107,2) -> 66 | AB107: 61
A108: =IF(E108="","",VLOOKUP('OPĆI DIO'!$C$1,'OPĆI DIO'!$N$4:$W$150,10,FALSE)) | B108: =IF(E108="","",VLOOKUP('OPĆI DIO'!$C$1,'OPĆI DIO'!$N$4:$W$150,9,FALSE)) | C108: =IFERROR(VLOOKUP(G108,$U$6:$AB$538,8,FALSE),"") | E108: =IFERROR(VLOOKUP(F108,$V$6:$Y$122,4,FALSE),"") | F108: =IFERROR(VLOOKUP(G108,$U$6:$AB$538,2,FALSE),"") | H108: =IFERROR(VLOOKUP(G108,$U$6:$AB$538,3,FALSE),"") | N108: =IF(E108="","",'OPĆI DIO'!$C$1) | O108: =LEFT(F108,2) | P108: =LEFT(F108,3) | U108: =V108&"-"&X108 -> 66323-561 | V108: 66323 | W108: Kapitalne donacije od trgovačkih društava | X108: 561 | Y108: Europski socijalni fond plus – predfinanciranje iz izvora 11 Opći prihodi i primici | Z108: =LEFT(V108,3) -> 663 | AA108: =LEFT(V108,2) -> 66 | AB108: 561
A109: =IF(E109="","",VLOOKUP('OPĆI DIO'!$C$1,'OPĆI DIO'!$N$4:$W$150,10,FALSE)) | B109: =IF(E109="","",VLOOKUP('OPĆI DIO'!$C$1,'OPĆI DIO'!$N$4:$W$150,9,FALSE)) | C109: =IFERROR(VLOOKUP(G109,$U$6:$AB$538,8,FALSE),"") | E109: =IFERROR(VLOOKUP(F109,$V$6:$Y$122,4,FALSE),"") | F109: =IFERROR(VLOOKUP(G109,$U$6:$AB$538,2,FALSE),"") | H109: =IFERROR(VLOOKUP(G109,$U$6:$AB$538,3,FALSE),"") | N109: =IF(E109="","",'OPĆI DIO'!$C$1) | O109: =LEFT(F109,2) | P109: =LEFT(F109,3) | U109: =V109&"-"&X109 -> 66323-562 | V109: 66323 | W109: Kapitalne donacije od trgovačkih društava | X109: 562 | Y109: Kohezijski fond - predfinanciranje iz izvora 11 Opći prihodi i primici | Z109: =LEFT(V109,3) -> 663 | AA109: =LEFT(V109,2) -> 66 | AB109: 562
A110: =IF(E110="","",VLOOKUP('OPĆI DIO'!$C$1,'OPĆI DIO'!$N$4:$W$150,10,FALSE)) | B110: =IF(E110="","",VLOOKUP('OPĆI DIO'!$C$1,'OPĆI DIO'!$N$4:$W$150,9,FALSE)) | C110: =IFERROR(VLOOKUP(G110,$U$6:$AB$538,8,FALSE),"") | E110: =IFERROR(VLOOKUP(F110,$V$6:$Y$122,4,FALSE),"") | F110: =IFERROR(VLOOKUP(G110,$U$6:$AB$538,2,FALSE),"") | H110: =IFERROR(VLOOKUP(G110,$U$6:$AB$538,3,FALSE),"") | N110: =IF(E110="","",'OPĆI DIO'!$C$1) | O110: =LEFT(F110,2) | P110: =LEFT(F110,3) | U110: =V110&"-"&X110 -> 66323-563 | V110: 66323 | W110: Kapitalne donacije od trgovačkih društava | X110: 563 | Y110: Europski fond za regionalni razvoj - predfinanciranje iz izvora 11 Opći prihodi i primici | Z110: =LEFT(V110,3) -> 663 | AA110: =LEFT(V110,2) -> 66 | AB110: 563
A111: =IF(E111="","",VLOOKUP('OPĆI DIO'!$C$1,'OPĆI DIO'!$N$4:$W$150,10,FALSE)) | B111: =IF(E111="","",VLOOKUP('OPĆI DIO'!$C$1,'OPĆI DIO'!$N$4:$W$150,9,FALSE)) | C111: =IFERROR(VLOOKUP(G111,$U$6:$AB$538,8,FALSE),"") | E111: =IFERROR(VLOOKUP(F111,$V$6:$Y$122,4,FALSE),"") | F111: =IFERROR(VLOOKUP(G111,$U$6:$AB$538,2,FALSE),"") | H111: =IFERROR(VLOOKUP(G111,$U$6:$AB$538,3,FALSE),"") | N111: =IF(E111="","",'OPĆI DIO'!$C$1) | O111: =LEFT(F111,2) | P111: =LEFT(F111,3) | U111: 66323-56331 | V111: 66323 | W111: Kapitalne donacije od trgovačkih društava | X111: 56331 | Y111: Europski fond za regionalni razvoj - predfinanciranje iz izvora 31 Vlastiti prihodi | Z111: =LEFT(V111,3) -> 663 | AA111: =LEFT(V111,2) -> 66 | AB111: 56331
A112: =IF(E112="","",VLOOKUP('OPĆI DIO'!$C$1,'OPĆI DIO'!$N$4:$W$150,10,FALSE)) | B112: =IF(E112="","",VLOOKUP('OPĆI DIO'!$C$1,'OPĆI DIO'!$N$4:$W$150,9,FALSE)) | C112: =IFERROR(VLOOKUP(G112,$U$6:$AB$538,8,FALSE),"") | E112: =IFERROR(VLOOKUP(F112,$V$6:$Y$122,4,FALSE),"") | F112: =IFERROR(VLOOKUP(G112,$U$6:$AB$538,2,FALSE),"") | H112: =IFERROR(VLOOKUP(G112,$U$6:$AB$538,3,FALSE),"") | N112: =IF(E112="","",'OPĆI DIO'!$C$1) | O112: =LEFT(F112,2) | P112: =LEFT(F112,3) | U112: 66323-56343 | V112: 66323 | W112: Kapitalne donacije od trgovačkih društava | X112: 56343 | Y112: Europski fond za regionalni razvoj - predfinanciranje iz izvora 43 Ostali prihodi za posebne namjene | Z112: =LEFT(V112,3) -> 663 | AA112: =LEFT(V112,2) -> 66 | AB112: 56343
A113: =IF(E113="","",VLOOKUP('OPĆI DIO'!$C$1,'OPĆI DIO'!$N$4:$W$150,10,FALSE)) | B113: =IF(E113="","",VLOOKUP('OPĆI DIO'!$C$1,'OPĆI DIO'!$N$4:$W$150,9,FALSE)) | C113: =IFERROR(VLOOKUP(G113,$U$6:$AB$538,8,FALSE),"") | E113: =IFERROR(VLOOKUP(F113,$V$6:$Y$122,4,FALSE),"") | F113: =IFERROR(VLOOKUP(G113,$U$6:$AB$538,2,FALSE),"") | H113: =IFERROR(VLOOKUP(G113,$U$6:$AB$538,3,FALSE),"") | N113: =IF(E113="","",'OPĆI DIO'!$C$1) | O113: =LEFT(F113,2) | P113: =LEFT(F113,3) | U113: =V113&"-"&X113 -> 66323-564 | V113: 66323 | W113: Kapitalne donacije od trgovačkih društava | X113: 564 | Y113: Fond za pomorstvo, ribarstvo i akvakulturu - predfinanciranje iz izvora 11 Opći prihodi i primici | Z113: =LEFT(V113,3) -> 663 | AA113: =LEFT(V113,2) -> 66 | AB113: 564
A114: =IF(E114="","",VLOOKUP('OPĆI DIO'!$C$1,'OPĆI DIO'!$N$4:$W$150,10,FALSE)) | B114: =IF(E114="","",VLOOKUP('OPĆI DIO'!$C$1,'OPĆI DIO'!$N$4:$W$150,9,FALSE)) | C114: =IFERROR(VLOOKUP(G114,$U$6:$AB$538,8,FALSE),"") | E114: =IFERROR(VLOOKUP(F114,$V$6:$Y$122,4,FALSE),"") | F114: =IFERROR(VLOOKUP(G114,$U$6:$AB$538,2,FALSE),"") | H114: =IFERROR(VLOOKUP(G114,$U$6:$AB$538,3,FALSE),"") | N114: =IF(E114="","",'OPĆI DIO'!$C$1) | O114: =LEFT(F114,2) | P114: =LEFT(F114,3) | U114: =V114&"-"&X114 -> 66323-565 | V114: 66323 | W114: Kapitalne donacije od trgovačkih društava | X114: 565 | Y114: Europski poljoprivredni fond za ruralni razvoj - predfinanciranje iz izvora 11 Opći prihodi i primici | Z114: =LEFT(V114,3) -> 663 | AA114: =LEFT(V114,2) -> 66 | AB114: 565
A115: =IF(E115="","",VLOOKUP('OPĆI DIO'!$C$1,'OPĆI DIO'!$N$4:$W$150,10,FALSE)) | B115: =IF(E115="","",VLOOKUP('OPĆI DIO'!$C$1,'OPĆI DIO'!$N$4:$W$150,9,FALSE)) | C115: =IFERROR(VLOOKUP(G115,$U$6:$AB$538,8,FALSE),"") | E115: =IFERROR(VLOOKUP(F115,$V$6:$Y$122,4,FALSE),"") | F115: =IFERROR(VLOOKUP(G115,$U$6:$AB$538,2,FALSE),"") | H115: =IFERROR(VLOOKUP(G115,$U$6:$AB$538,3,FALSE),"") | N115: =IF(E115="","",'OPĆI DIO'!$C$1) | O115: =LEFT(F115,2) | P115: =LEFT(F115,3) | U115: =V115&"-"&X115 -> 66323-566 | V115: 66323 | W115: Kapitalne donacije od trgovačkih društava | X115: 566 | Y115: Modernizacijski fond - predfinanciranje iz izvora 11 Opći prihodi i primici | Z115: =LEFT(V115,3) -> 663 | AA115: =LEFT(V115,2) -> 66 | AB115: 566
A116: =IF(E116="","",VLOOKUP('OPĆI DIO'!$C$1,'OPĆI DIO'!$N$4:$W$150,10,FALSE)) | B116: =IF(E116="","",VLOOKUP('OPĆI DIO'!$C$1,'OPĆI DIO'!$N$4:$W$150,9,FALSE)) | C116: =IFERROR(VLOOKUP(G116,$U$6:$AB$538,8,FALSE),"") | E116: =IFERROR(VLOOKUP(F116,$V$6:$Y$122,4,FALSE),"") | F116: =IFERROR(VLOOKUP(G116,$U$6:$AB$538,2,FALSE),"") | H116: =IFERROR(VLOOKUP(G116,$U$6:$AB$538,3,FALSE),"") | N116: =IF(E116="","",'OPĆI DIO'!$C$1) | O116: =LEFT(F116,2) | P116: =LEFT(F116,3) | U116: =V116&"-"&X116 -> 66323-567 | V116: 66323 | W116: Kapitalne donacije od trgovačkih društava | X116: 567 | Y116: Socijalni fond za klimatsku politiku - predfinanciranje iz izvora 11 Opći prihodi i primici | Z116: =LEFT(V116,3) -> 663 | AA116: =LEFT(V116,2) -> 66 | AB116: 567
A117: =IF(E117="","",VLOOKUP('OPĆI DIO'!$C$1,'OPĆI DIO'!$N$4:$W$150,10,FALSE)) | B117: =IF(E117="","",VLOOKUP('OPĆI DIO'!$C$1,'OPĆI DIO'!$N$4:$W$150,9,FALSE)) | C117: =IFERROR(VLOOKUP(G117,$U$6:$AB$538,8,FALSE),"") | E117: =IFERROR(VLOOKUP(F117,$V$6:$Y$122,4,FALSE),"") | F117: =IFERROR(VLOOKUP(G117,$U$6:$AB$538,2,FALSE),"") | H117: =IFERROR(VLOOKUP(G117,$U$6:$AB$538,3,FALSE),"") | N117: =IF(E117="","",'OPĆI DIO'!$C$1) | O117: =LEFT(F117,2) | P117: =LEFT(F117,3) | U117: =V117&"-"&X117 -> 66323-575 | V117: 66323 | W117: Kapitalne donacije od trgovačkih društava | X117: 575 | Y117: Fond za azil, migracije i integraciju - predfinanciranje iz izvora 11 Opći prihodi i primici | Z117: =LEFT(V117,3) -> 663 | AA117: =LEFT(V117,2) -> 66 | AB117: 575
A118: =IF(E118="","",VLOOKUP('OPĆI DIO'!$C$1,'OPĆI DIO'!$N$4:$W$150,10,FALSE)) | B118: =IF(E118="","",VLOOKUP('OPĆI DIO'!$C$1,'OPĆI DIO'!$N$4:$W$150,9,FALSE)) | C118: =IFERROR(VLOOKUP(G118,$U$6:$AB$538,8,FALSE),"") | E118: =IFERROR(VLOOKUP(F118,$V$6:$Y$122,4,FALSE),"") | F118: =IFERROR(VLOOKUP(G118,$U$6:$AB$538,2,FALSE),"") | H118: =IFERROR(VLOOKUP(G118,$U$6:$AB$538,3,FALSE),"") | N118: =IF(E118="","",'OPĆI DIO'!$C$1) | O118: =LEFT(F118,2) | P118: =LEFT(F118,3) | U118: =V118&"-"&X118 -> 66323-577 | V118: 66323 | W118: Kapitalne donacije od trgovačkih društava | X118: 577 | Y118: Fond za pravednu tranziciju - predfinanciranje iz izvora 11 Opći prihodi i primici | Z118: =LEFT(V118,3) -> 663 | AA118: =LEFT(V118,2) -> 66 | AB118: 577
A119: =IF(E119="","",VLOOKUP('OPĆI DIO'!$C$1,'OPĆI DIO'!$N$4:$W$150,10,FALSE)) | B119: =IF(E119="","",VLOOKUP('OPĆI DIO'!$C$1,'OPĆI DIO'!$N$4:$W$150,9,FALSE)) | C119: =IFERROR(VLOOKUP(G119,$U$6:$AB$538,8,FALSE),"") | E119: =IFERROR(VLOOKUP(F119,$V$6:$Y$122,4,FALSE),"") | F119: =IFERROR(VLOOKUP(G119,$U$6:$AB$538,2,FALSE),"") | H119: =IFERROR(VLOOKUP(G119,$U$6:$AB$538,3,FALSE),"") | N119: =IF(E119="","",'OPĆI DIO'!$C$1) | O119: =LEFT(F119,2) | P119: =LEFT(F119,3) | U119: =V119&"-"&X119 -> 66323-578 | V119: 66323 | W119: Kapitalne donacije od trgovačkih društava | X119: 578 | Y119: Fond za unutarnju sigurnost - predfinanciranje iz izvora 11 Opći prihodi i primici | Z119: =LEFT(V119,3) -> 663 | AA119: =LEFT(V119,2) -> 66 | AB119: 578
A120: =IF(E120="","",VLOOKUP('OPĆI DIO'!$C$1,'OPĆI DIO'!$N$4:$W$150,10,FALSE)) | B120: =IF(E120="","",VLOOKUP('OPĆI DIO'!$C$1,'OPĆI DIO'!$N$4:$W$150,9,FALSE)) | C120: =IFERROR(VLOOKUP(G120,$U$6:$AB$538,8,FALSE),"") | E120: =IFERROR(VLOOKUP(F120,$V$6:$Y$122,4,FALSE),"") | F120: =IFERROR(VLOOKUP(G120,$U$6:$AB$538,2,FALSE),"") | H120: =IFERROR(VLOOKUP(G120,$U$6:$AB$538,3,FALSE),"") | N120: =IF(E120="","",'OPĆI DIO'!$C$1) | O120: =LEFT(F120,2) | P120: =LEFT(F120,3) | U120: =V120&"-"&X120 -> 66323-579 | V120: 66323 | W120: Kapitalne donacije od trgovačkih društava | X120: 579 | Y120: Fond za integrirano upravljanje granicama - predfinanciranje iz izvora 11 Opći prihodi i primici | Z120: =LEFT(V120,3) -> 663 | AA120: =LEFT(V120,2) -> 66 | AB120: 579
A121: =IF(E121="","",VLOOKUP('OPĆI DIO'!$C$1,'OPĆI DIO'!$N$4:$W$150,10,FALSE)) | B121: =IF(E121="","",VLOOKUP('OPĆI DIO'!$C$1,'OPĆI DIO'!$N$4:$W$150,9,FALSE)) | C121: =IFERROR(VLOOKUP(G121,$U$6:$AB$538,8,FALSE),"") | E121: =IFERROR(VLOOKUP(F121,$V$6:$Y$122,4,FALSE),"") | F121: =IFERROR(VLOOKUP(G121,$U$6:$AB$538,2,FALSE),"") | H121: =IFERROR(VLOOKUP(G121,$U$6:$AB$538,3,FALSE),"") | N121: =IF(E121="","",'OPĆI DIO'!$C$1) | O121: =LEFT(F121,2) | P121: =LEFT(F121,3) | U121: =V121&"-"&X121 -> 66323-581 | V121: 66323 | W121: Kapitalne donacije od trgovačkih društava | X121: 581 | Y121: Mehanizam za oporavak i otpornost – bespovratna sredstva – raspoloživ predujam ili unaprijed naplaćen prihod | Z121: =LEFT(V121,3) -> 663 | AA121: =LEFT(V121,2) -> 66 | AB121: 581
A122: =IF(E122="","",VLOOKUP('OPĆI DIO'!$C$1,'OPĆI DIO'!$N$4:$W$150,10,FALSE)) | B122: =IF(E122="","",VLOOKUP('OPĆI DIO'!$C$1,'OPĆI DIO'!$N$4:$W$150,9,FALSE)) | C122: =IFERROR(VLOOKUP(G122,$U$6:$AB$538,8,FALSE),"") | E122: =IFERROR(VLOOKUP(F122,$V$6:$Y$122,4,FALSE),"") | F122: =IFERROR(VLOOKUP(G122,$U$6:$AB$538,2,FALSE),"") | H122: =IFERROR(VLOOKUP(G122,$U$6:$AB$538,3,FALSE),"") | N122: =IF(E122="","",'OPĆI DIO'!$C$1) | O122: =LEFT(F122,2) | P122: =LEFT(F122,3) | U122: =V122&"-"&X122 -> 66323-61 | V122: 66323 | W122: Kapitalne donacije od trgovačkih društava | X122: 61 | Y122: Donacije | Z122: =LEFT(V122,3) -> 663 | AA122: =LEFT(V122,2) -> 66 | AB122: 61
A123: =IF(E123="","",VLOOKUP('OPĆI DIO'!$C$1,'OPĆI DIO'!$N$4:$W$150,10,FALSE)) | B123: =IF(E123="","",VLOOKUP('OPĆI DIO'!$C$1,'OPĆI DIO'!$N$4:$W$150,9,FALSE)) | C123: =IFERROR(VLOOKUP(G123,$U$6:$AB$538,8,FALSE),"") | E123: =IFERROR(VLOOKUP(F123,$V$6:$Y$122,4,FALSE),"") | F123: =IFERROR(VLOOKUP(G123,$U$6:$AB$538,2,FALSE),"") | H123: =IFERROR(VLOOKUP(G123,$U$6:$AB$538,3,FALSE),"") | N123: =IF(E123="","",'OPĆI DIO'!$C$1) | O123: =LEFT(F123,2) | P123: =LEFT(F123,3) | U123: =V123&"-"&X123 -> 66324-561 | V123: 66324 | W123: Kapitalne donacije od ostalih subjekata izvan općeg proračuna | X123: 561 | Y123: Europski socijalni fond plus – predfinanciranje iz izvora 11 Opći prihodi i primici | Z123: =LEFT(V123,3) -> 663 | AA123: =LEFT(V123,2) -> 66 | AB123: 561
A124: =IF(E124="","",VLOOKUP('OPĆI DIO'!$C$1,'OPĆI DIO'!$N$4:$W$150,10,FALSE)) | B124: =IF(E124="","",VLOOKUP('OPĆI DIO'!$C$1,'OPĆI DIO'!$N$4:$W$150,9,FALSE)) | C124: =IFERROR(VLOOKUP(G124,$U$6:$AB$538,8,FALSE),"") | E124: =IFERROR(VLOOKUP(F124,$V$6:$Y$122,4,FALSE),"") | F124: =IFERROR(VLOOKUP(G124,$U$6:$AB$538,2,FALSE),"") | H124: =IFERROR(VLOOKUP(G124,$U$6:$AB$538,3,FALSE),"") | N124: =IF(E124="","",'OPĆI DIO'!$C$1) | O124: =LEFT(F124,2) | P124: =LEFT(F124,3) | U124: =V124&"-"&X124 -> 66324-562 | V124: 66324 | W124: Kapitalne donacije od ostalih subjekata izvan općeg proračuna | X124: 562 | Y124: Kohezijski fond - predfinanciranje iz izvora 11 Opći prihodi i primici | Z124: =LEFT(V124,3) -> 663 | AA124: =LEFT(V124,2) -> 66 | AB124: 562
A125: =IF(E125="","",VLOOKUP('OPĆI DIO'!$C$1,'OPĆI DIO'!$N$4:$W$150,10,FALSE)) | B125: =IF(E125="","",VLOOKUP('OPĆI DIO'!$C$1,'OPĆI DIO'!$N$4:$W$150,9,FALSE)) | C125: =IFERROR(VLOOKUP(G125,$U$6:$AB$538,8,FALSE),"") | E125: =IFERROR(VLOOKUP(F125,$V$6:$Y$122,4,FALSE),"") | F125: =IFERROR(VLOOKUP(G125,$U$6:$AB$538,2,FALSE),"") | H125: =IFERROR(VLOOKUP(G125,$U$6:$AB$538,3,FALSE),"") | N125: =IF(E125="","",'OPĆI DIO'!$C$1) | O125: =LEFT(F125,2) | P125: =LEFT(F125,3) | U125: =V125&"-"&X125 -> 66324-563 | V125: 66324 | W125: Kapitalne donacije od ostalih subjekata izvan općeg proračuna | X125: 563 | Y125: Europski fond za regionalni razvoj - predfinanciranje iz izvora 11 Opći prihodi i primici | Z125: =LEFT(V125,3) -> 663 | AA125: =LEFT(V125,2) -> 66 | AB125: 563
A126: =IF(E126="","",VLOOKUP('OPĆI DIO'!$C$1,'OPĆI DIO'!$N$4:$W$150,10,FALSE)) | B126: =IF(E126="","",VLOOKUP('OPĆI DIO'!$C$1,'OPĆI DIO'!$N$4:$W$150,9,FALSE)) | C126: =IFERROR(VLOOKUP(G126,$U$6:$AB$538,8,FALSE),"") | E126: =IFERROR(VLOOKUP(F126,$V$6:$Y$122,4,FALSE),"") | F126: =IFERROR(VLOOKUP(G126,$U$6:$AB$538,2,FALSE),"") | H126: =IFERROR(VLOOKUP(G126,$U$6:$AB$538,3,FALSE),"") | N126: =IF(E126="","",'OPĆI DIO'!$C$1) | O126: =LEFT(F126,2) | P126: =LEFT(F126,3) | U126: 66324-56331 | V126: 66324 | W126: Kapitalne donacije od ostalih subjekata izvan općeg proračuna | X126: 56331 | Y126: Europski fond za regionalni razvoj - predfinanciranje iz izvora 31 Vlastiti prihodi | Z126: =LEFT(V126,3) -> 663 | AA126: =LEFT(V126,2) -> 66 | AB126: 56331
...

Sheet Unos rashoda i izdataka
A1: Plan za unos u SAP - rashodi i izdaci | F1: =IF(OR('[3]OPĆI DIO'!C1="odaberite -",'[3]OPĆI DIO'!C1=""),"Molimo odaberite proračunskog korisnika na radnom listu Opći podaci!","") -> Molimo odaberite proračunskog korisnika na radnom listu Opći podaci! | M1: u EUR
A2: GLAVA | B2: OPIS GLAVE | C2: IZVOR NA TERET | D2: IZVOR (odaberite) | E2: OPIS IZVORA | F2: Stavka (odaberite) | G2: OPIS STAVKE | H2: AKTIVNOST (odaberite) | I2: OPIS AKTIVNOSTI | J2: FP | K2: PLAN 2027. | L2: PROJEKCIJA 2028. | M2: PROJEKCIJA 2029. | N2: Primatelj prijenosa | O2: Ustanova | P2: left3 | Q2: left2 | R2: leftIzvor | S2: mid | T2: left1 | U2: IzvorKrovno
A3: =IF(D3="","",VLOOKUP('OPĆI DIO'!$C$1,'OPĆI DIO'!$N$4:$W$150,10,FALSE)) -> 08091 | B3: =IF(D3="","",VLOOKUP('OPĆI DIO'!$C$1,'OPĆI DIO'!$N$4:$W$150,9,FALSE)) -> Agencije | C3: =IFERROR(VLOOKUP(D3,$V$6:$X$36,3,FALSE),"") -> 11 | D3: 11 | E3: =IFERROR(VLOOKUP(D3,$V$6:$W$37,2,FALSE),"") -> Opći prihodi i primici | F3: 3111 | G3: =IFERROR(VLOOKUP(F3,$Y$5:$AA$129,2,FALSE),"") -> Plaće za redovan rad | H3: A580046 | I3: =IFERROR(VLOOKUP(H3,$AE$6:$AF$349,2,FALSE),"") -> ADMINISTRACIJA I UPRAVLJANJE NACIONALNOG CENTRA ZA VANJSKO VREDNOVANJE OBRAZOVANJA | J3: =IFERROR(VLOOKUP(H3,$AE$6:$AI$350,3,FALSE),"") -> 0970 | K3: 2142000 | L3: 2142000 | M3: 2142000 | O3: =IF(D3="","",'OPĆI DIO'!$C$1) -> 40883 NACIONALNI CENTAR ZA VANJSKO VREDNOVANJE OBRAZOVANJA | P3: =LEFT(F3,3) -> 311 | Q3: =LEFT(F3,2) -> 31 | R3: =LEFT(C3,3) -> 11 | S3: =MID(J3,2,2) -> 97 | T3: =LEFT(F3,1) -> 3 | U3: =IFERROR(VLOOKUP(C3,$V$6:$X$36,3,FALSE),"") -> 11
A4: =IF(D4="","",VLOOKUP('OPĆI DIO'!$C$1,'OPĆI DIO'!$N$4:$W$150,10,FALSE)) -> 08091 | B4: =IF(D4="","",VLOOKUP('OPĆI DIO'!$C$1,'OPĆI DIO'!$N$4:$W$150,9,FALSE)) -> Agencije | C4: =IFERROR(VLOOKUP(D4,$V$6:$X$36,3,FALSE),"") -> 11 | D4: 11 | E4: =IFERROR(VLOOKUP(D4,$V$6:$W$37,2,FALSE),"") -> Opći prihodi i primici | F4: 3113 | G4: =IFERROR(VLOOKUP(F4,$Y$5:$AA$129,2,FALSE),"") -> Plaće za prekovremeni rad | H4: A580046 | I4: =IFERROR(VLOOKUP(H4,$AE$6:$AF$349,2,FALSE),"") -> ADMINISTRACIJA I UPRAVLJANJE NACIONALNOG CENTRA ZA VANJSKO VREDNOVANJE OBRAZOVANJA | J4: =IFERROR(VLOOKUP(H4,$AE$6:$AI$350,3,FALSE),"") -> 0970 | K4: 21000 | L4: 21000 | M4: 21000 | O4: =IF(D4="","",'OPĆI DIO'!$C$1) -> 40883 NACIONALNI CENTAR ZA VANJSKO VREDNOVANJE OBRAZOVANJA | P4: =LEFT(F4,3) -> 311 | Q4: =LEFT(F4,2) -> 31 | R4: =LEFT(C4,3) -> 11 | S4: =MID(J4,2,2) -> 97 | T4: =LEFT(F4,1) -> 3 | U4: =IFERROR(VLOOKUP(C4,$V$6:$X$36,3,FALSE),"") -> 11
A5: =IF(D5="","",VLOOKUP('OPĆI DIO'!$C$1,'OPĆI DIO'!$N$4:$W$150,10,FALSE)) -> 08091 | B5: =IF(D5="","",VLOOKUP('OPĆI DIO'!$C$1,'OPĆI DIO'!$N$4:$W$150,9,FALSE)) -> Agencije | C5: =IFERROR(VLOOKUP(D5,$V$6:$X$36,3,FALSE),"") -> 11 | D5: 11 | E5: =IFERROR(VLOOKUP(D5,$V$6:$W$37,2,FALSE),"") -> Opći prihodi i primici | F5: 3121 | G5: =IFERROR(VLOOKUP(F5,$Y$5:$AA$129,2,FALSE),"") -> Ostali rashodi za zaposlene | H5: A580046 | I5: =IFERROR(VLOOKUP(H5,$AE$6:$AF$349,2,FALSE),"") -> ADMINISTRACIJA I UPRAVLJANJE NACIONALNOG CENTRA ZA VANJSKO VREDNOVANJE OBRAZOVANJA | J5: =IFERROR(VLOOKUP(H5,$AE$6:$AI$350,3,FALSE),"") -> 0970 | K5: 84000 | L5: 84000 | M5: 84000 | O5: =IF(D5="","",'OPĆI DIO'!$C$1) -> 40883 NACIONALNI CENTAR ZA VANJSKO VREDNOVANJE OBRAZOVANJA | P5: =LEFT(F5,3) -> 312 | Q5: =LEFT(F5,2) -> 31 | R5: =LEFT(C5,3) -> 11 | S5: =MID(J5,2,2) -> 97 | T5: =LEFT(F5,1) -> 3 | U5: =IFERROR(VLOOKUP(C5,$V$6:$X$36,3,FALSE),"") -> 11 | V5: IZVOR | W5: OPIS IZVORA | Y5: 3111 | Z5: Plaće za redovan rad | AB5: =LEFT(Y5,2) -> 31 | AC5: =LEFT(Y5,3) -> 311 | AE5: AKTIVNOST | AF5: OPIS AKTIVNOSTI
A6: =IF(D6="","",VLOOKUP('OPĆI DIO'!$C$1,'OPĆI DIO'!$N$4:$W$150,10,FALSE)) -> 08091 | B6: =IF(D6="","",VLOOKUP('OPĆI DIO'!$C$1,'OPĆI DIO'!$N$4:$W$150,9,FALSE)) -> Agencije | C6: =IFERROR(VLOOKUP(D6,$V$6:$X$36,3,FALSE),"") -> 11 | D6: 11 | E6: =IFERROR(VLOOKUP(D6,$V$6:$W$37,2,FALSE),"") -> Opći prihodi i primici | F6: 3132 | G6: =IFERROR(VLOOKUP(F6,$Y$5:$AA$129,2,FALSE),"") -> Doprinosi za obvezno zdravstveno osiguranje | H6: A580046 | I6: =IFERROR(VLOOKUP(H6,$AE$6:$AF$349,2,FALSE),"") -> ADMINISTRACIJA I UPRAVLJANJE NACIONALNOG CENTRA ZA VANJSKO VREDNOVANJE OBRAZOVANJA | J6: =IFERROR(VLOOKUP(H6,$AE$6:$AI$350,3,FALSE),"") -> 0970 | K6: 357000 | L6: 357000 | M6: 357000 | O6: =IF(D6="","",'OPĆI DIO'!$C$1) -> 40883 NACIONALNI CENTAR ZA VANJSKO VREDNOVANJE OBRAZOVANJA | P6: =LEFT(F6,3) -> 313 | Q6: =LEFT(F6,2) -> 31 | R6: =LEFT(C6,3) -> 11 | S6: =MID(J6,2,2) -> 97 | T6: =LEFT(F6,1) -> 3 | U6: =IFERROR(VLOOKUP(C6,$V$6:$X$36,3,FALSE),"") -> 11 | V6: 11 | W6: Opći prihodi i primici | X6: 11 | Y6: 3112 | Z6: Plaće u naravi | AB6: =LEFT(Y6,2) -> 31 | AC6: =LEFT(Y6,3) -> 311 | AE6: Podprogram (P3) | AF6: Naziv P3 | AG6: Funkcijsko područje | AH6: Naziv FP | AI6: NOVA AKT | AJ6: NOVA AKT
A7: =IF(D7="","",VLOOKUP('OPĆI DIO'!$C$1,'OPĆI DIO'!$N$4:$W$150,10,FALSE)) -> 08091 | B7: =IF(D7="","",VLOOKUP('OPĆI DIO'!$C$1,'OPĆI DIO'!$N$4:$W$150,9,FALSE)) -> Agencije | C7: =IFERROR(VLOOKUP(D7,$V$6:$X$36,3,FALSE),"") -> 11 | D7: 11 | E7: =IFERROR(VLOOKUP(D7,$V$6:$W$37,2,FALSE),"") -> Opći prihodi i primici | F7: 3211 | G7: =IFERROR(VLOOKUP(F7,$Y$5:$AA$129,2,FALSE),"") -> Službena putovanja | H7: A580046 | I7: =IFERROR(VLOOKUP(H7,$AE$6:$AF$349,2,FALSE),"") -> ADMINISTRACIJA I UPRAVLJANJE NACIONALNOG CENTRA ZA VANJSKO VREDNOVANJE OBRAZOVANJA | J7: =IFERROR(VLOOKUP(H7,$AE$6:$AI$350,3,FALSE),"") -> 0970 | K7: 25000 | L7: 25000 | M7: 25000 | O7: =IF(D7="","",'OPĆI DIO'!$C$1) -> 40883 NACIONALNI CENTAR ZA VANJSKO VREDNOVANJE OBRAZOVANJA | P7: =LEFT(F7,3) -> 321 | Q7: =LEFT(F7,2) -> 32 | R7: =LEFT(C7,3) -> 11 | S7: =MID(J7,2,2) -> 97 | T7: =LEFT(F7,1) -> 3 | U7: =IFERROR(VLOOKUP(C7,$V$6:$X$36,3,FALSE),"") -> 11 | V7: 12 | W7: Sredstva učešća za pomoći | X7: 12 | Y7: 3113 | Z7: Plaće za prekovremeni rad | AB7: =LEFT(Y7,2) -> 31 | AC7: =LEFT(Y7,3) -> 311 | AE7: A557041 | AF7: PREUZIMANJE OBVEZA ZA PROJEKTE JAVNO PRIVATNOG PARTNERSTVA U VARAŽDINSKOJ I KOPRIVNIČKO-KRIŽEVAČKOJ ŽUPANIJI | AG7: 0912 | AH7: Osnovno obrazovanje | AI7: =LEFT(AG7,2) -> 09 | AJ7: =LEFT(AG7,3) -> 091
A8: =IF(D8="","",VLOOKUP('OPĆI DIO'!$C$1,'OPĆI DIO'!$N$4:$W$150,10,FALSE)) -> 08091 | B8: =IF(D8="","",VLOOKUP('OPĆI DIO'!$C$1,'OPĆI DIO'!$N$4:$W$150,9,FALSE)) -> Agencije | C8: =IFERROR(VLOOKUP(D8,$V$6:$X$36,3,FALSE),"") -> 11 | D8: 11 | E8: =IFERROR(VLOOKUP(D8,$V$6:$W$37,2,FALSE),"") -> Opći prihodi i primici | F8: 3212 | G8: =IFERROR(VLOOKUP(F8,$Y$5:$AA$129,2,FALSE),"") -> Naknade za prijevoz, za rad na terenu i odvojeni život | H8: A580046 | I8: =IFERROR(VLOOKUP(H8,$AE$6:$AF$349,2,FALSE),"") -> ADMINISTRACIJA I UPRAVLJANJE NACIONALNOG CENTRA ZA VANJSKO VREDNOVANJE OBRAZOVANJA | J8: =IFERROR(VLOOKUP(H8,$AE$6:$AI$350,3,FALSE),"") -> 0970 | K8: 50000 | L8: 50000 | M8: 50000 | O8: =IF(D8="","",'OPĆI DIO'!$C$1) -> 40883 NACIONALNI CENTAR ZA VANJSKO VREDNOVANJE OBRAZOVANJA | P8: =LEFT(F8,3) -> 321 | Q8: =LEFT(F8,2) -> 32 | R8: =LEFT(C8,3) -> 11 | S8: =MID(J8,2,2) -> 97 | T8: =LEFT(F8,1) -> 3 | U8: =IFERROR(VLOOKUP(C8,$V$6:$X$36,3,FALSE),"") -> 11 | V8: 31 | W8: Vlastiti prihodi | X8: 31 | Y8: 3114 | Z8: Plaće za posebne uvjete rada | AB8: =LEFT(Y8,2) -> 31 | AC8: =LEFT(Y8,3) -> 311 | AE8: A557043 | AF8: NACIONALNO VIJEĆE ZA ODGOJ I OBRAZOVANJE | AG8: 0970 | AH8: Istraživanje i razvoj obrazovanja | AI8: =LEFT(AG8,2) -> 09 | AJ8: =LEFT(AG8,3) -> 097
A9: =IF(D9="","",VLOOKUP('OPĆI DIO'!$C$1,'OPĆI DIO'!$N$4:$W$150,10,FALSE)) -> 08091 | B9: =IF(D9="","",VLOOKUP('OPĆI DIO'!$C$1,'OPĆI DIO'!$N$4:$W$150,9,FALSE)) -> Agencije | C9: =IFERROR(VLOOKUP(D9,$V$6:$X$36,3,FALSE),"") -> 11 | D9: 11 | E9: =IFERROR(VLOOKUP(D9,$V$6:$W$37,2,FALSE),"") -> Opći prihodi i primici | F9: 3213 | G9: =IFERROR(VLOOKUP(F9,$Y$5:$AA$129,2,FALSE),"") -> Stručno usavršavanje zaposlenika | H9: A580046 | I9: =IFERROR(VLOOKUP(H9,$AE$6:$AF$349,2,FALSE),"") -> ADMINISTRACIJA I UPRAVLJANJE NACIONALNOG CENTRA ZA VANJSKO VREDNOVANJE OBRAZOVANJA | J9: =IFERROR(VLOOKUP(H9,$AE$6:$AI$350,3,FALSE),"") -> 0970 | K9: 5000 | L9: 5000 | M9: 5000 | O9: =IF(D9="","",'OPĆI DIO'!$C$1) -> 40883 NACIONALNI CENTAR ZA VANJSKO VREDNOVANJE OBRAZOVANJA | P9: =LEFT(F9,3) -> 321 | Q9: =LEFT(F9,2) -> 32 | R9: =LEFT(C9,3) -> 11 | S9: =MID(J9,2,2) -> 97 | T9: =LEFT(F9,1) -> 3 | U9: =IFERROR(VLOOKUP(C9,$V$6:$X$36,3,FALSE),"") -> 11 | V9: 41 | W9: Prihodi od igara na sreću | X9: 41 | Y9: 3121 | Z9: Ostali rashodi za zaposlene | AB9: =LEFT(Y9,2) -> 31 | AC9: =LEFT(Y9,3) -> 312 | AE9: A558047 | AF9: POLITIKA ZA MLADE | AG9: 1040 | AH9: Obitelj i djeca | AI9: =LEFT(AG9,2) -> 10 | AJ9: =LEFT(AG9,3) -> 104
A10: =IF(D10="","",VLOOKUP('OPĆI DIO'!$C$1,'OPĆI DIO'!$N$4:$W$150,10,FALSE)) -> 08091 | B10: =IF(D10="","",VLOOKUP('OPĆI DIO'!$C$1,'OPĆI DIO'!$N$4:$W$150,9,FALSE)) -> Agencije | C10: =IFERROR(VLOOKUP(D10,$V$6:$X$36,3,FALSE),"") -> 11 | D10: 11 | E10: =IFERROR(VLOOKUP(D10,$V$6:$W$37,2,FALSE),"") -> Opći prihodi i primici | F10: 3214 | G10: =IFERROR(VLOOKUP(F10,$Y$5:$AA$129,2,FALSE),"") -> Ostale naknade troškova zaposlenima | H10: A580046 | I10: =IFERROR(VLOOKUP(H10,$AE$6:$AF$349,2,FALSE),"") -> ADMINISTRACIJA I UPRAVLJANJE NACIONALNOG CENTRA ZA VANJSKO VREDNOVANJE OBRAZOVANJA | J10: =IFERROR(VLOOKUP(H10,$AE$6:$AI$350,3,FALSE),"") -> 0970 | K10: 0 | L10: 0 | M10: 0 | O10: =IF(D10="","",'OPĆI DIO'!$C$1) -> 40883 NACIONALNI CENTAR ZA VANJSKO VREDNOVANJE OBRAZOVANJA | P10: =LEFT(F10,3) -> 321 | Q10: =LEFT(F10,2) -> 32 | R10: =LEFT(C10,3) -> 11 | S10: =MID(J10,2,2) -> 97 | T10: =LEFT(F10,1) -> 3 | U10: =IFERROR(VLOOKUP(C10,$V$6:$X$36,3,FALSE),"") -> 11 | V10: 43 | W10: Ostali prihodi za posebne namjene | X10: 43 | Y10: 3132 | Z10: Doprinosi za obvezno zdravstveno osiguranje | AB10: =LEFT(Y10,2) -> 31 | AC10: =LEFT(Y10,3) -> 313 | AE10: A558053 | AF10: POTPORA ZA PROGRAME USMJERENE MLADIMA | AG10: 1040 | AH10: Obitelj i djeca | AI10: =LEFT(AG10,2) -> 10 | AJ10: =LEFT(AG10,3) -> 104
A11: =IF(D11="","",VLOOKUP('OPĆI DIO'!$C$1,'OPĆI DIO'!$N$4:$W$150,10,FALSE)) -> 08091 | B11: =IF(D11="","",VLOOKUP('OPĆI DIO'!$C$1,'OPĆI DIO'!$N$4:$W$150,9,FALSE)) -> Agencije | C11: =IFERROR(VLOOKUP(D11,$V$6:$X$36,3,FALSE),"") -> 11 | D11: 11 | E11: =IFERROR(VLOOKUP(D11,$V$6:$W$37,2,FALSE),"") -> Opći prihodi i primici | F11: 3221 | G11: =IFERROR(VLOOKUP(F11,$Y$5:$AA$129,2,FALSE),"") -> Uredski materijal i ostali materijalni rashodi | H11: A580046 | I11: =IFERROR(VLOOKUP(H11,$AE$6:$AF$349,2,FALSE),"") -> ADMINISTRACIJA I UPRAVLJANJE NACIONALNOG CENTRA ZA VANJSKO VREDNOVANJE OBRAZOVANJA | J11: =IFERROR(VLOOKUP(H11,$AE$6:$AI$350,3,FALSE),"") -> 0970 | K11: 30000 | L11: 30000 | M11: 30000 | O11: =IF(D11="","",'OPĆI DIO'!$C$1) -> 40883 NACIONALNI CENTAR ZA VANJSKO VREDNOVANJE OBRAZOVANJA | P11: =LEFT(F11,3) -> 322 | Q11: =LEFT(F11,2) -> 32 | R11: =LEFT(C11,3) -> 11 | S11: =MID(J11,2,2) -> 97 | T11: =LEFT(F11,1) -> 3 | U11: =IFERROR(VLOOKUP(C11,$V$6:$X$36,3,FALSE),"") -> 11 | V11: 5011 | W11: 5011 Pomoći iz državnog proračuna kroz opće prihode i primitke | X11: 50 | Y11: 3211 | Z11: Službena putovanja | AB11: =LEFT(Y11,2) -> 32 | AC11: =LEFT(Y11,3) -> 321 | AE11: A577000 | AF11: ADMINISTRACIJA I UPRAVLJANJE | AG11: 0970 | AH11: Istraživanje i razvoj obrazovanja | AI11: =LEFT(AG11,2) -> 09 | AJ11: =LEFT(AG11,3) -> 097
A12: =IF(D12="","",VLOOKUP('OPĆI DIO'!$C$1,'OPĆI DIO'!$N$4:$W$150,10,FALSE)) -> 08091 | B12: =IF(D12="","",VLOOKUP('OPĆI DIO'!$C$1,'OPĆI DIO'!$N$4:$W$150,9,FALSE)) -> Agencije | C12: =IFERROR(VLOOKUP(D12,$V$6:$X$36,3,FALSE),"") -> 11 | D12: 11 | E12: =IFERROR(VLOOKUP(D12,$V$6:$W$37,2,FALSE),"") -> Opći prihodi i primici | F12: 3223 | G12: =IFERROR(VLOOKUP(F12,$Y$5:$AA$129,2,FALSE),"") -> Energija | H12: A580046 | I12: =IFERROR(VLOOKUP(H12,$AE$6:$AF$349,2,FALSE),"") -> ADMINISTRACIJA I UPRAVLJANJE NACIONALNOG CENTRA ZA VANJSKO VREDNOVANJE OBRAZOVANJA | J12: =IFERROR(VLOOKUP(H12,$AE$6:$AI$350,3,FALSE),"") -> 0970 | K12: 60000 | L12: 60000 | M12: 60000 | O12: =IF(D12="","",'OPĆI DIO'!$C$1) -> 40883 NACIONALNI CENTAR ZA VANJSKO VREDNOVANJE OBRAZOVANJA | P12: =LEFT(F12,3) -> 322 | Q12: =LEFT(F12,2) -> 32 | R12: =LEFT(C12,3) -> 11 | S12: =MID(J12,2,2) -> 97 | T12: =LEFT(F12,1) -> 3 | U12: =IFERROR(VLOOKUP(C12,$V$6:$X$36,3,FALSE),"") -> 11 | V12: 5012 | W12: 5012 Pomoći iz državnog proračuna kroz nacionalno sufinanciranje EU projekata | X12: 50 | Y12: 3212 | Z12: Naknade za prijevoz, za rad na terenu i odvojeni život | AB12: =LEFT(Y12,2) -> 32 | AC12: =LEFT(Y12,3) -> 321 | AE12: A577000 | AF12: ADMINISTRACIJA I UPRAVLJANJE | AG12: 0980 | AH12: Usluge obrazovanja koje nisu drugdje svrstane | AI12: =LEFT(AG12,2) -> 09 | AJ12: =LEFT(AG12,3) -> 098
A13: =IF(D13="","",VLOOKUP('OPĆI DIO'!$C$1,'OPĆI DIO'!$N$4:$W$150,10,FALSE)) -> 08091 | B13: =IF(D13="","",VLOOKUP('OPĆI DIO'!$C$1,'OPĆI DIO'!$N$4:$W$150,9,FALSE)) -> Agencije | C13: =IFERROR(VLOOKUP(D13,$V$6:$X$36,3,FALSE),"") -> 11 | D13: 11 | E13: =IFERROR(VLOOKUP(D13,$V$6:$W$37,2,FALSE),"") -> Opći prihodi i primici | F13: 3224 | G13: =IFERROR(VLOOKUP(F13,$Y$5:$AA$129,2,FALSE),"") -> Materijal i dijelovi za tekuće i investicijsko održavanje | H13: A580046 | I13: =IFERROR(VLOOKUP(H13,$AE$6:$AF$349,2,FALSE),"") -> ADMINISTRACIJA I UPRAVLJANJE NACIONALNOG CENTRA ZA VANJSKO VREDNOVANJE OBRAZOVANJA | J13: =IFERROR(VLOOKUP(H13,$AE$6:$AI$350,3,FALSE),"") -> 0970 | K13: 3000 | L13: 3000 | M13: 3000 | O13: =IF(D13="","",'OPĆI DIO'!$C$1) -> 40883 NACIONALNI CENTAR ZA VANJSKO VREDNOVANJE OBRAZOVANJA | P13: =LEFT(F13,3) -> 322 | Q13: =LEFT(F13,2) -> 32 | R13: =LEFT(C13,3) -> 11 | S13: =MID(J13,2,2) -> 97 | T13: =LEFT(F13,1) -> 3 | U13: =IFERROR(VLOOKUP(C13,$V$6:$X$36,3,FALSE),"") -> 11 | V13: 5031 | W13: 5031 Pomoći iz državnog proračuna kroz vlastite prihode | X13: 50 | Y13: 3213 | Z13: Stručno usavršavanje zaposlenika | AB13: =LEFT(Y13,2) -> 32 | AC13: =LEFT(Y13,3) -> 321 | AE13: A577004 | AF13: POTPORA UNAPREĐENJU SUSTAVA | AG13: 0970 | AH13: Istraživanje i razvoj obrazovanja | AI13: =LEFT(AG13,2) -> 09 | AJ13: =LEFT(AG13,3) -> 097
A14: =IF(D14="","",VLOOKUP('OPĆI DIO'!$C$1,'OPĆI DIO'!$N$4:$W$150,10,FALSE)) -> 08091 | B14: =IF(D14="","",VLOOKUP('OPĆI DIO'!$C$1,'OPĆI DIO'!$N$4:$W$150,9,FALSE)) -> Agencije | C14: =IFERROR(VLOOKUP(D14,$V$6:$X$36,3,FALSE),"") -> 11 | D14: 11 | E14: =IFERROR(VLOOKUP(D14,$V$6:$W$37,2,FALSE),"") -> Opći prihodi i primici | F14: 3225 | G14: =IFERROR(VLOOKUP(F14,$Y$5:$AA$129,2,FALSE),"") -> Sitni inventar i autogume | H14: A580046 | I14: =IFERROR(VLOOKUP(H14,$AE$6:$AF$349,2,FALSE),"") -> ADMINISTRACIJA I UPRAVLJANJE NACIONALNOG CENTRA ZA VANJSKO VREDNOVANJE OBRAZOVANJA | J14: =IFERROR(VLOOKUP(H14,$AE$6:$AI$350,3,FALSE),"") -> 0970 | K14: 10000 | L14: 10000 | M14: 10000 | O14: =IF(D14="","",'OPĆI DIO'!$C$1) -> 40883 NACIONALNI CENTAR ZA VANJSKO VREDNOVANJE OBRAZOVANJA | P14: =LEFT(F14,3) -> 322 | Q14: =LEFT(F14,2) -> 32 | R14: =LEFT(C14,3) -> 11 | S14: =MID(J14,2,2) -> 97 | T14: =LEFT(F14,1) -> 3 | U14: =IFERROR(VLOOKUP(C14,$V$6:$X$36,3,FALSE),"") -> 11 | V14: 5041 | W14: 5041 Pomoći iz državnog proračuna kroz prihode od igara na sreću | X14: 50 | Y14: 3214 | Z14: Ostale naknade troškova zaposlenima | AB14: =LEFT(Y14,2) -> 32 | AC14: =LEFT(Y14,3) -> 321 | AE14: A577012 | AF14: OBRAZOVANJE DJECE HRVATSKIH GRAĐANA U INOZEMSTVU | AG14: 0970 | AH14: Istraživanje i razvoj obrazovanja | AI14: =LEFT(AG14,2) -> 09 | AJ14: =LEFT(AG14,3) -> 097
A15: =IF(D15="","",VLOOKUP('OPĆI DIO'!$C$1,'OPĆI DIO'!$N$4:$W$150,10,FALSE)) -> 08091 | B15: =IF(D15="","",VLOOKUP('OPĆI DIO'!$C$1,'OPĆI DIO'!$N$4:$W$150,9,FALSE)) -> Agencije | C15: =IFERROR(VLOOKUP(D15,$V$6:$X$36,3,FALSE),"") -> 11 | D15: 11 | E15: =IFERROR(VLOOKUP(D15,$V$6:$W$37,2,FALSE),"") -> Opći prihodi i primici | F15: 3227 | G15: =IFERROR(VLOOKUP(F15,$Y$5:$AA$129,2,FALSE),"") -> Službena, radna i zaštitna odjeća i obuća | H15: A580046 | I15: =IFERROR(VLOOKUP(H15,$AE$6:$AF$349,2,FALSE),"") -> ADMINISTRACIJA I UPRAVLJANJE NACIONALNOG CENTRA ZA VANJSKO VREDNOVANJE OBRAZOVANJA | J15: =IFERROR(VLOOKUP(H15,$AE$6:$AI$350,3,FALSE),"") -> 0970 | K15: 300 | L15: 300 | M15: 300 | O15: =IF(D15="","",'OPĆI DIO'!$C$1) -> 40883 NACIONALNI CENTAR ZA VANJSKO VREDNOVANJE OBRAZOVANJA | P15: =LEFT(F15,3) -> 322 | Q15: =LEFT(F15,2) -> 32 | R15: =LEFT(C15,3) -> 11 | S15: =MID(J15,2,2) -> 97 | T15: =LEFT(F15,1) -> 3 | U15: =IFERROR(VLOOKUP(C15,$V$6:$X$36,3,FALSE),"") -> 11 | V15: 5043 | W15: 5043 Pomoći iz državnog proračuna kroz ostale prihode za posebne namjene | X15: 50 | Y15: 3221 | Z15: Uredski materijal i ostali materijalni rashodi | AB15: =LEFT(Y15,2) -> 32 | AC15: =LEFT(Y15,3) -> 322 | AE15: A577015 | AF15: DRŽAVNE NAGRADE ZA IZUZETNE REZULTATE U OBRAZOVANJU I TEHNIČKOJ KULTURI | AG15: 0942 | AH15: Drugi stupanj visoke naobrazbe | AI15: =LEFT(AG15,2) -> 09 | AJ15: =LEFT(AG15,3) -> 094
A16: =IF(D16="","",VLOOKUP('OPĆI DIO'!$C$1,'OPĆI DIO'!$N$4:$W$150,10,FALSE)) -> 08091 | B16: =IF(D16="","",VLOOKUP('OPĆI DIO'!$C$1,'OPĆI DIO'!$N$4:$W$150,9,FALSE)) -> Agencije | C16: =IFERROR(VLOOKUP(D16,$V$6:$X$36,3,FALSE),"") -> 11 | D16: 11 | E16: =IFERROR(VLOOKUP(D16,$V$6:$W$37,2,FALSE),"") -> Opći prihodi i primici | F16: 3231 | G16: =IFERROR(VLOOKUP(F16,$Y$5:$AA$129,2,FALSE),"") -> Usluge telefona, interneta, pošte i prijevoza | H16: A580046 | I16: =IFERROR(VLOOKUP(H16,$AE$6:$AF$349,2,FALSE),"") -> ADMINISTRACIJA I UPRAVLJANJE NACIONALNOG CENTRA ZA VANJSKO VREDNOVANJE OBRAZOVANJA | J16: =IFERROR(VLOOKUP(H16,$AE$6:$AI$350,3,FALSE),"") -> 0970 | K16: 30000 | L16: 30000 | M16: 30000 | O16: =IF(D16="","",'OPĆI DIO'!$C$1) -> 40883 NACIONALNI CENTAR ZA VANJSKO VREDNOVANJE OBRAZOVANJA | P16: =LEFT(F16,3) -> 323 | Q16: =LEFT(F16,2) -> 32 | R16: =LEFT(C16,3) -> 11 | S16: =MID(J16,2,2) -> 97 | T16: =LEFT(F16,1) -> 3 | U16: =IFERROR(VLOOKUP(C16,$V$6:$X$36,3,FALSE),"") -> 11 | V16: 5052 | W16: 5052 Pomoći iz državnog proračuna kroz ostale pomoći | X16: 50 | Y16: 3222 | Z16: Materijal i sirovine | AB16: =LEFT(Y16,2) -> 32 | AC16: =LEFT(Y16,3) -> 322 | AE16: A577016 | AF16: PREVENCIJA NASILJA I OVISNOSTI | AG16: 0912 | AH16: Osnovno obrazovanje | AI16: =LEFT(AG16,2) -> 09 | AJ16: =LEFT(AG16,3) -> 091
A17: =IF(D17="","",VLOOKUP('OPĆI DIO'!$C$1,'OPĆI DIO'!$N$4:$W$150,10,FALSE)) -> 08091 | B17: =IF(D17="","",VLOOKUP('OPĆI DIO'!$C$1,'OPĆI DIO'!$N$4:$W$150,9,FALSE)) -> Agencije | C17: =IFERROR(VLOOKUP(D17,$V$6:$X$36,3,FALSE),"") -> 11 | D17: 11 | E17: =IFERROR(VLOOKUP(D17,$V$6:$W$37,2,FALSE),"") -> Opći prihodi i primici | F17: 3232 | G17: =IFERROR(VLOOKUP(F17,$Y$5:$AA$129,2,FALSE),"") -> Usluge tekućeg i investicijskog održavanja | H17: A580046 | I17: =IFERROR(VLOOKUP(H17,$AE$6:$AF$349,2,FALSE),"") -> ADMINISTRACIJA I UPRAVLJANJE NACIONALNOG CENTRA ZA VANJSKO VREDNOVANJE OBRAZOVANJA | J17: =IFERROR(VLOOKUP(H17,$AE$6:$AI$350,3,FALSE),"") -> 0970 | K17: 150702 | L17: 158100 | M17: 158100 | O17: =IF(D17="","",'OPĆI DIO'!$C$1) -> 40883 NACIONALNI CENTAR ZA VANJSKO VREDNOVANJE OBRAZOVANJA | P17: =LEFT(F17,3) -> 323 | Q17: =LEFT(F17,2) -> 32 | R17: =LEFT(C17,3) -> 11 | S17: =MID(J17,2,2) -> 97 | T17: =LEFT(F17,1) -> 3 | U17: =IFERROR(VLOOKUP(C17,$V$6:$X$36,3,FALSE),"") -> 11 | V17: 50810 | W17: 50810 Pomoći iz državnog proračuna kroz namjenske primitke od zaduživanja – ostali | X17: 50 | Y17: 3223 | Z17: Energija | AB17: =LEFT(Y17,2) -> 32 | AC17: =LEFT(Y17,3) -> 322 | AE17: A577028 | AF17: POTICAJI HRVATSKOJ ZAJEDNICI TEHNIČKE KULTURE | AG17: 0820 | AH17: Službe kulture | AI17: =LEFT(AG17,2) -> 08 | AJ17: =LEFT(AG17,3) -> 082
A18: =IF(D18="","",VLOOKUP('OPĆI DIO'!$C$1,'OPĆI DIO'!$N$4:$W$150,10,FALSE)) -> 08091 | B18: =IF(D18="","",VLOOKUP('OPĆI DIO'!$C$1,'OPĆI DIO'!$N$4:$W$150,9,FALSE)) -> Agencije | C18: =IFERROR(VLOOKUP(D18,$V$6:$X$36,3,FALSE),"") -> 11 | D18: 11 | E18: =IFERROR(VLOOKUP(D18,$V$6:$W$37,2,FALSE),"") -> Opći prihodi i primici | F18: 3233 | G18: =IFERROR(VLOOKUP(F18,$Y$5:$AA$129,2,FALSE),"") -> Usluge promidžbe i informiranja | H18: A580046 | I18: =IFERROR(VLOOKUP(H18,$AE$6:$AF$349,2,FALSE),"") -> ADMINISTRACIJA I UPRAVLJANJE NACIONALNOG CENTRA ZA VANJSKO VREDNOVANJE OBRAZOVANJA | J18: =IFERROR(VLOOKUP(H18,$AE$6:$AI$350,3,FALSE),"") -> 0970 | K18: 2500 | L18: 2500 | M18: 2500 | O18: =IF(D18="","",'OPĆI DIO'!$C$1) -> 40883 NACIONALNI CENTAR ZA VANJSKO VREDNOVANJE OBRAZOVANJA | P18: =LEFT(F18,3) -> 323 | Q18: =LEFT(F18,2) -> 32 | R18: =LEFT(C18,3) -> 11 | S18: =MID(J18,2,2) -> 97 | T18: =LEFT(F18,1) -> 3 | U18: =IFERROR(VLOOKUP(C18,$V$6:$X$36,3,FALSE),"") -> 11 | V18: 50815 | W18: 50815 Pomoći iz državnog proračuna kroz namjenske primitke od zaduživanja – NPOO | X18: 51 | Y18: 3224 | Z18: Materijal i dijelovi za tekuće i investicijsko održavanje | AB18: =LEFT(Y18,2) -> 32 | AC18: =LEFT(Y18,3) -> 322 | AE18: A577124 | AF18: HRVATSKA NASTAVA U INOZEMSTVU | AG18: 0970 | AH18: Istraživanje i razvoj obrazovanja | AI18: =LEFT(AG18,2) -> 09 | AJ18: =LEFT(AG18,3) -> 097
... A45: =IF(D45="","",VLOOKUP('OPĆI DIO'!$C$1,'OPĆI DIO'!$N$4:$W$150,10,FALSE)) -> 08091 | B45: =IF(D45="","",VLOOKUP('OPĆI DIO'!$C$1,'OPĆI DIO'!$N$4:$W$150,9,FALSE)) -> Agencije | C45: =IFERROR(VLOOKUP(D45,$V$6:$X$36,3,FALSE),"") -> 11 | D45: 11 | E45: =IFERROR(VLOOKUP(D45,$V$6:$W$37,2,FALSE),"") -> Opći prihodi i primici | F45: 3225 | G45: =IFERROR(VLOOKUP(F45,$Y$5:$AA$129,2,FALSE),"") -> Sitni inventar i autogume | H45: A814000 | I45: =IFERROR(VLOOKUP(H45,$AE$6:$AF$349,2,FALSE),"") -> MEĐUNARODNI PROJEKTI VREDNOVANJA ZNANJA I VJEŠTINA (IEA: ICCS, ICILS, PIRLS, TIMSS - OECD: PISA, TALIS) | J45: =IFERROR(VLOOKUP(H45,$AE$6:$AI$350,3,FALSE),"") -> 0970 | K45: 0 | L45: 0 | M45: 0 | O45: =IF(D45="","",'OPĆI DIO'!$C$1) -> 40883 NACIONALNI CENTAR ZA VANJSKO VREDNOVANJE OBRAZOVANJA | P45: =LEFT(F45,3) -> 322 | Q45: =LEFT(F45,2) -> 32 | R45: =LEFT(C45,3) -> 11 | S45: =MID(J45,2,2) -> 97 | T45: =LEFT(F45,1) -> 3 | U45: =IFERROR(VLOOKUP(C45,$V$6:$X$36,3,FALSE),"") -> 11 | V45: 810 | W45: Namjenski primici od zaduživanja – ostali | X45: 815 | Y45: 3432 | Z45: Negativne tečajne razlike i razlike zbog primjene valutne kl | AB45: =LEFT(Y45,2) -> 34 | AC45: =LEFT(Y45,3) -> 343 | AE45: A580037 | AF45: JAVNI MEĐUMJESNI PRIJEVOZ ZA UČENIKE | AG45: 0922 | AH45: Više srednjoškolsko obrazovanje | AI45: =LEFT(AG45,2) -> 09 | AJ45: =LEFT(AG45,3) -> 092
A46: =IF(D46="","",VLOOKUP('OPĆI DIO'!$C$1,'OPĆI DIO'!$N$4:$W$150,10,FALSE)) -> 08091 | B46: =IF(D46="","",VLOOKUP('OPĆI DIO'!$C$1,'OPĆI DIO'!$N$4:$W$150,9,FALSE)) -> Agencije | C46: =IFERROR(VLOOKUP(D46,$V$6:$X$36,3,FALSE),"") -> 11 | D46: 11 | E46: =IFERROR(VLOOKUP(D46,$V$6:$W$37,2,FALSE),"") -> Opći prihodi i primici | F46: 3231 | G46: =IFERROR(VLOOKUP(F46,$Y$5:$AA$129,2,FALSE),"") -> Usluge telefona, interneta, pošte i prijevoza | H46: A814000 | I46: =IFERROR(VLOOKUP(H46,$AE$6:$AF$349,2,FALSE),"") -> MEĐUNARODNI PROJEKTI VREDNOVANJA ZNANJA I VJEŠTINA (IEA: ICCS, ICILS, PIRLS, TIMSS - OECD: PISA, TALIS) | J46: =IFERROR(VLOOKUP(H46,$AE$6:$AI$350,3,FALSE),"") -> 0970 | K46: 0 | L46: 0 | M46: 0 | O46: =IF(D46="","",'OPĆI DIO'!$C$1) -> 40883 NACIONALNI CENTAR ZA VANJSKO VREDNOVANJE OBRAZOVANJA | P46: =LEFT(F46,3) -> 323 | Q46: =LEFT(F46,2) -> 32 | R46: =LEFT(C46,3) -> 11 | S46: =MID(J46,2,2) -> 97 | T46: =LEFT(F46,1) -> 3 | U46: =IFERROR(VLOOKUP(C46,$V$6:$X$36,3,FALSE),"") -> 11 | V46: 815 | W46: Mehanizam za oporavak i otpornost (NPOO – zajam) | Y46: 3433 | Z46: Zatezne kamate | AB46: =LEFT(Y46,2) -> 34 | AC46: =LEFT(Y46,3) -> 343 | AE46: A580044 | AF46: RAZVOJ SUSTAVA SREDNJOŠKOLSKOG ODGOJA I OBRAZOVANJA | AG46: 0922 | AH46: Više srednjoškolsko obrazovanje | AI46: =LEFT(AG46,2) -> 09 | AJ46: =LEFT(AG46,3) -> 092
A47: =IF(D47="","",VLOOKUP('OPĆI DIO'!$C$1,'OPĆI DIO'!$N$4:$W$150,10,FALSE)) -> 08091 | B47: =IF(D47="","",VLOOKUP('OPĆI DIO'!$C$1,'OPĆI DIO'!$N$4:$W$150,9,FALSE)) -> Agencije | C47: =IFERROR(VLOOKUP(D47,$V$6:$X$36,3,FALSE),"") -> 11 | D47: 11 | E47: =IFERROR(VLOOKUP(D47,$V$6:$W$37,2,FALSE),"") -> Opći prihodi i primici | F47: 3235 | G47: =IFERROR(VLOOKUP(F47,$Y$5:$AA$129,2,FALSE),"") -> Zakupnine i najamnine | H47: A814000 | I47: =IFERROR(VLOOKUP(H47,$AE$6:$AF$349,2,FALSE),"") -> MEĐUNARODNI PROJEKTI VREDNOVANJA ZNANJA I VJEŠTINA (IEA: ICCS, ICILS, PIRLS, TIMSS - OECD: PISA, TALIS) | J47: =IFERROR(VLOOKUP(H47,$AE$6:$AI$350,3,FALSE),"") -> 0970 | K47: 0 | L47: 0 | M47: 0 | O47: =IF(D47="","",'OPĆI DIO'!$C$1) -> 40883 NACIONALNI CENTAR ZA VANJSKO VREDNOVANJE OBRAZOVANJA | P47: =LEFT(F47,3) -> 323 | Q47: =LEFT(F47,2) -> 32 | R47: =LEFT(C47,3) -> 11 | S47: =MID(J47,2,2) -> 97 | T47: =LEFT(F47,1) -> 3 | U47: =IFERROR(VLOOKUP(C47,$V$6:$X$36,3,FALSE),"") -> 11 | Y47: 3434 | Z47: Ostali nespomenuti financijski rashodi | AB47: =LEFT(Y47,2) -> 34 | AC47: =LEFT(Y47,3) -> 343 | AE47: A621021 | AF47: SMJEŠTAJ I PREHRANA STUDENATA STUDENTSKOG CENTRA ZAGREB - SUFINANCIRANJE | AG47: 0960 | AH47: Dodatne usluge u obrazovanju | AI47: =LEFT(AG47,2) -> 09 | AJ47: =LEFT(AG47,3) -> 096
A48: =IF(D48="","",VLOOKUP('OPĆI DIO'!$C$1,'OPĆI DIO'!$N$4:$W$150,10,FALSE)) -> 08091 | B48: =IF(D48="","",VLOOKUP('OPĆI DIO'!$C$1,'OPĆI DIO'!$N$4:$W$150,9,FALSE)) -> Agencije | C48: =IFERROR(VLOOKUP(D48,$V$6:$X$36,3,FALSE),"") -> 11 | D48: 11 | E48: =IFERROR(VLOOKUP(D48,$V$6:$W$37,2,FALSE),"") -> Opći prihodi i primici | F48: 3237 | G48: =IFERROR(VLOOKUP(F48,$Y$5:$AA$129,2,FALSE),"") -> Intelektualne i osobne usluge | H48: A814000 | I48: =IFERROR(VLOOKUP(H48,$AE$6:$AF$349,2,FALSE),"") -> MEĐUNARODNI PROJEKTI VREDNOVANJA ZNANJA I VJEŠTINA (IEA: ICCS, ICILS, PIRLS, TIMSS - OECD: PISA, TALIS) | J48: =IFERROR(VLOOKUP(H48,$AE$6:$AI$350,3,FALSE),"") -> 0970 | K48: 100000 | L48: 100000 | M48: 100000 | O48: =IF(D48="","",'OPĆI DIO'!$C$1) -> 40883 NACIONALNI CENTAR ZA VANJSKO VREDNOVANJE OBRAZOVANJA | P48: =LEFT(F48,3) -> 323 | Q48: =LEFT(F48,2) -> 32 | R48: =LEFT(C48,3) -> 11 | S48: =MID(J48,2,2) -> 97 | T48: =LEFT(F48,1) -> 3 | U48: =IFERROR(VLOOKUP(C48,$V$6:$X$36,3,FALSE),"") -> 11 | Y48: 3511 | Z48: Subvencije kreditnim i ostalim financijskim institucijama u | AB48: =LEFT(Y48,2) -> 35 | AC48: =LEFT(Y48,3) -> 351 | AE48: A621022 | AF48: SMJEŠTAJ I PREHRANA STUDENATA STUDENTSKOG CENTRA OSIJEK - SUFINANCIRANJE | AG48: 0960 | AH48: Dodatne usluge u obrazovanju | AI48: =LEFT(AG48,2) -> 09 | AJ48: =LEFT(AG48,3) -> 096
A49: =IF(D49="","",VLOOKUP('OPĆI DIO'!$C$1,'OPĆI DIO'!$N$4:$W$150,10,FALSE)) -> 08091 | B49: =IF(D49="","",VLOOKUP('OPĆI DIO'!$C$1,'OPĆI DIO'!$N$4:$W$150,9,FALSE)) -> Agencije | C49: =IFERROR(VLOOKUP(D49,$V$6:$X$36,3,FALSE),"") -> 11 | D49: 11 | E49: =IFERROR(VLOOKUP(D49,$V$6:$W$37,2,FALSE),"") -> Opći prihodi i primici | F49: 3238 | G49: =IFERROR(VLOOKUP(F49,$Y$5:$AA$129,2,FALSE),"") -> Računalne usluge | H49: A814000 | I49: =IFERROR(VLOOKUP(H49,$AE$6:$AF$349,2,FALSE),"") -> MEĐUNARODNI PROJEKTI VREDNOVANJA ZNANJA I VJEŠTINA (IEA: ICCS, ICILS, PIRLS, TIMSS - OECD: PISA, TALIS) | J49: =IFERROR(VLOOKUP(H49,$AE$6:$AI$350,3,FALSE),"") -> 0970 | K49: 0 | L49: 0 | M49: 0 | O49: =IF(D49="","",'OPĆI DIO'!$C$1) -> 40883 NACIONALNI CENTAR ZA VANJSKO VREDNOVANJE OBRAZOVANJA | P49: =LEFT(F49,3) -> 323 | Q49: =LEFT(F49,2) -> 32 | R49: =LEFT(C49,3) -> 11 | S49: =MID(J49,2,2) -> 97 | T49: =LEFT(F49,1) -> 3 | U49: =IFERROR(VLOOKUP(C49,$V$6:$X$36,3,FALSE),"") -> 11 | Y49: 3512 | Z49: Subvencije trgovačkim društvima u javnom sektoru | AB49: =LEFT(Y49,2) -> 35 | AC49: =LEFT(Y49,3) -> 351 | AE49: A621023 | AF49: SMJEŠTAJ I PREHRANA STUDENATA STUDENTSKOG CENTRA RIJEKA - SUFINANCIRANJE | AG49: 0960 | AH49: Dodatne usluge u obrazovanju | AI49: =LEFT(AG49,2) -> 09 | AJ49: =LEFT(AG49,3) -> 096
A50: =IF(D50="","",VLOOKUP('OPĆI DIO'!$C$1,'OPĆI DIO'!$N$4:$W$150,10,FALSE)) -> 08091 | B50: =IF(D50="","",VLOOKUP('OPĆI DIO'!$C$1,'OPĆI DIO'!$N$4:$W$150,9,FALSE)) -> Agencije | C50: =IFERROR(VLOOKUP(D50,$V$6:$X$36,3,FALSE),"") -> 11 | D50: 11 | E50: =IFERROR(VLOOKUP(D50,$V$6:$W$37,2,FALSE),"") -> Opći prihodi i primici | F50: 3239 | G50: =IFERROR(VLOOKUP(F50,$Y$5:$AA$129,2,FALSE),"") -> Ostale usluge | H50: A814000 | I50: =IFERROR(VLOOKUP(H50,$AE$6:$AF$349,2,FALSE),"") -> MEĐUNARODNI PROJEKTI VREDNOVANJA ZNANJA I VJEŠTINA (IEA: ICCS, ICILS, PIRLS, TIMSS - OECD: PISA, TALIS) | J50: =IFERROR(VLOOKUP(H50,$AE$6:$AI$350,3,FALSE),"") -> 0970 | K50: 0 | L50: 0 | M50: 0 | O50: =IF(D50="","",'OPĆI DIO'!$C$1) -> 40883 NACIONALNI CENTAR ZA VANJSKO VREDNOVANJE OBRAZOVANJA | P50: =LEFT(F50,3) -> 323 | Q50: =LEFT(F50,2) -> 32 | R50: =LEFT(C50,3) -> 11 | S50: =MID(J50,2,2) -> 97 | T50: =LEFT(F50,1) -> 3 | U50: =IFERROR(VLOOKUP(C50,$V$6:$X$36,3,FALSE),"") -> 11 | Y50: 3522 | Z50: Subvencije trgovačkim društvima izvan javnog sektora | AB50: =LEFT(Y50,2) -> 35 | AC50: =LEFT(Y50,3) -> 352 | AE50: A621024 | AF50: SMJEŠTAJ I PREHRANA STUDENATA STUDENTSKOG CENTRA SPLIT - SUFINANCIRANJE | AG50: 0960 | AH50: Dodatne usluge u obrazovanju | AI50: =LEFT(AG50,2) -> 09 | AJ50: =LEFT(AG50,3) -> 096
A51: =IF(D51="","",VLOOKUP('OPĆI DIO'!$C$1,'OPĆI DIO'!$N$4:$W$150,10,FALSE)) -> 08091 | B51: =IF(D51="","",VLOOKUP('OPĆI DIO'!$C$1,'OPĆI DIO'!$N$4:$W$150,9,FALSE)) -> Agencije | C51: =IFERROR(VLOOKUP(D51,$V$6:$X$36,3,FALSE),"") -> 11 | D51: 11 | E51: =IFERROR(VLOOKUP(D51,$V$6:$W$37,2,FALSE),"") -> Opći prihodi i primici | F51: 3241 | G51: =IFERROR(VLOOKUP(F51,$Y$5:$AA$129,2,FALSE),"") -> Naknade troškova osobama izvan radnog odnosa | H51: A814000 | I51: =IFERROR(VLOOKUP(H51,$AE$6:$AF$349,2,FALSE),"") -> MEĐUNARODNI PROJEKTI VREDNOVANJA ZNANJA I VJEŠTINA (IEA: ICCS, ICILS, PIRLS, TIMSS - OECD: PISA, TALIS) | J51: =IFERROR(VLOOKUP(H51,$AE$6:$AI$350,3,FALSE),"") -> 0970 | K51: 1000 | L51: 1000 | M51: 1000 | O51: =IF(D51="","",'OPĆI DIO'!$C$1) -> 40883 NACIONALNI CENTAR ZA VANJSKO VREDNOVANJE OBRAZOVANJA | P51: =LEFT(F51,3) -> 324 | Q51: =LEFT(F51,2) -> 32 | R51: =LEFT(C51,3) -> 11 | S51: =MID(J51,2,2) -> 97 | T51: =LEFT(F51,1) -> 3 | U51: =IFERROR(VLOOKUP(C51,$V$6:$X$36,3,FALSE),"") -> 11 | Y51: 3531 | Z51: Subvencije trgovačkim društvima, zadrugama, poljoprivrednici | AB51: =LEFT(Y51,2) -> 35 | AC51: =LEFT(Y51,3) -> 353 | AE51: A621026 | AF51: SMJEŠTAJ I PREHRANA STUDENATA STUDENTSKOG CENTRA ŠIBENIK - SUFINANCIRANJE | AG51: 0960 | AH51: Dodatne usluge u obrazovanju | AI51: =LEFT(AG51,2) -> 09 | AJ51: =LEFT(AG51,3) -> 096
A52: =IF(D52="","",VLOOKUP('OPĆI DIO'!$C$1,'OPĆI DIO'!$N$4:$W$150,10,FALSE)) -> 08091 | B52: =IF(D52="","",VLOOKUP('OPĆI DIO'!$C$1,'OPĆI DIO'!$N$4:$W$150,9,FALSE)) -> Agencije | C52: =IFERROR(VLOOKUP(D52,$V$6:$X$36,3,FALSE),"") -> 11 | D52: 11 | E52: =IFERROR(VLOOKUP(D52,$V$6:$W$37,2,FALSE),"") -> Opći prihodi i primici | F52: 3293 | G52: =IFERROR(VLOOKUP(F52,$Y$5:$AA$129,2,FALSE),"") -> Reprezentacija | H52: A814000 | I52: =IFERROR(VLOOKUP(H52,$AE$6:$AF$349,2,FALSE),"") -> MEĐUNARODNI PROJEKTI VREDNOVANJA ZNANJA I VJEŠTINA (IEA: ICCS, ICILS, PIRLS, TIMSS - OECD: PISA, TALIS) | J52: =IFERROR(VLOOKUP(H52,$AE$6:$AI$350,3,FALSE),"") -> 0970 | K52: 0 | L52: 0 | M52: 0 | O52: =IF(D52="","",'OPĆI DIO'!$C$1) -> 40883 NACIONALNI CENTAR ZA VANJSKO VREDNOVANJE OBRAZOVANJA | P52: =LEFT(F52,3) -> 329 | Q52: =LEFT(F52,2) -> 32 | R52: =LEFT(C52,3) -> 11 | S52: =MID(J52,2,2) -> 97 | T52: =LEFT(F52,1) -> 3 | U52: =IFERROR(VLOOKUP(C52,$V$6:$X$36,3,FALSE),"") -> 11 | Y52: 3611 | Z52: Tekuće pomoći inozemnim vladama | AB52: =LEFT(Y52,2) -> 36 | AC52: =LEFT(Y52,3) -> 361 | AE52: A621028 | AF52: SMJEŠTAJ I PREHRANA STUDENATA STUDENTSKOG CENTRA VARAŽDIN - SUFINANCIRANJE | AG52: 0960 | AH52: Dodatne usluge u obrazovanju | AI52: =LEFT(AG52,2) -> 09 | AJ52: =LEFT(AG52,3) -> 096
A53: =IF(D53="","",VLOOKUP('OPĆI DIO'!$C$1,'OPĆI DIO'!$N$4:$W$150,10,FALSE)) -> 08091 | B53: =IF(D53="","",VLOOKUP('OPĆI DIO'!$C$1,'OPĆI DIO'!$N$4:$W$150,9,FALSE)) -> Agencije | C53: =IFERROR(VLOOKUP(D53,$V$6:$X$36,3,FALSE),"") -> 11 | D53: 11 | E53: =IFERROR(VLOOKUP(D53,$V$6:$W$37,2,FALSE),"") -> Opći prihodi i primici | F53: 3294 | G53: =IFERROR(VLOOKUP(F53,$Y$5:$AA$129,2,FALSE),"") -> Članarine i norme | H53: A814000 | I53: =IFERROR(VLOOKUP(H53,$AE$6:$AF$349,2,FALSE),"") -> MEĐUNARODNI PROJEKTI VREDNOVANJA ZNANJA I VJEŠTINA (IEA: ICCS, ICILS, PIRLS, TIMSS - OECD: PISA, TALIS) | J53: =IFERROR(VLOOKUP(H53,$AE$6:$AI$350,3,FALSE),"") -> 0970 | K53: 280000 | L53: 280000 | M53: 280000 | O53: =IF(D53="","",'OPĆI DIO'!$C$1) -> 40883 NACIONALNI CENTAR ZA VANJSKO VREDNOVANJE OBRAZOVANJA | P53: =LEFT(F53,3) -> 329 | Q53: =LEFT(F53,2) -> 32 | R53: =LEFT(C53,3) -> 11 | S53: =MID(J53,2,2) -> 97 | T53: =LEFT(F53,1) -> 3 | U53: =IFERROR(VLOOKUP(C53,$V$6:$X$36,3,FALSE),"") -> 11 | Y53: 3621 | Z53: Tekuće pomoći međunarodnim organizacijama te institucijama i | AB53: =LEFT(Y53,2) -> 36 | AC53: =LEFT(Y53,3) -> 362 | AE53: A621029 | AF53: SMJEŠTAJ I PREHRANA STUDENATA STUDENTSKOG CENTRA SLAVONSKI BROD - SUFINANCIRANJE | AG53: 0960 | AH53: Dodatne usluge u obrazovanju | AI53: =LEFT(AG53,2) -> 09 | AJ53: =LEFT(AG53,3) -> 096
A54: =IF(D54="","",VLOOKUP('OPĆI DIO'!$C$1,'OPĆI DIO'!$N$4:$W$150,10,FALSE)) -> 08091 | B54: =IF(D54="","",VLOOKUP('OPĆI DIO'!$C$1,'OPĆI DIO'!$N$4:$W$150,9,FALSE)) -> Agencije | C54: =IFERROR(VLOOKUP(D54,$V$6:$X$36,3,FALSE),"") -> 11 | D54: 11 | E54: =IFERROR(VLOOKUP(D54,$V$6:$W$37,2,FALSE),"") -> Opći prihodi i primici | F54: 3211 | G54: =IFERROR(VLOOKUP(F54,$Y$5:$AA$129,2,FALSE),"") -> Službena putovanja | H54: A814001 | I54: =IFERROR(VLOOKUP(H54,$AE$6:$AF$349,2,FALSE),"") -> DRŽAVNA MATURA | J54: =IFERROR(VLOOKUP(H54,$AE$6:$AI$350,3,FALSE),"") -> 0970 | K54: 0 | L54: 0 | M54: 0 | O54: =IF(D54="","",'OPĆI DIO'!$C$1) -> 40883 NACIONALNI CENTAR ZA VANJSKO VREDNOVANJE OBRAZOVANJA | P54: =LEFT(F54,3) -> 321 | Q54: =LEFT(F54,2) -> 32 | R54: =LEFT(C54,3) -> 11 | S54: =MID(J54,2,2) -> 97 | T54: =LEFT(F54,1) -> 3 | U54: =IFERROR(VLOOKUP(C54,$V$6:$X$36,3,FALSE),"") -> 11 | Y54: 3631 | Z54: Tekuće pomoći unutar općeg proračuna | AB54: =LEFT(Y54,2) -> 36 | AC54: =LEFT(Y54,3) -> 363 | AE54: A621031 | AF54: SMJEŠTAJ I PREHRANA STUDENATA STUDENTSKOG CENTRA KARLOVAC - SUFINANCIRANJE | AG54: 0960 | AH54: Dodatne usluge u obrazovanju | AI54: =LEFT(AG54,2) -> 09 | AJ54: =LEFT(AG54,3) -> 096
A55: =IF(D55="","",VLOOKUP('OPĆI DIO'!$C$1,'OPĆI DIO'!$N$4:$W$150,10,FALSE)) -> 08091 | B55: =IF(D55="","",VLOOKUP('OPĆI DIO'!$C$1,'OPĆI DIO'!$N$4:$W$150,9,FALSE)) -> Agencije | C55: =IFERROR(VLOOKUP(D55,$V$6:$X$36,3,FALSE),"") -> 11 | D55: 11 | E55: =IFERROR(VLOOKUP(D55,$V$6:$W$37,2,FALSE),"") -> Opći prihodi i primici | F55: 3213 | G55: =IFERROR(VLOOKUP(F55,$Y$5:$AA$129,2,FALSE),"") -> Stručno usavršavanje zaposlenika | H55: A814001 | I55: =IFERROR(VLOOKUP(H55,$AE$6:$AF$349,2,FALSE),"") -> DRŽAVNA MATURA | J55: =IFERROR(VLOOKUP(H55,$AE$6:$AI$350,3,FALSE),"") -> 0970 | K55: 0 | L55: 0 | M55: 0 | O55: =IF(D55="","",'OPĆI DIO'!$C$1) -> 40883 NACIONALNI CENTAR ZA VANJSKO VREDNOVANJE OBRAZOVANJA | P55: =LEFT(F55,3) -> 321 | Q55: =LEFT(F55,2) -> 32 | R55: =LEFT(C55,3) -> 11 | S55: =MID(J55,2,2) -> 97 | T55: =LEFT(F55,1) -> 3 | U55: =IFERROR(VLOOKUP(C55,$V$6:$X$36,3,FALSE),"") -> 11 | Y55: 3632 | Z55: Kapitalne pomoći unutar općeg proračuna | AB55: =LEFT(Y55,2) -> 36 | AC55: =LEFT(Y55,3) -> 363 | AE55: A621047 | AF55: DRŽAVNE, AKADEMSKE NAGRADE I POTPORE U ZNANOSTI I VISOKOM ŠKOLSTVU | AG55: 0942 | AH55: Drugi stupanj visoke naobrazbe | AI55: =LEFT(AG55,2) -> 09 | AJ55: =LEFT(AG55,3) -> 094
A56: =IF(D56="","",VLOOKUP('OPĆI DIO'!$C$1,'OPĆI DIO'!$N$4:$W$150,10,FALSE)) -> 08091 | B56: =IF(D56="","",VLOOKUP('OPĆI DIO'!$C$1,'OPĆI DIO'!$N$4:$W$150,9,FALSE)) -> Agencije | C56: =IFERROR(VLOOKUP(D56,$V$6:$X$36,3,FALSE),"") -> 11 | D56: 11 | E56: =IFERROR(VLOOKUP(D56,$V$6:$W$37,2,FALSE),"") -> Opći prihodi i primici | F56: 3214 | G56: =IFERROR(VLOOKUP(F56,$Y$5:$AA$129,2,FALSE),"") -> Ostale naknade troškova zaposlenima | H56: A814001 | I56: =IFERROR(VLOOKUP(H56,$AE$6:$AF$349,2,FALSE),"") -> DRŽAVNA MATURA | J56: =IFERROR(VLOOKUP(H56,$AE$6:$AI$350,3,FALSE),"") -> 0970 | K56: 0 | L56: 0 | M56: 0 | O56: =IF(D56="","",'OPĆI DIO'!$C$1) -> 40883 NACIONALNI CENTAR ZA VANJSKO VREDNOVANJE OBRAZOVANJA | P56: =LEFT(F56,3) -> 321 | Q56: =LEFT(F56,2) -> 32 | R56: =LEFT(C56,3) -> 11 | S56: =MID(J56,2,2) -> 97 | T56: =LEFT(F56,1) -> 3 | U56: =IFERROR(VLOOKUP(C56,$V$6:$X$36,3,FALSE),"") -> 11 | Y56: 3661 | Z56: Tekuće pomoći proračunskim korisnicima drugih proračuna | AB56: =LEFT(Y56,2) -> 36 | AC56: =LEFT(Y56,3) -> 366 | AE56: A621049 | AF56: KAMATE ZA STANOVE ZNANSTVENIH NOVAKA I ASISTENATA | AG56: 0942 | AH56: Drugi stupanj visoke naobrazbe | AI56: =LEFT(AG56,2) -> 09 | AJ56: =LEFT(AG56,3) -> 094
A57: =IF(D57="","",VLOOKUP('OPĆI DIO'!$C$1,'OPĆI DIO'!$N$4:$W$150,10,FALSE)) -> 08091 | B57: =IF(D57="","",VLOOKUP('OPĆI DIO'!$C$1,'OPĆI DIO'!$N$4:$W$150,9,FALSE)) -> Agencije | C57: =IFERROR(VLOOKUP(D57,$V$6:$X$36,3,FALSE),"") -> 11 | D57: 11 | E57: =IFERROR(VLOOKUP(D57,$V$6:$W$37,2,FALSE),"") -> Opći prihodi i primici | F57: 3221 | G57: =IFERROR(VLOOKUP(F57,$Y$5:$AA$129,2,FALSE),"") -> Uredski materijal i ostali materijalni rashodi | H57: A814001 | I57: =IFERROR(VLOOKUP(H57,$AE$6:$AF$349,2,FALSE),"") -> DRŽAVNA MATURA | J57: =IFERROR(VLOOKUP(H57,$AE$6:$AI$350,3,FALSE),"") -> 0970 | K57: 0 | L57: 0 | M57: 0 | O57: =IF(D57="","",'OPĆI DIO'!$C$1) -> 40883 NACIONALNI CENTAR ZA VANJSKO VREDNOVANJE OBRAZOVANJA | P57: =LEFT(F57,3) -> 322 | Q57: =LEFT(F57,2) -> 32 | R57: =LEFT(C57,3) -> 11 | S57: =MID(J57,2,2) -> 97 | T57: =LEFT(F57,1) -> 3 | U57: =IFERROR(VLOOKUP(C57,$V$6:$X$36,3,FALSE),"") -> 11 | Y57: 3662 | Z57: Kapitalne pomoći proračunskim korisnicima drugih proračuna | AB57: =LEFT(Y57,2) -> 36 | AC57: =LEFT(Y57,3) -> 366 | AE57: A621058 | AF57: PROGRAMI POBOLJŠANJA STUDENTSKOG STANDARDA | AG57: 0960 | AH57: Dodatne usluge u obrazovanju | AI57: =LEFT(AG57,2) -> 09 | AJ57: =LEFT(AG57,3) -> 096
A58: =IF(D58="","",VLOOKUP('OPĆI DIO'!$C$1,'OPĆI DIO'!$N$4:$W$150,10,FALSE)) -> 08091 | B58: =IF(D58="","",VLOOKUP('OPĆI DIO'!$C$1,'OPĆI DIO'!$N$4:$W$150,9,FALSE)) -> Agencije | C58: =IFERROR(VLOOKUP(D58,$V$6:$X$36,3,FALSE),"") -> 11 | D58: 11 | E58: =IFERROR(VLOOKUP(D58,$V$6:$W$37,2,FALSE),"") -> Opći prihodi i primici | F58: 3223 | G58: =IFERROR(VLOOKUP(F58,$Y$5:$AA$129,2,FALSE),"") -> Energija | H58: A814001 | I58: =IFERROR(VLOOKUP(H58,$AE$6:$AF$349,2,FALSE),"") -> DRŽAVNA MATURA | J58: =IFERROR(VLOOKUP(H58,$AE$6:$AI$350,3,FALSE),"") -> 0970 | K58: 0 | L58: 0 | M58: 0 | O58: =IF(D58="","",'OPĆI DIO'!$C$1) -> 40883 NACIONALNI CENTAR ZA VANJSKO VREDNOVANJE OBRAZOVANJA | P58: =LEFT(F58,3) -> 322 | Q58: =LEFT(F58,2) -> 32 | R58: =LEFT(C58,3) -> 11 | S58: =MID(J58,2,2) -> 97 | T58: =LEFT(F58,1) -> 3 | U58: =IFERROR(VLOOKUP(C58,$V$6:$X$36,3,FALSE),"") -> 11 | Y58: 3681 | Z58: Tekuće pomoći temeljem prijenosa EU sredstava | AB58: =LEFT(Y58,2) -> 36 | AC58: =LEFT(Y58,3) -> 368 | AE58: A621179 | AF58: TROŠKOVI NACIONALNOG VIJEĆA ZA VISOKO OBRAZOVANJE, ZNANOST I TEHNOLOŠKI RAZVOJ | AG58: 0150 | AH58: Istraživanje i razvoj: Opće javne usluge | AI58: =LEFT(AG58,2) -> 01 | AJ58: =LEFT(AG58,3) -> 015
... A76: =IF(D76="","",VLOOKUP('OPĆI DIO'!$C$1,'OPĆI DIO'!$N$4:$W$150,10,FALSE)) -> 08091 | B76: =IF(D76="","",VLOOKUP('OPĆI DIO'!$C$1,'OPĆI DIO'!$N$4:$W$150,9,FALSE)) -> Agencije | C76: =IFERROR(VLOOKUP(D76,$V$6:$X$36,3,FALSE),"") -> 11 | D76: 11 | E76: =IFERROR(VLOOKUP(D76,$V$6:$W$37,2,FALSE),"") -> Opći prihodi i primici | F76: 4262 | G76: =IFERROR(VLOOKUP(F76,$Y$5:$AA$129,2,FALSE),"") -> Ulaganja u računalne programe | H76: A814001 | I76: =IFERROR(VLOOKUP(H76,$AE$6:$AF$349,2,FALSE),"") -> DRŽAVNA MATURA | J76: =IFERROR(VLOOKUP(H76,$AE$6:$AI$350,3,FALSE),"") -> 0970 | K76: 0 | L76: 0 | M76: 0 | O76: =IF(D76="","",'OPĆI DIO'!$C$1) -> 40883 NACIONALNI CENTAR ZA VANJSKO VREDNOVANJE OBRAZOVANJA | P76: =LEFT(F76,3) -> 426 | Q76: =LEFT(F76,2) -> 42 | R76: =LEFT(C76,3) -> 11 | S76: =MID(J76,2,2) -> 97 | T76: =LEFT(F76,1) -> 4 | U76: =IFERROR(VLOOKUP(C76,$V$6:$X$36,3,FALSE),"") -> 11 | Y76: 3831 | Z76: Naknade šteta pravnim i fizičkim osobama | AB76: =LEFT(Y76,2) -> 38 | AC76: =LEFT(Y76,3) -> 383 | AE76: A733050 | AF76: PRAĆENJE I IMPLEMENTACIJA POLITIKA EUROPSKOG ISTRAŽIVAČKOG PROSTORA (ERA) | AG76: 0150 | AH76: Istraživanje i razvoj: Opće javne usluge | AI76: =LEFT(AG76,2) -> 01 | AJ76: =LEFT(AG76,3) -> 015
A77: =IF(D77="","",VLOOKUP('OPĆI DIO'!$C$1,'OPĆI DIO'!$N$4:$W$150,10,FALSE)) -> 08091 | B77: =IF(D77="","",VLOOKUP('OPĆI DIO'!$C$1,'OPĆI DIO'!$N$4:$W$150,9,FALSE)) -> Agencije | C77: =IFERROR(VLOOKUP(D77,$V$6:$X$36,3,FALSE),"") -> 11 | D77: 11 | E77: =IFERROR(VLOOKUP(D77,$V$6:$W$37,2,FALSE),"") -> Opći prihodi i primici | F77: 3211 | G77: =IFERROR(VLOOKUP(F77,$Y$5:$AA$129,2,FALSE),"") -> Službena putovanja | H77: A814003 | I77: NACIONALNI ISPITI | J77: 0970 | K77: 0 | L77: 0 | M77: 0 | O77: =IF(D77="","",'OPĆI DIO'!$C$1) -> 40883 NACIONALNI CENTAR ZA VANJSKO VREDNOVANJE OBRAZOVANJA | P77: =LEFT(F77,3) -> 321 | Q77: =LEFT(F77,2) -> 32 | R77: =LEFT(C77,3) -> 11 | S77: =MID(J77,2,2) -> 97 | T77: =LEFT(F77,1) -> 3 | U77: =IFERROR(VLOOKUP(C77,$V$6:$X$36,3,FALSE),"") -> 11 | Y77: 3832 | Z77: Penali, ležarine i drugo | AB77: =LEFT(Y77,2) -> 38 | AC77: =LEFT(Y77,3) -> 383 | AE77: A733051 | AF77: PROGRAMI IZRADE UDŽBENIKA ZA SLIJEPE I SLABOVIDNE UČENIKE I STUDENTE | AG77: 0970 | AH77: Istraživanje i razvoj obrazovanja | AI77: =LEFT(AG77,2) -> 09 | AJ77: =LEFT(AG77,3) -> 097
A78: =IF(D78="","",VLOOKUP('OPĆI DIO'!$C$1,'OPĆI DIO'!$N$4:$W$150,10,FALSE)) -> 08091 | B78: =IF(D78="","",VLOOKUP('OPĆI DIO'!$C$1,'OPĆI DIO'!$N$4:$W$150,9,FALSE)) -> Agencije | C78: =IFERROR(VLOOKUP(D78,$V$6:$X$36,3,FALSE),"") -> 11 | D78: 11 | E78: =IFERROR(VLOOKUP(D78,$V$6:$W$37,2,FALSE),"") -> Opći prihodi i primici | F78: 3213 | G78: =IFERROR(VLOOKUP(F78,$Y$5:$AA$129,2,FALSE),"") -> Stručno usavršavanje zaposlenika | H78: A814003 | I78: NACIONALNI ISPITI | J78: 0970 | K78: 0 | L78: 0 | M78: 0 | O78: =IF(D78="","",'OPĆI DIO'!$C$1) -> 40883 NACIONALNI CENTAR ZA VANJSKO VREDNOVANJE OBRAZOVANJA | P78: =LEFT(F78,3) -> 321 | Q78: =LEFT(F78,2) -> 32 | R78: =LEFT(C78,3) -> 11 | S78: =MID(J78,2,2) -> 97 | T78: =LEFT(F78,1) -> 3 | U78: =IFERROR(VLOOKUP(C78,$V$6:$X$36,3,FALSE),"") -> 11 | Y78: 3833 | Z78: Naknade šteta zaposlenicima | AB78: =LEFT(Y78,2) -> 38 | AC78: =LEFT(Y78,3) -> 383 | AE78: A733056 | AF78: EUROPSKI ZNANSTVENI PROJEKTI | AG78: 0150 | AH78: Istraživanje i razvoj: Opće javne usluge | AI78: =LEFT(AG78,2) -> 01 | AJ78: =LEFT(AG78,3) -> 015
A79: =IF(D79="","",VLOOKUP('OPĆI DIO'!$C$1,'OPĆI DIO'!$N$4:$W$150,10,FALSE)) -> 08091 | B79: =IF(D79="","",VLOOKUP('OPĆI DIO'!$C$1,'OPĆI DIO'!$N$4:$W$150,9,FALSE)) -> Agencije | C79: =IFERROR(VLOOKUP(D79,$V$6:$X$36,3,FALSE),"") -> 11 | D79: 11 | E79: =IFERROR(VLOOKUP(D79,$V$6:$W$37,2,FALSE),"") -> Opći prihodi i primici | F79: 3221 | G79: =IFERROR(VLOOKUP(F79,$Y$5:$AA$129,2,FALSE),"") -> Uredski materijal i ostali materijalni rashodi | H79: A814003 | I79: NACIONALNI ISPITI | J79: 0970 | K79: 0 | L79: 0 | M79: 0 | O79: =IF(D79="","",'OPĆI DIO'!$C$1) -> 40883 NACIONALNI CENTAR ZA VANJSKO VREDNOVANJE OBRAZOVANJA | P79: =LEFT(F79,3) -> 322 | Q79: =LEFT(F79,2) -> 32 | R79: =LEFT(C79,3) -> 11 | S79: =MID(J79,2,2) -> 97 | T79: =LEFT(F79,1) -> 3 | U79: =IFERROR(VLOOKUP(C79,$V$6:$X$36,3,FALSE),"") -> 11 | Y79: 3834 | Z79: Ugovorene kazne i ostale naknade šteta | AB79: =LEFT(Y79,2) -> 38 | AC79: =LEFT(Y79,3) -> 383 | AE79: A767002 | AF79: IZRADA DEFICITARNIH UDŽBENIKA U ŠKOLSTVU | AG79: 0970 | AH79: Istraživanje i razvoj obrazovanja | AI79: =LEFT(AG79,2) -> 09 | AJ79: =LEFT(AG79,3) -> 097
A80: =IF(D80="","",VLOOKUP('OPĆI DIO'!$C$1,'OPĆI DIO'!$N$4:$W$150,10,FALSE)) -> 08091 | B80: =IF(D80="","",VLOOKUP('OPĆI DIO'!$C$1,'OPĆI DIO'!$N$4:$W$150,9,FALSE)) -> Agencije | C80: =IFERROR(VLOOKUP(D80,$V$6:$X$36,3,FALSE),"") -> 11 | D80: 11 | E80: =IFERROR(VLOOKUP(D80,$V$6:$W$37,2,FALSE),"") -> Opći prihodi i primici | F80: 3233 | G80: =IFERROR(VLOOKUP(F80,$Y$5:$AA$129,2,FALSE),"") -> Usluge promidžbe i informiranja | H80: A814003 | I80: NACIONALNI ISPITI | J80: 0970 | K80: 0 | L80: 0 | M80: 0 | O80: =IF(D80="","",'OPĆI DIO'!$C$1) -> 40883 NACIONALNI CENTAR ZA VANJSKO VREDNOVANJE OBRAZOVANJA | P80: =LEFT(F80,3) -> 323 | Q80: =LEFT(F80,2) -> 32 | R80: =LEFT(C80,3) -> 11 | S80: =MID(J80,2,2) -> 97 | T80: =LEFT(F80,1) -> 3 | U80: =IFERROR(VLOOKUP(C80,$V$6:$X$36,3,FALSE),"") -> 11 | Y80: 3835 | Z80: Ostale kazne | AB80: =LEFT(Y80,2) -> 38 | AC80: =LEFT(Y80,3) -> 383 | AE80: A767003 | AF80: SREDNJOŠKOLSKE STIPENDIJE ZA UČENIKE ROME | AG80: 0970 | AH80: Istraživanje i razvoj obrazovanja | AI80: =LEFT(AG80,2) -> 09 | AJ80: =LEFT(AG80,3) -> 097
A81: =IF(D81="","",VLOOKUP('OPĆI DIO'!$C$1,'OPĆI DIO'!$N$4:$W$150,10,FALSE)) -> 08091 | B81: =IF(D81="","",VLOOKUP('OPĆI DIO'!$C$1,'OPĆI DIO'!$N$4:$W$150,9,FALSE)) -> Agencije | C81: =IFERROR(VLOOKUP(D81,$V$6:$X$36,3,FALSE),"") -> 11 | D81: 11 | E81: =IFERROR(VLOOKUP(D81,$V$6:$W$37,2,FALSE),"") -> Opći prihodi i primici | F81: 3235 | G81: =IFERROR(VLOOKUP(F81,$Y$5:$AA$129,2,FALSE),"") -> Zakupnine i najamnine | H81: A814003 | I81: NACIONALNI ISPITI | J81: 0970 | K81: 0 | L81: 0 | M81: 0 | O81: =IF(D81="","",'OPĆI DIO'!$C$1) -> 40883 NACIONALNI CENTAR ZA VANJSKO VREDNOVANJE OBRAZOVANJA | P81: =LEFT(F81,3) -> 323 | Q81: =LEFT(F81,2) -> 32 | R81: =LEFT(C81,3) -> 11 | S81: =MID(J81,2,2) -> 97 | T81: =LEFT(F81,1) -> 3 | U81: =IFERROR(VLOOKUP(C81,$V$6:$X$36,3,FALSE),"") -> 11 | Y81: 3861 | Z81: Kapitalne pomoći kreditnim i ostalim financijskim institucijama te trgovačkim društvima u javnom sektoru | AB81: =LEFT(Y81,2) -> 38 | AC81: =LEFT(Y81,3) -> 386 | AE81: A767004 | AF81: NAOBRAZBA DJECE U ALTERNATIVNIM ŠKOLAMA | AG81: 0970 | AH81: Istraživanje i razvoj obrazovanja | AI81: =LEFT(AG81,2) -> 09 | AJ81: =LEFT(AG81,3) -> 097
A82: =IF(D82="","",VLOOKUP('OPĆI DIO'!$C$1,'OPĆI DIO'!$N$4:$W$150,10,FALSE)) -> 08091 | B82: =IF(D82="","",VLOOKUP('OPĆI DIO'!$C$1,'OPĆI DIO'!$N$4:$W$150,9,FALSE)) -> Agencije | C82: =IFERROR(VLOOKUP(D82,$V$6:$X$36,3,FALSE),"") -> 11 | D82: 11 | E82: =IFERROR(VLOOKUP(D82,$V$6:$W$37,2,FALSE),"") -> Opći prihodi i primici | F82: 3237 | G82: =IFERROR(VLOOKUP(F82,$Y$5:$AA$129,2,FALSE),"") -> Intelektualne i osobne usluge | H82: A814003 | I82: NACIONALNI ISPITI | J82: 0970 | K82: 0 | L82: 0 | M82: 0 | O82: =IF(D82="","",'OPĆI DIO'!$C$1) -> 40883 NACIONALNI CENTAR ZA VANJSKO VREDNOVANJE OBRAZOVANJA | P82: =LEFT(F82,3) -> 323 | Q82: =LEFT(F82,2) -> 32 | R82: =LEFT(C82,3) -> 11 | S82: =MID(J82,2,2) -> 97 | T82: =LEFT(F82,1) -> 3 | U82: =IFERROR(VLOOKUP(C82,$V$6:$X$36,3,FALSE),"") -> 11 | Y82: 3862 | Z82: Kapitalne pomoći kreditnim i ostalim financijskim institucijama te trgovačkim društvima i zadrugama izvan javnog sektora | AB82: =LEFT(Y82,2) -> 38 | AC82: =LEFT(Y82,3) -> 386 | AE82: A767008 | AF82: SUBVENCIONIRANJE KAMATA ZA STANOVE UČITELJA | AG82: 0970 | AH82: Istraživanje i razvoj obrazovanja | AI82: =LEFT(AG82,2) -> 09 | AJ82: =LEFT(AG82,3) -> 097
A83: =IF(D83="","",VLOOKUP('OPĆI DIO'!$C$1,'OPĆI DIO'!$N$4:$W$150,10,FALSE)) -> 08091 | B83: =IF(D83="","",VLOOKUP('OPĆI DIO'!$C$1,'OPĆI DIO'!$N$4:$W$150,9,FALSE)) -> Agencije | C83: =IFERROR(VLOOKUP(D83,$V$6:$X$36,3,FALSE),"") -> 11 | D83: 11 | E83: =IFERROR(VLOOKUP(D83,$V$6:$W$37,2,FALSE),"") -> Opći prihodi i primici | F83: 3238 | G83: =IFERROR(VLOOKUP(F83,$Y$5:$AA$129,2,FALSE),"") -> Računalne usluge | H83: A814003 | I83: NACIONALNI ISPITI | J83: 0970 | K83: 150000 | L83: 150000 | M83: 150000 | O83: =IF(D83="","",'OPĆI DIO'!$C$1) -> 40883 NACIONALNI CENTAR ZA VANJSKO VREDNOVANJE OBRAZOVANJA | P83: =LEFT(F83,3) -> 323 | Q83: =LEFT(F83,2) -> 32 | R83: =LEFT(C83,3) -> 11 | S83: =MID(J83,2,2) -> 97 | T83: =LEFT(F83,1) -> 3 | U83: =IFERROR(VLOOKUP(C83,$V$6:$X$36,3,FALSE),"") -> 11 | Y83: 3863 | Z83: Kapitalne pomoći poljoprivrednicima i obrtnicima | AB83: =LEFT(Y83,2) -> 38 | AC83: =LEFT(Y83,3) -> 386 | AE83: A767013 | AF83: RAZVOJ SUSTAVA OSIGURANJA KVALITETE | AG83: 0922 | AH83: Više srednjoškolsko obrazovanje | AI83: =LEFT(AG83,2) -> 09 | AJ83: =LEFT(AG83,3) -> 092
A84: =IF(D84="","",VLOOKUP('OPĆI DIO'!$C$1,'OPĆI DIO'!$N$4:$W$150,10,FALSE)) -> 08091 | B84: =IF(D84="","",VLOOKUP('OPĆI DIO'!$C$1,'OPĆI DIO'!$N$4:$W$150,9,FALSE)) -> Agencije | C84: =IFERROR(VLOOKUP(D84,$V$6:$X$36,3,FALSE),"") -> 11 | D84: 11 | E84: =IFERROR(VLOOKUP(D84,$V$6:$W$37,2,FALSE),"") -> Opći prihodi i primici | F84: 3239 | G84: =IFERROR(VLOOKUP(F84,$Y$5:$AA$129,2,FALSE),"") -> Ostale usluge | H84: A814003 | I84: NACIONALNI ISPITI | J84: 0970 | K84: 0 | L84: 0 | M84: 0 | O84: =IF(D84="","",'OPĆI DIO'!$C$1) -> 40883 NACIONALNI CENTAR ZA VANJSKO VREDNOVANJE OBRAZOVANJA | P84: =LEFT(F84,3) -> 323 | Q84: =LEFT(F84,2) -> 32 | R84: =LEFT(C84,3) -> 11 | S84: =MID(J84,2,2) -> 97 | T84: =LEFT(F84,1) -> 3 | U84: =IFERROR(VLOOKUP(C84,$V$6:$X$36,3,FALSE),"") -> 11 | Y84: 3865 | Z84: Kapitalne pomoći trgovačkim društvima i obrtnicima po protestiranim jamstvima u tuzemstvu i inozemstvu | AB84: =LEFT(Y84,2) -> 38 | AC84: =LEFT(Y84,3) -> 386 | AE84: A767015 | AF84: PROVEDBA PROGRAMA ZA UKLJUČIVANJE ROMA | AG84: 0970 | AH84: Istraživanje i razvoj obrazovanja | AI84: =LEFT(AG84,2) -> 09 | AJ84: =LEFT(AG84,3) -> 097
A85: =IF(D85="","",VLOOKUP('OPĆI DIO'!$C$1,'OPĆI DIO'!$N$4:$W$150,10,FALSE)) -> 08091 | B85: =IF(D85="","",VLOOKUP('OPĆI DIO'!$C$1,'OPĆI DIO'!$N$4:$W$150,9,FALSE)) -> Agencije | C85: =IFERROR(VLOOKUP(D85,$V$6:$X$36,3,FALSE),"") -> 11 | D85: 11 | E85: =IFERROR(VLOOKUP(D85,$V$6:$W$37,2,FALSE),"") -> Opći prihodi i primici | F85: 3241 | G85: =IFERROR(VLOOKUP(F85,$Y$5:$AA$129,2,FALSE),"") -> Naknade troškova osobama izvan radnog odnosa | H85: A814003 | I85: NACIONALNI ISPITI | J85: 0970 | K85: 0 | L85: 0 | M85: 0 | O85: =IF(D85="","",'OPĆI DIO'!$C$1) -> 40883 NACIONALNI CENTAR ZA VANJSKO VREDNOVANJE OBRAZOVANJA | P85: =LEFT(F85,3) -> 324 | Q85: =LEFT(F85,2) -> 32 | R85: =LEFT(C85,3) -> 11 | S85: =MID(J85,2,2) -> 97 | T85: =LEFT(F85,1) -> 3 | U85: =IFERROR(VLOOKUP(C85,$V$6:$X$36,3,FALSE),"") -> 11 | Y85: 4111 | Z85: Zemljište | AB85: =LEFT(Y85,2) -> 41 | AC85: =LEFT(Y85,3) -> 411 | AE85: A767035 | AF85: MEĐUNARODNA SURADNJA | AG85: 0150 | AH85: Istraživanje i razvoj: Opće javne usluge | AI85: =LEFT(AG85,2) -> 01 | AJ85: =LEFT(AG85,3) -> 015
A86: =IF(D86="","",VLOOKUP('OPĆI DIO'!$C$1,'OPĆI DIO'!$N$4:$W$150,10,FALSE)) -> 08091 | B86: =IF(D86="","",VLOOKUP('OPĆI DIO'!$C$1,'OPĆI DIO'!$N$4:$W$150,9,FALSE)) -> Agencije | C86: =IFERROR(VLOOKUP(D86,$V$6:$X$36,3,FALSE),"") -> 11 | D86: 11 | E86: =IFERROR(VLOOKUP(D86,$V$6:$W$37,2,FALSE),"") -> Opći prihodi i primici | F86: 3661 | G86: =IFERROR(VLOOKUP(F86,$Y$5:$AA$129,2,FALSE),"") -> Tekuće pomoći proračunskim korisnicima drugih proračuna | H86: A814003 | I86: NACIONALNI ISPITI | J86: 0970 | K86: 0 | L86: 0 | M86: 0 | O86: =IF(D86="","",'OPĆI DIO'!$C$1) -> 40883 NACIONALNI CENTAR ZA VANJSKO VREDNOVANJE OBRAZOVANJA | P86: =LEFT(F86,3) -> 366 | Q86: =LEFT(F86,2) -> 36 | R86: =LEFT(C86,3) -> 11 | S86: =MID(J86,2,2) -> 97 | T86: =LEFT(F86,1) -> 3 | U86: =IFERROR(VLOOKUP(C86,$V$6:$X$36,3,FALSE),"") -> 11 | Y86: 4113 | Z86: Ostala prirodna materijalna imovina | AB86: =LEFT(Y86,2) -> 41 | AC86: =LEFT(Y86,3) -> 411 | AE86: A767038 | AF86: OBZOR 2020. - PROGRAM MEĐUNARODNE MOBILNOSTI ZA ISTRAŽIVAČE - NEWFELPRO | AG86: 0150 | AH86: Istraživanje i razvoj: Opće javne usluge | AI86: =LEFT(AG86,2) -> 01 | AJ86: =LEFT(AG86,3) -> 015
A87: =IF(D87="","",VLOOKUP('OPĆI DIO'!$C$1,'OPĆI DIO'!$N$4:$W$150,10,FALSE)) -> 08091 | B87: =IF(D87="","",VLOOKUP('OPĆI DIO'!$C$1,'OPĆI DIO'!$N$4:$W$150,9,FALSE)) -> Agencije | C87: =IFERROR(VLOOKUP(D87,$V$6:$X$36,3,FALSE),"") -> 11 | D87: 11 | E87: =IFERROR(VLOOKUP(D87,$V$6:$W$37,2,FALSE),"") -> Opći prihodi i primici | F87: 3211 | G87: =IFERROR(VLOOKUP(F87,$Y$5:$AA$129,2,FALSE),"") -> Službena putovanja | H87: A814007 | I87: =IFERROR(VLOOKUP(H87,$AE$6:$AF$349,2,FALSE),"") -> UNAPREĐENJE KVALITETE OBRAZOVNOG SUSTAVA | J87: =IFERROR(VLOOKUP(H87,$AE$6:$AI$350,3,FALSE),"") -> 0970 | K87: 0 | L87: 0 | M87: 0 | O87: =IF(D87="","",'OPĆI DIO'!$C$1) -> 40883 NACIONALNI CENTAR ZA VANJSKO VREDNOVANJE OBRAZOVANJA | P87: =LEFT(F87,3) -> 321 | Q87: =LEFT(F87,2) -> 32 | R87: =LEFT(C87,3) -> 11 | S87: =MID(J87,2,2) -> 97 | T87: =LEFT(F87,1) -> 3 | U87: =IFERROR(VLOOKUP(C87,$V$6:$X$36,3,FALSE),"") -> 11 | Y87: 4122 | Z87: Koncesije | AB87: =LEFT(Y87,2) -> 41 | AC87: =LEFT(Y87,3) -> 412 | AE87: A767042 | AF87: OBRAZOVANJE OSOBA BEZ HRVATSKOG DRŽAVLJANSTVA | AG87: 0970 | AH87: Istraživanje i razvoj obrazovanja | AI87: =LEFT(AG87,2) -> 09 | AJ87: =LEFT(AG87,3) -> 097
A88: =IF(D88="","",VLOOKUP('OPĆI DIO'!$C$1,'OPĆI DIO'!$N$4:$W$150,10,FALSE)) -> 08091 | B88: =IF(D88="","",VLOOKUP('OPĆI DIO'!$C$1,'OPĆI DIO'!$N$4:$W$150,9,FALSE)) -> Agencije | C88: =IFERROR(VLOOKUP(D88,$V$6:$X$36,3,FALSE),"") -> 11 | D88: 11 | E88: =IFERROR(VLOOKUP(D88,$V$6:$W$37,2,FALSE),"") -> Opći prihodi i primici | F88: 3213 | G88: =IFERROR(VLOOKUP(F88,$Y$5:$AA$129,2,FALSE),"") -> Stručno usavršavanje zaposlenika | H88: A814007 | I88: =IFERROR(VLOOKUP(H88,$AE$6:$AF$349,2,FALSE),"") -> UNAPREĐENJE KVALITETE OBRAZOVNOG SUSTAVA | J88: =IFERROR(VLOOKUP(H88,$AE$6:$AI$350,3,FALSE),"") -> 0970 | K88: 0 | L88: 0 | M88: 0 | O88: =IF(D88="","",'OPĆI DIO'!$C$1) -> 40883 NACIONALNI CENTAR ZA VANJSKO VREDNOVANJE OBRAZOVANJA | P88: =LEFT(F88,3) -> 321 | Q88: =LEFT(F88,2) -> 32 | R88: =LEFT(C88,3) -> 11 | S88: =MID(J88,2,2) -> 97 | T88: =LEFT(F88,1) -> 3 | U88: =IFERROR(VLOOKUP(C88,$V$6:$X$36,3,FALSE),"") -> 11 | Y88: 4123 | Z88: Licence | AB88: =LEFT(Y88,2) -> 41 | AC88: =LEFT(Y88,3) -> 412 | AE88: A767043 | AF88: RAZVOJ VISOKOG OBRAZOVANJA | AG88: 0942 | AH88: Drugi stupanj visoke naobrazbe | AI88: =LEFT(AG88,2) -> 09 | AJ88: =LEFT(AG88,3) -> 094
A89: =IF(D89="","",VLOOKUP('OPĆI DIO'!$C$1,'OPĆI DIO'!$N$4:$W$150,10,FALSE)) -> 08091 | B89: =IF(D89="","",VLOOKUP('OPĆI DIO'!$C$1,'OPĆI DIO'!$N$4:$W$150,9,FALSE)) -> Agencije | C89: =IFERROR(VLOOKUP(D89,$V$6:$X$36,3,FALSE),"") -> 11 | D89: 11 | E89: =IFERROR(VLOOKUP(D89,$V$6:$W$37,2,FALSE),"") -> Opći prihodi i primici | F89: 3221 | G89: =IFERROR(VLOOKUP(F89,$Y$5:$AA$129,2,FALSE),"") -> Uredski materijal i ostali materijalni rashodi | H89: A814007 | I89: =IFERROR(VLOOKUP(H89,$AE$6:$AF$349,2,FALSE),"") -> UNAPREĐENJE KVALITETE OBRAZOVNOG SUSTAVA | J89: =IFERROR(VLOOKUP(H89,$AE$6:$AI$350,3,FALSE),"") -> 0970 | K89: 0 | L89: 0 | M89: 0 | O89: =IF(D89="","",'OPĆI DIO'!$C$1) -> 40883 NACIONALNI CENTAR ZA VANJSKO VREDNOVANJE OBRAZOVANJA | P89: =LEFT(F89,3) -> 322 | Q89: =LEFT(F89,2) -> 32 | R89: =LEFT(C89,3) -> 11 | S89: =MID(J89,2,2) -> 97 | T89: =LEFT(F89,1) -> 3 | U89: =IFERROR(VLOOKUP(C89,$V$6:$X$36,3,FALSE),"") -> 11 | Y89: 4124 | Z89: Ostala prava | AB89: =LEFT(Y89,2) -> 41 | AC89: =LEFT(Y89,3) -> 412 | AE89: A767056 | AF89: OBZOR 2020. - PARTNERSTVO ZA ISTRAŽIVANJA I INOVACIJE NA MEDITERANSKOM PODRUČJU - PRIMA | AG89: 0150 | AH89: Istraživanje i razvoj: Opće javne usluge | AI89: =LEFT(AG89,2) -> 01 | AJ89: =LEFT(AG89,3) -> 015
A90: =IF(D90="","",VLOOKUP('OPĆI DIO'!$C$1,'OPĆI DIO'!$N$4:$W$150,10,FALSE)) -> 08091 | B90: =IF(D90="","",VLOOKUP('OPĆI DIO'!$C$1,'OPĆI DIO'!$N$4:$W$150,9,FALSE)) -> Agencije | C90: =IFERROR(VLOOKUP(D90,$V$6:$X$36,3,FALSE),"") -> 11 | D90: 11 | E90: =IFERROR(VLOOKUP(D90,$V$6:$W$37,2,FALSE),"") -> Opći prihodi i primici | F90: 3231 | G90: =IFERROR(VLOOKUP(F90,$Y$5:$AA$129,2,FALSE),"") -> Usluge telefona, interneta, pošte i prijevoza | H90: A814007 | I90: =IFERROR(VLOOKUP(H90,$AE$6:$AF$349,2,FALSE),"") -> UNAPREĐENJE KVALITETE OBRAZOVNOG SUSTAVA | J90: =IFERROR(VLOOKUP(H90,$AE$6:$AI$350,3,FALSE),"") -> 0970 | K90: 0 | L90: 0 | M90: 0 | O90: =IF(D90="","",'OPĆI DIO'!$C$1) -> 40883 NACIONALNI CENTAR ZA VANJSKO VREDNOVANJE OBRAZOVANJA | P90: =LEFT(F90,3) -> 323 | Q90: =LEFT(F90,2) -> 32 | R90: =LEFT(C90,3) -> 11 | S90: =MID(J90,2,2) -> 97 | T90: =LEFT(F90,1) -> 3 | U90: =IFERROR(VLOOKUP(C90,$V$6:$X$36,3,FALSE),"") -> 11 | Y90: 4126 | Z90: Ostala nematerijalna imovina | AB90: =LEFT(Y90,2) -> 41 | AC90: =LEFT(Y90,3) -> 412 | AE90: A768053 | AF90: EUROPSKE ŠKOLE | AG90: 0970 | AH90: Istraživanje i razvoj obrazovanja | AI90: =LEFT(AG90,2) -> 09 | AJ90: =LEFT(AG90,3) -> 097
A91: =IF(D91="","",VLOOKUP('OPĆI DIO'!$C$1,'OPĆI DIO'!$N$4:$W$150,10,FALSE)) -> 08091 | B91: =IF(D91="","",VLOOKUP('OPĆI DIO'!$C$1,'OPĆI DIO'!$N$4:$W$150,9,FALSE)) -> Agencije | C91: =IFERROR(VLOOKUP(D91,$V$6:$X$36,3,FALSE),"") -> 11 | D91: 11 | E91: =IFERROR(VLOOKUP(D91,$V$6:$W$37,2,FALSE),"") -> Opći prihodi i primici | F91: 3235 | G91: =IFERROR(VLOOKUP(F91,$Y$5:$AA$129,2,FALSE),"") -> Zakupnine i najamnine | H91: A814007 | I91: =IFERROR(VLOOKUP(H91,$AE$6:$AF$349,2,FALSE),"") -> UNAPREĐENJE KVALITETE OBRAZOVNOG SUSTAVA | J91: =IFERROR(VLOOKUP(H91,$AE$6:$AI$350,3,FALSE),"") -> 0970 | K91: 0 | L91: 0 | M91: 0 | O91: =IF(D91="","",'OPĆI DIO'!$C$1) -> 40883 NACIONALNI CENTAR ZA VANJSKO VREDNOVANJE OBRAZOVANJA | P91: =LEFT(F91,3) -> 323 | Q91: =LEFT(F91,2) -> 32 | R91: =LEFT(C91,3) -> 11 | S91: =MID(J91,2,2) -> 97 | T91: =LEFT(F91,1) -> 3 | U91: =IFERROR(VLOOKUP(C91,$V$6:$X$36,3,FALSE),"") -> 11 | Y91: 4211 | Z91: Stambeni objekti | AB91: =LEFT(Y91,2) -> 42 | AC91: =LEFT(Y91,3) -> 421 | AE91: A768054 | AF91: DODATNA SREDSTVA IZRAVNANJA ZA DECENTRALIZIRANE FUNKCIJE | AG91: 0970 | AH91: Istraživanje i razvoj obrazovanja | AI91: =LEFT(AG91,2) -> 09 | AJ91: =LEFT(AG91,3) -> 097
A92: =IF(D92="","",VLOOKUP('OPĆI DIO'!$C$1,'OPĆI DIO'!$N$4:$W$150,10,FALSE)) -> 08091 | B92: =IF(D92="","",VLOOKUP('OPĆI DIO'!$C$1,'OPĆI DIO'!$N$4:$W$150,9,FALSE)) -> Agencije | C92: =IFERROR(VLOOKUP(D92,$V$6:$X$36,3,FALSE),"") -> 11 | D92: 11 | E92: =IFERROR(VLOOKUP(D92,$V$6:$W$37,2,FALSE),"") -> Opći prihodi i primici | F92: 3237 | G92: =IFERROR(VLOOKUP(F92,$Y$5:$AA$129,2,FALSE),"") -> Intelektualne i osobne usluge | H92: A814007 | I92: =IFERROR(VLOOKUP(H92,$AE$6:$AF$349,2,FALSE),"") -> UNAPREĐENJE KVALITETE OBRAZOVNOG SUSTAVA | J92: =IFERROR(VLOOKUP(H92,$AE$6:$AI$350,3,FALSE),"") -> 0970 | K92: 20000 | L92: 20000 | M92: 20000 | O92: =IF(D92="","",'OPĆI DIO'!$C$1) -> 40883 NACIONALNI CENTAR ZA VANJSKO VREDNOVANJE OBRAZOVANJA | P92: =LEFT(F92,3) -> 323 | Q92: =LEFT(F92,2) -> 32 | R92: =LEFT(C92,3) -> 11 | S92: =MID(J92,2,2) -> 97 | T92: =LEFT(F92,1) -> 3 | U92: =IFERROR(VLOOKUP(C92,$V$6:$X$36,3,FALSE),"") -> 11 | Y92: 4212 | Z92: Poslovni objekti | AB92: =LEFT(Y92,2) -> 42 | AC92: =LEFT(Y92,3) -> 421 | AE92: A768058 | AF92: PREUZETE OBVEZE PO MEĐUNARODNIM UGOVORIMA | AG92: 0970 | AH92: Istraživanje i razvoj obrazovanja | AI92: =LEFT(AG92,2) -> 09 | AJ92: =LEFT(AG92,3) -> 097
A93: =IF(D93="","",VLOOKUP('OPĆI DIO'!$C$1,'OPĆI DIO'!$N$4:$W$150,10,FALSE)) -> 08091 | B93: =IF(D93="","",VLOOKUP('OPĆI DIO'!$C$1,'OPĆI DIO'!$N$4:$W$150,9,FALSE)) -> Agencije | C93: =IFERROR(VLOOKUP(D93,$V$6:$X$36,3,FALSE),"") -> 11 | D93: 11 | E93: =IFERROR(VLOOKUP(D93,$V$6:$W$37,2,FALSE),"") -> Opći prihodi i primici | F93: 3239 | G93: =IFERROR(VLOOKUP(F93,$Y$5:$AA$129,2,FALSE),"") -> Ostale usluge | H93: A814007 | I93: =IFERROR(VLOOKUP(H93,$AE$6:$AF$349,2,FALSE),"") -> UNAPREĐENJE KVALITETE OBRAZOVNOG SUSTAVA | J93: =IFERROR(VLOOKUP(H93,$AE$6:$AI$350,3,FALSE),"") -> 0970 | K93: 2000 | L93: 2000 | M93: 2000 | O93: =IF(D93="","",'OPĆI DIO'!$C$1) -> 40883 NACIONALNI CENTAR ZA VANJSKO VREDNOVANJE OBRAZOVANJA | P93: =LEFT(F93,3) -> 323 | Q93: =LEFT(F93,2) -> 32 | R93: =LEFT(C93,3) -> 11 | S93: =MID(J93,2,2) -> 97 | T93: =LEFT(F93,1) -> 3 | U93: =IFERROR(VLOOKUP(C93,$V$6:$X$36,3,FALSE),"") -> 11 | Y93: 4213 | Z93: Ceste, željeznice i ostali prometni objekti | AB93: =LEFT(Y93,2) -> 42 | AC93: =LEFT(Y93,3) -> 421 | AE93: A768068 | AF93: OTKUP ZNANSTVENIH KNJIGA I VISOKOŠKOLSKIH UDŽBENIKA | AG93: 0150 | AH93: Istraživanje i razvoj: Opće javne usluge | AI93: =LEFT(AG93,2) -> 01 | AJ93: =LEFT(AG93,3) -> 015
A94: =IF(D94="","",VLOOKUP('OPĆI DIO'!$C$1,'OPĆI DIO'!$N$4:$W$150,10,FALSE)) -> 08091 | B94: =IF(D94="","",VLOOKUP('OPĆI DIO'!$C$1,'OPĆI DIO'!$N$4:$W$150,9,FALSE)) -> Agencije | C94: =IFERROR(VLOOKUP(D94,$V$6:$X$36,3,FALSE),"") -> 11 | D94: 11 | E94: =IFERROR(VLOOKUP(D94,$V$6:$W$37,2,FALSE),"") -> Opći prihodi i primici | F94: 3241 | G94: =IFERROR(VLOOKUP(F94,$Y$5:$AA$129,2,FALSE),"") -> Naknade troškova osobama izvan radnog odnosa | H94: A814007 | I94: =IFERROR(VLOOKUP(H94,$AE$6:$AF$349,2,FALSE),"") -> UNAPREĐENJE KVALITETE OBRAZOVNOG SUSTAVA | J94: =IFERROR(VLOOKUP(H94,$AE$6:$AI$350,3,FALSE),"") -> 0970 | K94: 0 | L94: 0 | M94: 0 | O94: =IF(D94="","",'OPĆI DIO'!$C$1) -> 40883 NACIONALNI CENTAR ZA VANJSKO VREDNOVANJE OBRAZOVANJA | P94: =LEFT(F94,3) -> 324 | Q94: =LEFT(F94,2) -> 32 | R94: =LEFT(C94,3) -> 11 | S94: =MID(J94,2,2) -> 97 | T94: =LEFT(F94,1) -> 3 | U94: =IFERROR(VLOOKUP(C94,$V$6:$X$36,3,FALSE),"") -> 11 | Y94: 4214 | Z94: Ostali građevinski objekti | AB94: =LEFT(Y94,2) -> 42 | AC94: =LEFT(Y94,3) -> 421 | AE94: A768072 | AF94: EUROPSKI SOCIJALNI FOND PLUS 2021. – 2027. - PREHRANA ZA UČENIKE U OSNOVNIM ŠKOLAMA | AG94: 0912 | AH94: Osnovno obrazovanje | AI94: =LEFT(AG94,2) -> 09 | AJ94: =LEFT(AG94,3) -> 091
A95: =IF(D95="","",VLOOKUP('OPĆI DIO'!$C$1,'OPĆI DIO'!$N$4:$W$150,10,FALSE)) -> 08091 | B95: =IF(D95="","",VLOOKUP('OPĆI DIO'!$C$1,'OPĆI DIO'!$N$4:$W$150,9,FALSE)) -> Agencije | C95: =IFERROR(VLOOKUP(D95,$V$6:$X$36,3,FALSE),"") -> 11 | D95: 11 | E95: =IFERROR(VLOOKUP(D95,$V$6:$W$37,2,FALSE),"") -> Opći prihodi i primici | F95: 3294 | G95: =IFERROR(VLOOKUP(F95,$Y$5:$AA$129,2,FALSE),"") -> Članarine i norme | H95: A814007 | I95: =IFERROR(VLOOKUP(H95,$AE$6:$AF$349,2,FALSE),"") -> UNAPREĐENJE KVALITETE OBRAZOVNOG SUSTAVA | J95: =IFERROR(VLOOKUP(H95,$AE$6:$AI$350,3,FALSE),"") -> 0970 | K95: 0 | L95: 0 | M95: 0 | O95: =IF(D95="","",'OPĆI DIO'!$C$1) -> 40883 NACIONALNI CENTAR ZA VANJSKO VREDNOVANJE OBRAZOVANJA | P95: =LEFT(F95,3) -> 329 | Q95: =LEFT(F95,2) -> 32 | R95: =LEFT(C95,3) -> 11 | S95: =MID(J95,2,2) -> 97 | T95: =LEFT(F95,1) -> 3 | U95: =IFERROR(VLOOKUP(C95,$V$6:$X$36,3,FALSE),"") -> 11 | Y95: 4221 | Z95: Uredska oprema i namještaj | AB95: =LEFT(Y95,2) -> 42 | AC95: =LEFT(Y95,3) -> 422 | AE95: A768073 | AF95: ZAŠTITA I PROMICANJE MENTALNOG ZDRAVLJA | AG95: 0970 | AH95: Istraživanje i razvoj obrazovanja | AI95: =LEFT(AG95,2) -> 09 | AJ95: =LEFT(AG95,3) -> 097
A96: =IF(D96="","",VLOOKUP('OPĆI DIO'!$C$1,'OPĆI DIO'!$N$4:$W$150,10,FALSE)) -> 08091 | B96: =IF(D96="","",VLOOKUP('OPĆI DIO'!$C$1,'OPĆI DIO'!$N$4:$W$150,9,FALSE)) -> Agencije | C96: =IFERROR(VLOOKUP(D96,$V$6:$X$36,3,FALSE),"") -> 11 | D96: 11 | E96: =IFERROR(VLOOKUP(D96,$V$6:$W$37,2,FALSE),"") -> Opći prihodi i primici | F96: 3661 | G96: =IFERROR(VLOOKUP(F96,$Y$5:$AA$129,2,FALSE),"") -> Tekuće pomoći proračunskim korisnicima drugih proračuna | H96: A814007 | I96: =IFERROR(VLOOKUP(H96,$AE$6:$AF$349,2,FALSE),"") -> UNAPREĐENJE KVALITETE OBRAZOVNOG SUSTAVA | J96: =IFERROR(VLOOKUP(H96,$AE$6:$AI$350,3,FALSE),"") -> 0970 | K96: 0 | L96: 0 | M96: 0 | O96: =IF(D96="","",'OPĆI DIO'!$C$1) -> 40883 NACIONALNI CENTAR ZA VANJSKO VREDNOVANJE OBRAZOVANJA | P96: =LEFT(F96,3) -> 366 | Q96: =LEFT(F96,2) -> 36 | R96: =LEFT(C96,3) -> 11 | S96: =MID(J96,2,2) -> 97 | T96: =LEFT(F96,1) -> 3 | U96: =IFERROR(VLOOKUP(C96,$V$6:$X$36,3,FALSE),"") -> 11 | Y96: 4222 | Z96: Komunikacijska oprema | AB96: =LEFT(Y96,2) -> 42 | AC96: =LEFT(Y96,3) -> 422 | AE96: A792009 | AF96: PREVENCIJA NASILJA NAD I MEĐU MLADIMA | AG96: 1040 | AH96: Obitelj i djeca | AI96: =LEFT(AG96,2) -> 10 | AJ96: =LEFT(AG96,3) -> 104
A97: =IF(D97="","",VLOOKUP('OPĆI DIO'!$C$1,'OPĆI DIO'!$N$4:$W$150,10,FALSE)) -> 08091 | B97: =IF(D97="","",VLOOKUP('OPĆI DIO'!$C$1,'OPĆI DIO'!$N$4:$W$150,9,FALSE)) -> Agencije | C97: =IFERROR(VLOOKUP(D97,$V$6:$X$36,3,FALSE),"") -> 43 | D97: 43 | E97: =IFERROR(VLOOKUP(D97,$V$6:$W$37,2,FALSE),"") -> Ostali prihodi za posebne namjene | F97: 3211 | G97: =IFERROR(VLOOKUP(F97,$Y$5:$AA$129,2,FALSE),"") -> Službena putovanja | H97: A814001 | I97: =IFERROR(VLOOKUP(H97,$AE$6:$AF$349,2,FALSE),"") -> DRŽAVNA MATURA | J97: =IFERROR(VLOOKUP(H97,$AE$6:$AI$350,3,FALSE),"") -> 0970 | K97: 0 | L97: 0 | M97: 0 | O97: =IF(D97="","",'OPĆI DIO'!$C$1) -> 40883 NACIONALNI CENTAR ZA VANJSKO VREDNOVANJE OBRAZOVANJA | P97: =LEFT(F97,3) -> 321 | Q97: =LEFT(F97,2) -> 32 | R97: =LEFT(C97,3) -> 43 | S97: =MID(J97,2,2) -> 97 | T97: =LEFT(F97,1) -> 3 | U97: =IFERROR(VLOOKUP(C97,$V$6:$X$36,3,FALSE),"") -> 43 | Y97: 4223 | Z97: Oprema za održavanje i zaštitu | AB97: =LEFT(Y97,2) -> 42 | AC97: =LEFT(Y97,3) -> 422 | AE97: A792025 | AF97: IFMIF-DONES - UREĐAJ ZA TESTIRANJE MATERIJALA U EKSTREMNIM UVJETIMA VELIKOG ZRAČENJA OZRAČIVANJEM FUZIJSKIH MATERIJALA | AG97: 0150 | AH97: Istraživanje i razvoj: Opće javne usluge | AI97: =LEFT(AG97,2) -> 01 | AJ97: =LEFT(AG97,3) -> 015
A98: =IF(D98="","",VLOOKUP('OPĆI DIO'!$C$1,'OPĆI DIO'!$N$4:$W$150,10,FALSE)) -> 08091 | B98: =IF(D98="","",VLOOKUP('OPĆI DIO'!$C$1,'OPĆI DIO'!$N$4:$W$150,9,FALSE)) -> Agencije | C98: =IFERROR(VLOOKUP(D98,$V$6:$X$36,3,FALSE),"") -> 43 | D98: 43 | E98: =IFERROR(VLOOKUP(D98,$V$6:$W$37,2,FALSE),"") -> Ostali prihodi za posebne namjene | F98: 3213 | G98: =IFERROR(VLOOKUP(F98,$Y$5:$AA$129,2,FALSE),"") -> Stručno usavršavanje zaposlenika | H98: A814001 | I98: =IFERROR(VLOOKUP(H98,$AE$6:$AF$349,2,FALSE),"") -> DRŽAVNA MATURA | J98: =IFERROR(VLOOKUP(H98,$AE$6:$AI$350,3,FALSE),"") -> 0970 | K98: 0 | L98: 0 | M98: 0 | O98: =IF(D98="","",'OPĆI DIO'!$C$1) -> 40883 NACIONALNI CENTAR ZA VANJSKO VREDNOVANJE OBRAZOVANJA | P98: =LEFT(F98,3) -> 321 | Q98: =LEFT(F98,2) -> 32 | R98: =LEFT(C98,3) -> 43 | S98: =MID(J98,2,2) -> 97 | T98: =LEFT(F98,1) -> 3 | U98: =IFERROR(VLOOKUP(C98,$V$6:$X$36,3,FALSE),"") -> 43 | Y98: 4224 | Z98: Medicinska i laboratorijska oprema | AB98: =LEFT(Y98,2) -> 42 | AC98: =LEFT(Y98,3) -> 422 | AE98: A792026 | AF98: SMJEŠTAJ I PREHRANA STUDENATA SVEUČILIŠTA U ZADRU | AG98: 0942 | AH98: Drugi stupanj visoke naobrazbe | AI98: =LEFT(AG98,2) -> 09 | AJ98: =LEFT(AG98,3) -> 094
... A117: =IF(D117="","",VLOOKUP('OPĆI DIO'!$C$1,'OPĆI DIO'!$N$4:$W$150,10,FALSE)) -> 08091 | B117: =IF(D117="","",VLOOKUP('OPĆI DIO'!$C$1,'OPĆI DIO'!$N$4:$W$150,9,FALSE)) -> Agencije | C117: =IFERROR(VLOOKUP(D117,$V$6:$X$36,3,FALSE),"") -> 11 | D117: 51000 | E117: =IFERROR(VLOOKUP(D117,$V$6:$W$37,2,FALSE),"") -> 51000 Programi Unije – raspoloživ predujam | F117: 3294 | G117: =IFERROR(VLOOKUP(F117,$Y$5:$AA$129,2,FALSE),"") -> Članarine i norme | H117: A814000 | I117: =IFERROR(VLOOKUP(H117,$AE$6:$AF$349,2,FALSE),"") -> MEĐUNARODNI PROJEKTI VREDNOVANJA ZNANJA I VJEŠTINA (IEA: ICCS, ICILS, PIRLS, TIMSS - OECD: PISA, TALIS) | J117: =IFERROR(VLOOKUP(H117,$AE$6:$AI$350,3,FALSE),"") -> 0970 | K117: 0 | L117: 0 | M117: 0 | O117: =IF(D117="","",'OPĆI DIO'!$C$1) -> 40883 NACIONALNI CENTAR ZA VANJSKO VREDNOVANJE OBRAZOVANJA | P117: =LEFT(F117,3) -> 329 | Q117: =LEFT(F117,2) -> 32 | R117: =LEFT(C117,3) -> 11 | S117: =MID(J117,2,2) -> 97 | T117: =LEFT(F117,1) -> 3 | U117: =IFERROR(VLOOKUP(C117,$V$6:$X$36,3,FALSE),"") -> 11 | Y117: 4541 | Z117: Dodatna ulaganja za ostalu nefinancijsku imovinu | AB117: =LEFT(Y117,2) -> 45 | AC117: =LEFT(Y117,3) -> 454 | AE117: K676067 | AF117: IZGRADNJA, DOGRADNJA, REKONSTRUKCIJA I OPREMANJE PREDŠKOLSKIH USTANOVA - NPOO (C3.1.R1-I1) | AG117: 0911 | AH117: Predškolsko obrazovanje | AI117: =LEFT(AG117,2) -> 09 | AJ117: =LEFT(AG117,3) -> 091
A118: =IF(D118="","",VLOOKUP('OPĆI DIO'!$C$1,'OPĆI DIO'!$N$4:$W$150,10,FALSE)) | B118: =IF(D118="","",VLOOKUP('OPĆI DIO'!$C$1,'OPĆI DIO'!$N$4:$W$150,9,FALSE)) | C118: =IFERROR(VLOOKUP(D118,$V$6:$X$36,3,FALSE),"") | E118: =IFERROR(VLOOKUP(D118,$V$6:$W$37,2,FALSE),"") | G118: =IFERROR(VLOOKUP(F118,$Y$5:$AA$129,2,FALSE),"") | I118: =IFERROR(VLOOKUP(H118,$AE$6:$AF$349,2,FALSE),"") | J118: =IFERROR(VLOOKUP(H118,$AE$6:$AI$350,3,FALSE),"") | O118: =IF(D118="","",'OPĆI DIO'!$C$1) | P118: =LEFT(F118,3) | Q118: =LEFT(F118,2) | R118: =LEFT(C118,3) | S118: =MID(J118,2,2) | T118: =LEFT(F118,1) | U118: =IFERROR(VLOOKUP(C118,$V$6:$X$36,3,FALSE),"") | Y118: 5422 | Z118: Otplata glavnice primljenih kredita od kreditnih institucija u javnom sektoru | AB118: =LEFT(Y118,2) -> 54 | AC118: =LEFT(Y118,3) -> 542 | AE118: K676068 | AF118: PROGRAM KONKURENTNOST I KOHEZIJA 2021.-2027., PRIORITET 1 | AG118: 0150 | AH118: Istraživanje i razvoj: Opće javne usluge | AI118: =LEFT(AG118,2) -> 01 | AJ118: =LEFT(AG118,3) -> 015
A119: =IF(D119="","",VLOOKUP('OPĆI DIO'!$C$1,'OPĆI DIO'!$N$4:$W$150,10,FALSE)) | B119: =IF(D119="","",VLOOKUP('OPĆI DIO'!$C$1,'OPĆI DIO'!$N$4:$W$150,9,FALSE)) | C119: =IFERROR(VLOOKUP(D119,$V$6:$X$36,3,FALSE),"") | E119: =IFERROR(VLOOKUP(D119,$V$6:$W$37,2,FALSE),"") | G119: =IFERROR(VLOOKUP(F119,$Y$5:$AA$129,2,FALSE),"") | I119: =IFERROR(VLOOKUP(H119,$AE$6:$AF$349,2,FALSE),"") | J119: =IFERROR(VLOOKUP(H119,$AE$6:$AI$350,3,FALSE),"") | O119: =IF(D119="","",'OPĆI DIO'!$C$1) | P119: =LEFT(F119,3) | Q119: =LEFT(F119,2) | R119: =LEFT(C119,3) | S119: =MID(J119,2,2) | T119: =LEFT(F119,1) | U119: =IFERROR(VLOOKUP(C119,$V$6:$X$36,3,FALSE),"") | Y119: 5443 | Z119: Otplata glavnice primljenih kredita od tuzemnih kreditnih institucija izvan javnog sektora | AB119: =LEFT(Y119,2) -> 54 | AC119: =LEFT(Y119,3) -> 544 | AE119: K676069 | AF119: STVARANJE OKVIRA ZA PRIVLAČENJE STUDENATA I ISTRAŽIVAČA U STEM I ICT PODRUČJIMA - NPOO (C3.2.R2) | AG119: 0150 | AH119: Istraživanje i razvoj: Opće javne usluge | AI119: =LEFT(AG119,2) -> 01 | AJ119: =LEFT(AG119,3) -> 015
A120: =IF(D120="","",VLOOKUP('OPĆI DIO'!$C$1,'OPĆI DIO'!$N$4:$W$150,10,FALSE)) | B120: =IF(D120="","",VLOOKUP('OPĆI DIO'!$C$1,'OPĆI DIO'!$N$4:$W$150,9,FALSE)) | C120: =IFERROR(VLOOKUP(D120,$V$6:$X$36,3,FALSE),"") | E120: =IFERROR(VLOOKUP(D120,$V$6:$W$37,2,FALSE),"") | G120: =IFERROR(VLOOKUP(F120,$Y$5:$AA$129,2,FALSE),"") | I120: =IFERROR(VLOOKUP(H120,$AE$6:$AF$349,2,FALSE),"") | J120: =IFERROR(VLOOKUP(H120,$AE$6:$AI$350,3,FALSE),"") | O120: =IF(D120="","",'OPĆI DIO'!$C$1) | P120: =LEFT(F120,3) | Q120: =LEFT(F120,2) | R120: =LEFT(C120,3) | S120: =MID(J120,2,2) | T120: =LEFT(F120,1) | U120: =IFERROR(VLOOKUP(C120,$V$6:$X$36,3,FALSE),"") | Y120: 5183 | Z120: Izdaci za jamčevne pologe | AB120: =LEFT(Y120,2) -> 51 | AC120: =LEFT(Y120,3) -> 518 | AE120: K676071 | AF120: FISKALNA ODRŽIVOST DJEČJIH VRTIĆA | AG120: 0911 | AH120: Predškolsko obrazovanje | AI120: =LEFT(AG120,2) -> 09 | AJ120: =LEFT(AG120,3) -> 091
A121: =IF(D121="","",VLOOKUP('OPĆI DIO'!$C$1,'OPĆI DIO'!$N$4:$W$150,10,FALSE)) | B121: =IF(D121="","",VLOOKUP('OPĆI DIO'!$C$1,'OPĆI DIO'!$N$4:$W$150,9,FALSE)) | C121: =IFERROR(VLOOKUP(D121,$V$6:$X$36,3,FALSE),"") | E121: =IFERROR(VLOOKUP(D121,$V$6:$W$37,2,FALSE),"") | G121: =IFERROR(VLOOKUP(F121,$Y$5:$AA$129,2,FALSE),"") | I121: =IFERROR(VLOOKUP(H121,$AE$6:$AF$349,2,FALSE),"") | J121: =IFERROR(VLOOKUP(H121,$AE$6:$AI$350,3,FALSE),"") | O121: =IF(D121="","",'OPĆI DIO'!$C$1) | P121: =LEFT(F121,3) | Q121: =LEFT(F121,2) | R121: =LEFT(C121,3) | S121: =MID(J121,2,2) | T121: =LEFT(F121,1) | U121: =IFERROR(VLOOKUP(C121,$V$6:$X$36,3,FALSE),"") | AE121: K676073 | AF121: PROJEKT DIGITALNE, INOVATIVNE I ZELENE TEHNOLOGIJE - DIGIT | AG121: 0150 | AH121: Istraživanje i razvoj: Opće javne usluge | AI121: =LEFT(AG121,2) -> 01 | AJ121: =LEFT(AG121,3) -> 015
A122: =IF(D122="","",VLOOKUP('OPĆI DIO'!$C$1,'OPĆI DIO'!$N$4:$W$150,10,FALSE)) | B122: =IF(D122="","",VLOOKUP('OPĆI DIO'!$C$1,'OPĆI DIO'!$N$4:$W$150,9,FALSE)) | C122: =IFERROR(VLOOKUP(D122,$V$6:$X$36,3,FALSE),"") | E122: =IFERROR(VLOOKUP(D122,$V$6:$W$37,2,FALSE),"") | G122: =IFERROR(VLOOKUP(F122,$Y$5:$AA$129,2,FALSE),"") | I122: =IFERROR(VLOOKUP(H122,$AE$6:$AF$349,2,FALSE),"") | J122: =IFERROR(VLOOKUP(H122,$AE$6:$AI$350,3,FALSE),"") | O122: =IF(D122="","",'OPĆI DIO'!$C$1) | P122: =LEFT(F122,3) | Q122: =LEFT(F122,2) | R122: =LEFT(C122,3) | S122: =MID(J122,2,2) | T122: =LEFT(F122,1) | U122: =IFERROR(VLOOKUP(C122,$V$6:$X$36,3,FALSE),"") | AE122: K676074 | AF122: IZGRADNJA UČENIČKOG DOMA U DARUVARU | AG122: 0922 | AH122: Više srednjoškolsko obrazovanje | AI122: =LEFT(AG122,2) -> 09 | AJ122: =LEFT(AG122,3) -> 092
A123: =IF(D123="","",VLOOKUP('OPĆI DIO'!$C$1,'OPĆI DIO'!$N$4:$W$150,10,FALSE)) | B123: =IF(D123="","",VLOOKUP('OPĆI DIO'!$C$1,'OPĆI DIO'!$N$4:$W$150,9,FALSE)) | C123: =IFERROR(VLOOKUP(D123,$V$6:$X$36,3,FALSE),"") | E123: =IFERROR(VLOOKUP(D123,$V$6:$W$37,2,FALSE),"") | G123: =IFERROR(VLOOKUP(F123,$Y$5:$AA$129,2,FALSE),"") | I123: =IFERROR(VLOOKUP(H123,$AE$6:$AF$349,2,FALSE),"") | J123: =IFERROR(VLOOKUP(H123,$AE$6:$AI$350,3,FALSE),"") | O123: =IF(D123="","",'OPĆI DIO'!$C$1) | P123: =LEFT(F123,3) | Q123: =LEFT(F123,2) | R123: =LEFT(C123,3) | S123: =MID(J123,2,2) | T123: =LEFT(F123,1) | U123: =IFERROR(VLOOKUP(C123,$V$6:$X$36,3,FALSE),"") | AE123: K733061 | AF123: OSNOVNA ŠKOLA MILAN AMRUŠ SLAVONSKI BROD | AG123: 0912 | AH123: Osnovno obrazovanje | AI123: =LEFT(AG123,2) -> 09 | AJ123: =LEFT(AG123,3) -> 091
A124: =IF(D124="","",VLOOKUP('OPĆI DIO'!$C$1,'OPĆI DIO'!$N$4:$W$150,10,FALSE)) | B124: =IF(D124="","",VLOOKUP('OPĆI DIO'!$C$1,'OPĆI DIO'!$N$4:$W$150,9,FALSE)) | C124: =IFERROR(VLOOKUP(D124,$V$6:$X$36,3,FALSE),"") | E124: =IFERROR(VLOOKUP(D124,$V$6:$W$37,2,FALSE),"") | G124: =IFERROR(VLOOKUP(F124,$Y$5:$AA$129,2,FALSE),"") | I124: =IFERROR(VLOOKUP(H124,$AE$6:$AF$349,2,FALSE),"") | J124: =IFERROR(VLOOKUP(H124,$AE$6:$AI$350,3,FALSE),"") | O124: =IF(D124="","",'OPĆI DIO'!$C$1) | P124: =LEFT(F124,3) | Q124: =LEFT(F124,2) | R124: =LEFT(C124,3) | S124: =MID(J124,2,2) | T124: =LEFT(F124,1) | U124: =IFERROR(VLOOKUP(C124,$V$6:$X$36,3,FALSE),"") | AE124: K733067 | AF124: PROGRAM UČINKOVITI LJUDSKI POTENCIJALI 2021.-2027., PRIORITET 2 | AG124: 0950 | AH124: Obrazovanje koje se ne može definirati po stupnju | AI124: =LEFT(AG124,2) -> 09 | AJ124: =LEFT(AG124,3) -> 095
A125: =IF(D125="","",VLOOKUP('OPĆI DIO'!$C$1,'OPĆI DIO'!$N$4:$W$150,10,FALSE)) | B125: =IF(D125="","",VLOOKUP('OPĆI DIO'!$C$1,'OPĆI DIO'!$N$4:$W$150,9,FALSE)) | C125: =IFERROR(VLOOKUP(D125,$V$6:$X$36,3,FALSE),"") | E125: =IFERROR(VLOOKUP(D125,$V$6:$W$37,2,FALSE),"") | G125: =IFERROR(VLOOKUP(F125,$Y$5:$AA$129,2,FALSE),"") | I125: =IFERROR(VLOOKUP(H125,$AE$6:$AF$349,2,FALSE),"") | J125: =IFERROR(VLOOKUP(H125,$AE$6:$AI$350,3,FALSE),"") | O125: =IF(D125="","",'OPĆI DIO'!$C$1) | P125: =LEFT(F125,3) | Q125: =LEFT(F125,2) | R125: =LEFT(C125,3) | S125: =MID(J125,2,2) | T125: =LEFT(F125,1) | U125: =IFERROR(VLOOKUP(C125,$V$6:$X$36,3,FALSE),"") | AE125: K733074 | AF125: IZGRADNJA STUDENTSKOG DOMA U KOPRIVNICI | AG125: 0942 | AH125: Drugi stupanj visoke naobrazbe | AI125: =LEFT(AG125,2) -> 09 | AJ125: =LEFT(AG125,3) -> 094
A126: =IF(D126="","",VLOOKUP('OPĆI DIO'!$C$1,'OPĆI DIO'!$N$4:$W$150,10,FALSE)) | B126: =IF(D126="","",VLOOKUP('OPĆI DIO'!$C$1,'OPĆI DIO'!$N$4:$W$150,9,FALSE)) | C126: =IFERROR(VLOOKUP(D126,$V$6:$X$36,3,FALSE),"") | E126: =IFERROR(VLOOKUP(D126,$V$6:$W$37,2,FALSE),"") | G126: =IFERROR(VLOOKUP(F126,$Y$5:$AA$129,2,FALSE),"") | I126: =IFERROR(VLOOKUP(H126,$AE$6:$AF$349,2,FALSE),"") | J126: =IFERROR(VLOOKUP(H126,$AE$6:$AI$350,3,FALSE),"") | O126: =IF(D126="","",'OPĆI DIO'!$C$1) | P126: =LEFT(F126,3) | Q126: =LEFT(F126,2) | R126: =LEFT(C126,3) | S126: =MID(J126,2,2) | T126: =LEFT(F126,1) | U126: =IFERROR(VLOOKUP(C126,$V$6:$X$36,3,FALSE),"") | AE126: K768066 | AF126: OBNOVA INFRASTRUKTURE I OPREME U PODRUČJU OBRAZOVANJA OŠTEĆENE POTRESOM | AG126: 0970 | AH126: Istraživanje i razvoj obrazovanja | AI126: =LEFT(AG126,2) -> 09 | AJ126: =LEFT(AG126,3) -> 097
A127: =IF(D127="","",VLOOKUP('OPĆI DIO'!$C$1,'OPĆI DIO'!$N$4:$W$150,10,FALSE)) | B127: =IF(D127="","",VLOOKUP('OPĆI DIO'!$C$1,'OPĆI DIO'!$N$4:$W$150,9,FALSE)) | C127: =IFERROR(VLOOKUP(D127,$V$6:$X$36,3,FALSE),"") | E127: =IFERROR(VLOOKUP(D127,$V$6:$W$37,2,FALSE),"") | G127: =IFERROR(VLOOKUP(F127,$Y$5:$AA$129,2,FALSE),"") | I127: =IFERROR(VLOOKUP(H127,$AE$6:$AF$349,2,FALSE),"") | J127: =IFERROR(VLOOKUP(H127,$AE$6:$AI$350,3,FALSE),"") | O127: =IF(D127="","",'OPĆI DIO'!$C$1) | P127: =LEFT(F127,3) | Q127: =LEFT(F127,2) | R127: =LEFT(C127,3) | S127: =MID(J127,2,2) | T127: =LEFT(F127,1) | U127: =IFERROR(VLOOKUP(C127,$V$6:$X$36,3,FALSE),"") | AE127: K768067 | AF127: IZGRADNJA, DOGRADNJA, REKONSTRUKCIJA I OPREMANJE OSNOVNIH ŠKOLA ZA POTREBE JEDNOSMJENSKOG RADA I CJELODNEVNE NASTAVE - NPOO (C3.1.R1-I2) | AG127: 0912 | AH127: Osnovno obrazovanje | AI127: =LEFT(AG127,2) -> 09 | AJ127: =LEFT(AG127,3) -> 091
A128: =IF(D128="","",VLOOKUP('OPĆI DIO'!$C$1,'OPĆI DIO'!$N$4:$W$150,10,FALSE)) | B128: =IF(D128="","",VLOOKUP('OPĆI DIO'!$C$1,'OPĆI DIO'!$N$4:$W$150,9,FALSE)) | C128: =IFERROR(VLOOKUP(D128,$V$6:$X$36,3,FALSE),"") | E128: =IFERROR(VLOOKUP(D128,$V$6:$W$37,2,FALSE),"") | G128: =IFERROR(VLOOKUP(F128,$Y$5:$AA$129,2,FALSE),"") | I128: =IFERROR(VLOOKUP(H128,$AE$6:$AF$349,2,FALSE),"") | J128: =IFERROR(VLOOKUP(H128,$AE$6:$AI$350,3,FALSE),"") | O128: =IF(D128="","",'OPĆI DIO'!$C$1) | P128: =LEFT(F128,3) | Q128: =LEFT(F128,2) | R128: =LEFT(C128,3) | S128: =MID(J128,2,2) | T128: =LEFT(F128,1) | U128: =IFERROR(VLOOKUP(C128,$V$6:$X$36,3,FALSE),"") | AE128: K768069 | AF128: REFORMA I JAČANJE KAPACITETA JAVNOG ZNANSTVENO-ISTRAIŽIVAČKOG SEKTORA ZA ISTRAŽIVANJE I RAZVOJ - NPOO (C3.2.R1) | AG128: 0150 | AH128: Istraživanje i razvoj: Opće javne usluge | AI128: =LEFT(AG128,2) -> 01 | AJ128: =LEFT(AG128,3) -> 015
A129: =IF(D129="","",VLOOKUP('OPĆI DIO'!$C$1,'OPĆI DIO'!$N$4:$W$150,10,FALSE)) | B129: =IF(D129="","",VLOOKUP('OPĆI DIO'!$C$1,'OPĆI DIO'!$N$4:$W$150,9,FALSE)) | C129: =IFERROR(VLOOKUP(D129,$V$6:$X$36,3,FALSE),"") | E129: =IFERROR(VLOOKUP(D129,$V$6:$W$37,2,FALSE),"") | G129: =IFERROR(VLOOKUP(F129,$Y$5:$AA$129,2,FALSE),"") | I129: =IFERROR(VLOOKUP(H129,$AE$6:$AF$349,2,FALSE),"") | J129: =IFERROR(VLOOKUP(H129,$AE$6:$AI$350,3,FALSE),"") | O129: =IF(D129="","",'OPĆI DIO'!$C$1) | P129: =LEFT(F129,3) | Q129: =LEFT(F129,2) | R129: =LEFT(C129,3) | S129: =MID(J129,2,2) | T129: =LEFT(F129,1) | U129: =IFERROR(VLOOKUP(C129,$V$6:$X$36,3,FALSE),"") | AE129: K768070 | AF129: OBNOVA INFRASTRUKTURE U PODRUČJU OBRAZOVANJA OŠTEĆENE POTRESOM FSEU.2022.MZO | AG129: 0970 | AH129: Istraživanje i razvoj obrazovanja | AI129: =LEFT(AG129,2) -> 09 | AJ129: =LEFT(AG129,3) -> 097
A130: =IF(D130="","",VLOOKUP('OPĆI DIO'!$C$1,'OPĆI DIO'!$N$4:$W$150,10,FALSE)) | B130: =IF(D130="","",VLOOKUP('OPĆI DIO'!$C$1,'OPĆI DIO'!$N$4:$W$150,9,FALSE)) | C130: =IFERROR(VLOOKUP(D130,$V$6:$X$36,3,FALSE),"") | E130: =IFERROR(VLOOKUP(D130,$V$6:$W$37,2,FALSE),"") | G130: =IFERROR(VLOOKUP(F130,$Y$5:$AA$129,2,FALSE),"") | I130: =IFERROR(VLOOKUP(H130,$AE$6:$AF$349,2,FALSE),"") | J130: =IFERROR(VLOOKUP(H130,$AE$6:$AI$350,3,FALSE),"") | O130: =IF(D130="","",'OPĆI DIO'!$C$1) | P130: =LEFT(F130,3) | Q130: =LEFT(F130,2) | R130: =LEFT(C130,3) | S130: =MID(J130,2,2) | T130: =LEFT(F130,1) | U130: =IFERROR(VLOOKUP(C130,$V$6:$X$36,3,FALSE),"") | AE130: K768074 | AF130: UČENIČKI DOM U KOPRIVNICI | AG130: 0970 | AH130: Istraživanje i razvoj obrazovanja | AI130: =LEFT(AG130,2) -> 09 | AJ130: =LEFT(AG130,3) -> 097
A131: =IF(D131="","",VLOOKUP('OPĆI DIO'!$C$1,'OPĆI DIO'!$N$4:$W$150,10,FALSE)) | B131: =IF(D131="","",VLOOKUP('OPĆI DIO'!$C$1,'OPĆI DIO'!$N$4:$W$150,9,FALSE)) | C131: =IFERROR(VLOOKUP(D131,$V$6:$X$36,3,FALSE),"") | E131: =IFERROR(VLOOKUP(D131,$V$6:$W$37,2,FALSE),"") | G131: =IFERROR(VLOOKUP(F131,$Y$5:$AA$129,2,FALSE),"") | I131: =IFERROR(VLOOKUP(H131,$AE$6:$AF$349,2,FALSE),"") | J131: =IFERROR(VLOOKUP(H131,$AE$6:$AI$350,3,FALSE),"") | O131: =IF(D131="","",'OPĆI DIO'!$C$1) | P131: =LEFT(F131,3) | Q131: =LEFT(F131,2) | R131: =LEFT(C131,3) | S131: =MID(J131,2,2) | T131: =LEFT(F131,1) | U131: =IFERROR(VLOOKUP(C131,$V$6:$X$36,3,FALSE),"") | AE131: K792020 | AF131: CENTAR ZA ODGOJ I OBRAZOVANJE KRAPINSKE TOPLICE | AG131: 0912 | AH131: Osnovno obrazovanje | AI131: =LEFT(AG131,2) -> 09 | AJ131: =LEFT(AG131,3) -> 091
A132: =IF(D132="","",VLOOKUP('OPĆI DIO'!$C$1,'OPĆI DIO'!$N$4:$W$150,10,FALSE)) | B132: =IF(D132="","",VLOOKUP('OPĆI DIO'!$C$1,'OPĆI DIO'!$N$4:$W$150,9,FALSE)) | C132: =IFERROR(VLOOKUP(D132,$V$6:$X$36,3,FALSE),"") | E132: =IFERROR(VLOOKUP(D132,$V$6:$W$37,2,FALSE),"") | G132: =IFERROR(VLOOKUP(F132,$Y$5:$AA$129,2,FALSE),"") | I132: =IFERROR(VLOOKUP(H132,$AE$6:$AF$349,2,FALSE),"") | J132: =IFERROR(VLOOKUP(H132,$AE$6:$AI$350,3,FALSE),"") | O132: =IF(D132="","",'OPĆI DIO'!$C$1) | P132: =LEFT(F132,3) | Q132: =LEFT(F132,2) | R132: =LEFT(C132,3) | S132: =MID(J132,2,2) | T132: =LEFT(F132,1) | U132: =IFERROR(VLOOKUP(C132,$V$6:$X$36,3,FALSE),"") | AE132: K792023 | AF132: UČENIČKI DOM U VARAŽDINU | AG132: 0912 | AH132: Osnovno obrazovanje | AI132: =LEFT(AG132,2) -> 09 | AJ132: =LEFT(AG132,3) -> 091
... A137: =IF(D137="","",VLOOKUP('OPĆI DIO'!$C$1,'OPĆI DIO'!$N$4:$W$150,10,FALSE)) | B137: =IF(D137="","",VLOOKUP('OPĆI DIO'!$C$1,'OPĆI DIO'!$N$4:$W$150,9,FALSE)) | C137: =IFERROR(VLOOKUP(D137,$V$6:$X$36,3,FALSE),"") | E137: =IFERROR(VLOOKUP(D137,$V$6:$W$37,2,FALSE),"") | G137: =IFERROR(VLOOKUP(F137,$Y$5:$AA$129,2,FALSE),"") | I137: =IFERROR(VLOOKUP(H137,$AE$6:$AF$349,2,FALSE),"") | J137: =IFERROR(VLOOKUP(H137,$AE$6:$AI$350,3,FALSE),"") | O137: =IF(D137="","",'OPĆI DIO'!$C$1) | P137: =LEFT(F137,3) | Q137: =LEFT(F137,2) | R137: =LEFT(C137,3) | S137: =MID(J137,2,2) | T137: =LEFT(F137,1) | U137: =IFERROR(VLOOKUP(C137,$V$6:$X$36,3,FALSE),"") | AE137: K792031 | AF137: DOGRADNJA SREDNJE ŠKOLE PRELOG | AG137: 0922 | AH137: Više srednjoškolsko obrazovanje | AI137: =LEFT(AG137,2) -> 09 | AJ137: =LEFT(AG137,3) -> 092
A138: =IF(D138="","",VLOOKUP('OPĆI DIO'!$C$1,'OPĆI DIO'!$N$4:$W$150,10,FALSE)) | B138: =IF(D138="","",VLOOKUP('OPĆI DIO'!$C$1,'OPĆI DIO'!$N$4:$W$150,9,FALSE)) | C138: =IFERROR(VLOOKUP(D138,$V$6:$X$36,3,FALSE),"") | E138: =IFERROR(VLOOKUP(D138,$V$6:$W$37,2,FALSE),"") | G138: =IFERROR(VLOOKUP(F138,$Y$5:$AA$129,2,FALSE),"") | I138: =IFERROR(VLOOKUP(H138,$AE$6:$AF$349,2,FALSE),"") | J138: =IFERROR(VLOOKUP(H138,$AE$6:$AI$350,3,FALSE),"") | O138: =IF(D138="","",'OPĆI DIO'!$C$1) | P138: =LEFT(F138,3) | Q138: =LEFT(F138,2) | R138: =LEFT(C138,3) | S138: =MID(J138,2,2) | T138: =LEFT(F138,1) | U138: =IFERROR(VLOOKUP(C138,$V$6:$X$36,3,FALSE),"") | AE138: A621180 | AF138: REKTORSKI ZBOR | AG138: 0942 | AH138: Drugi stupanj visoke naobrazbe | AI138: =LEFT(#REF!,2) -> #REF! | AJ138: =LEFT(#REF!,3) -> #REF!
A139: =IF(D139="","",VLOOKUP('OPĆI DIO'!$C$1,'OPĆI DIO'!$N$4:$W$150,10,FALSE)) | B139: =IF(D139="","",VLOOKUP('OPĆI DIO'!$C$1,'OPĆI DIO'!$N$4:$W$150,9,FALSE)) | C139: =IFERROR(VLOOKUP(D139,$V$6:$X$36,3,FALSE),"") | E139: =IFERROR(VLOOKUP(D139,$V$6:$W$37,2,FALSE),"") | G139: =IFERROR(VLOOKUP(F139,$Y$5:$AA$129,2,FALSE),"") | I139: =IFERROR(VLOOKUP(H139,$AE$6:$AF$349,2,FALSE),"") | J139: =IFERROR(VLOOKUP(H139,$AE$6:$AI$350,3,FALSE),"") | O139: =IF(D139="","",'OPĆI DIO'!$C$1) | P139: =LEFT(F139,3) | Q139: =LEFT(F139,2) | R139: =LEFT(C139,3) | S139: =MID(J139,2,2) | T139: =LEFT(F139,1) | U139: =IFERROR(VLOOKUP(C139,$V$6:$X$36,3,FALSE),"") | AE139: A621181 | AF139: PRAVOMOĆNE SUDSKE PRESUDE | AG139: 0942 | AH139: Drugi stupanj visoke naobrazbe | AI139: =LEFT(AG138,2) -> 09 | AJ139: =LEFT(AG138,3) -> 094
A140: =IF(D140="","",VLOOKUP('OPĆI DIO'!$C$1,'OPĆI DIO'!$N$4:$W$150,10,FALSE)) | B140: =IF(D140="","",VLOOKUP('OPĆI DIO'!$C$1,'OPĆI DIO'!$N$4:$W$150,9,FALSE)) | C140: =IFERROR(VLOOKUP(D140,$V$6:$X$36,3,FALSE),"") | E140: =IFERROR(VLOOKUP(D140,$V$6:$W$37,2,FALSE),"") | G140: =IFERROR(VLOOKUP(F140,$Y$5:$AA$129,2,FALSE),"") | I140: =IFERROR(VLOOKUP(H140,$AE$6:$AF$349,2,FALSE),"") | J140: =IFERROR(VLOOKUP(H140,$AE$6:$AI$350,3,FALSE),"") | O140: =IF(D140="","",'OPĆI DIO'!$C$1) | P140: =LEFT(F140,3) | Q140: =LEFT(F140,2) | R140: =LEFT(C140,3) | S140: =MID(J140,2,2) | T140: =LEFT(F140,1) | U140: =IFERROR(VLOOKUP(C140,$V$6:$X$36,3,FALSE),"") | AE140: A621183 | AF140: STIPENDIJE I ŠKOLARINE ZA DOKTORSKI STUDIJ | AG140: 0942 | AH140: Drugi stupanj visoke naobrazbe | AI140: =LEFT(AG139,2) -> 09 | AJ140: =LEFT(AG139,3) -> 094
A141: =IF(D141="","",VLOOKUP('OPĆI DIO'!$C$1,'OPĆI DIO'!$N$4:$W$150,10,FALSE)) | B141: =IF(D141="","",VLOOKUP('OPĆI DIO'!$C$1,'OPĆI DIO'!$N$4:$W$150,9,FALSE)) | C141: =IFERROR(VLOOKUP(D141,$V$6:$X$36,3,FALSE),"") | E141: =IFERROR(VLOOKUP(D141,$V$6:$W$37,2,FALSE),"") | G141: =IFERROR(VLOOKUP(F141,$Y$5:$AA$129,2,FALSE),"") | I141: =IFERROR(VLOOKUP(H141,$AE$6:$AF$349,2,FALSE),"") | J141: =IFERROR(VLOOKUP(H141,$AE$6:$AI$350,3,FALSE),"") | O141: =IF(D141="","",'OPĆI DIO'!$C$1) | P141: =LEFT(F141,3) | Q141: =LEFT(F141,2) | R141: =LEFT(C141,3) | S141: =MID(J141,2,2) | T141: =LEFT(F141,1) | U141: =IFERROR(VLOOKUP(C141,$V$6:$X$36,3,FALSE),"") | AE141: A679133 | AF141: PROGRAM PREKOGRANIČNE SURADNJE UPRAVLJAČKO TIJELO IZ INOZEMSTVA - IZ EVIDENCIJSKIH PRIHODA | AG141: 0942 | AH141: Drugi stupanj visoke naobrazbe | AI141: =LEFT(#REF!,2) -> #REF! | AJ141: =LEFT(#REF!,3) -> #REF!
A142: =IF(D142="","",VLOOKUP('OPĆI DIO'!$C$1,'OPĆI DIO'!$N$4:$W$150,10,FALSE)) | B142: =IF(D142="","",VLOOKUP('OPĆI DIO'!$C$1,'OPĆI DIO'!$N$4:$W$150,9,FALSE)) | C142: =IFERROR(VLOOKUP(D142,$V$6:$X$36,3,FALSE),"") | E142: =IFERROR(VLOOKUP(D142,$V$6:$W$37,2,FALSE),"") | G142: =IFERROR(VLOOKUP(F142,$Y$5:$AA$129,2,FALSE),"") | I142: =IFERROR(VLOOKUP(H142,$AE$6:$AF$349,2,FALSE),"") | J142: =IFERROR(VLOOKUP(H142,$AE$6:$AI$350,3,FALSE),"") | O142: =IF(D142="","",'OPĆI DIO'!$C$1) | P142: =LEFT(F142,3) | Q142: =LEFT(F142,2) | R142: =LEFT(C142,3) | S142: =MID(J142,2,2) | T142: =LEFT(F142,1) | U142: =IFERROR(VLOOKUP(C142,$V$6:$X$36,3,FALSE),"") | AE142: A679134 | AF142: PROGRAMSKO FINANCIRANJE JAVNIH VISOKIH UČILIŠTA 2025. - 2029. | AG142: 0942 | AH142: Drugi stupanj visoke naobrazbe | AI142: =LEFT(AG141,2) -> 09 | AJ142: =LEFT(AG141,3) -> 094
A143: =IF(D143="","",VLOOKUP('OPĆI DIO'!$C$1,'OPĆI DIO'!$N$4:$W$150,10,FALSE)) | B143: =IF(D143="","",VLOOKUP('OPĆI DIO'!$C$1,'OPĆI DIO'!$N$4:$W$150,9,FALSE)) | C143: =IFERROR(VLOOKUP(D143,$V$6:$X$36,3,FALSE),"") | E143: =IFERROR(VLOOKUP(D143,$V$6:$W$37,2,FALSE),"") | G143: =IFERROR(VLOOKUP(F143,$Y$5:$AA$129,2,FALSE),"") | I143: =IFERROR(VLOOKUP(H143,$AE$6:$AF$349,2,FALSE),"") | J143: =IFERROR(VLOOKUP(H143,$AE$6:$AI$350,3,FALSE),"") | O143: =IF(D143="","",'OPĆI DIO'!$C$1) | P143: =LEFT(F143,3) | Q143: =LEFT(F143,2) | R143: =LEFT(C143,3) | S143: =MID(J143,2,2) | T143: =LEFT(F143,1) | U143: =IFERROR(VLOOKUP(C143,$V$6:$X$36,3,FALSE),"") | AE143: A679135 | AF143: PROGRAMSKO I OSTALO FINANCIRANJE JAVNIH VISOKIH UČILIŠTA - IZ EVIDENCIJSKIH PRIHODA | AG143: 0942 | AH143: Drugi stupanj visoke naobrazbe | AI143: =LEFT(AG142,2) -> 09 | AJ143: =LEFT(AG142,3) -> 094
A144: =IF(D144="","",VLOOKUP('OPĆI DIO'!$C$1,'OPĆI DIO'!$N$4:$W$150,10,FALSE)) | B144: =IF(D144="","",VLOOKUP('OPĆI DIO'!$C$1,'OPĆI DIO'!$N$4:$W$150,9,FALSE)) | G144: =IFERROR(VLOOKUP(F144,$Y$5:$AA$129,2,FALSE),"") | I144: =IFERROR(VLOOKUP(H144,$AE$6:$AF$349,2,FALSE),"") | J144: =IFERROR(VLOOKUP(H144,$AE$6:$AI$350,3,FALSE),"") | O144: =IF(D144="","",'OPĆI DIO'!$C$1) | P144: =LEFT(F144,3) | Q144: =LEFT(F144,2) | R144: =LEFT(C144,3) | S144: =MID(J144,2,2) | T144: =LEFT(F144,1) | U144: =IFERROR(VLOOKUP(C144,$V$6:$X$36,3,FALSE),"") | AE144: A679136 | AF144: RAZVOJ SUSTAVA PROGRAMSKIH SPORAZUMA ZA FINANCIRANJE SVEUČILIŠTA I ZNANSTVENIH INSTITUTA USMJERENIH NA INOVACIJE, ISTRAŽIVANJE I RAZVOJ - NPOO (C3.2. R1-I1 ) | AG144: 0942 | AH144: Drugi stupanj visoke naobrazbe | AI144: =LEFT(AG143,2) -> 09 | AJ144: =LEFT(AG143,3) -> 094
A145: =IF(D145="","",VLOOKUP('OPĆI DIO'!$C$1,'OPĆI DIO'!$N$4:$W$150,10,FALSE)) | B145: =IF(D145="","",VLOOKUP('OPĆI DIO'!$C$1,'OPĆI DIO'!$N$4:$W$150,9,FALSE)) | C145: =IFERROR(VLOOKUP(D145,$V$6:$X$36,3,FALSE),"") | E145: =IFERROR(VLOOKUP(D145,$V$6:$W$37,2,FALSE),"") | G145: =IFERROR(VLOOKUP(F145,$Y$5:$AA$129,2,FALSE),"") | I145: =IFERROR(VLOOKUP(H145,$AE$6:$AF$349,2,FALSE),"") | J145: =IFERROR(VLOOKUP(H145,$AE$6:$AI$350,3,FALSE),"") | O145: =IF(D145="","",'OPĆI DIO'!$C$1) | P145: =LEFT(F145,3) | Q145: =LEFT(F145,2) | R145: =LEFT(C145,3) | S145: =MID(J145,2,2) | T145: =LEFT(F145,1) | U145: =IFERROR(VLOOKUP(C145,$V$6:$X$36,3,FALSE),"") | AE145: K679119 | AF145: OBNOVA ZGRADA OŠTEĆENIH U POTRESU S ENERGETSKOM OBNOVOM - NPOO (C6.1.R1-I2) | AG145: 0942 | AH145: Drugi stupanj visoke naobrazbe | AI145: =LEFT(#REF!,2) -> #REF! | AJ145: =LEFT(#REF!,3) -> #REF!
A146: =IF(D146="","",VLOOKUP('OPĆI DIO'!$C$1,'OPĆI DIO'!$N$4:$W$150,10,FALSE)) | B146: =IF(D146="","",VLOOKUP('OPĆI DIO'!$C$1,'OPĆI DIO'!$N$4:$W$150,9,FALSE)) | C146: =IFERROR(VLOOKUP(D146,$V$6:$X$36,3,FALSE),"") | E146: =IFERROR(VLOOKUP(D146,$V$6:$W$37,2,FALSE),"") | G146: =IFERROR(VLOOKUP(F146,$Y$5:$AA$129,2,FALSE),"") | I146: =IFERROR(VLOOKUP(H146,$AE$6:$AF$349,2,FALSE),"") | J146: =IFERROR(VLOOKUP(H146,$AE$6:$AI$350,3,FALSE),"") | O146: =IF(D146="","",'OPĆI DIO'!$C$1) | P146: =LEFT(F146,3) | Q146: =LEFT(F146,2) | R146: =LEFT(C146,3) | S146: =MID(J146,2,2) | T146: =LEFT(F146,1) | U146: =IFERROR(VLOOKUP(C146,$V$6:$X$36,3,FALSE),"") | AE146: K679122 | AF146: RAZVOJ MREŽE SEIZMOLOŠKIH PODATAKA - NPOO (C6.1.R4-I1) | AG146: 0942 | AH146: Drugi stupanj visoke naobrazbe | AI146: =LEFT(AG145,2) -> 09 | AJ146: =LEFT(AG145,3) -> 094
A147: =IF(D147="","",VLOOKUP('OPĆI DIO'!$C$1,'OPĆI DIO'!$N$4:$W$150,10,FALSE)) | B147: =IF(D147="","",VLOOKUP('OPĆI DIO'!$C$1,'OPĆI DIO'!$N$4:$W$150,9,FALSE)) | C147: =IFERROR(VLOOKUP(D147,$V$6:$X$36,3,FALSE),"") | E147: =IFERROR(VLOOKUP(D147,$V$6:$W$37,2,FALSE),"") | G147: =IFERROR(VLOOKUP(F147,$Y$5:$AA$129,2,FALSE),"") | I147: =IFERROR(VLOOKUP(H147,$AE$6:$AF$349,2,FALSE),"") | J147: =IFERROR(VLOOKUP(H147,$AE$6:$AI$350,3,FALSE),"") | O147: =IF(D147="","",'OPĆI DIO'!$C$1) | P147: =LEFT(F147,3) | Q147: =LEFT(F147,2) | R147: =LEFT(C147,3) | S147: =MID(J147,2,2) | T147: =LEFT(F147,1) | U147: =IFERROR(VLOOKUP(C147,$V$6:$X$36,3,FALSE),"") | AE147: K679124 | AF147: PROGRAM UČINKOVITI LJUDSKI POTENCIJALI 2021.-2027., PRIORITET 2 | AG147: 0942 | AH147: Drugi stupanj visoke naobrazbe | AI147: =LEFT(AG146,2) -> 09 | AJ147: =LEFT(AG146,3) -> 094
A148: =IF(D148="","",VLOOKUP('OPĆI DIO'!$C$1,'OPĆI DIO'!$N$4:$W$150,10,FALSE)) | B148: =IF(D148="","",VLOOKUP('OPĆI DIO'!$C$1,'OPĆI DIO'!$N$4:$W$150,9,FALSE)) | C148: =IFERROR(VLOOKUP(D148,$V$6:$X$36,3,FALSE),"") | E148: =IFERROR(VLOOKUP(D148,$V$6:$W$37,2,FALSE),"") | G148: =IFERROR(VLOOKUP(F148,$Y$5:$AA$129,2,FALSE),"") | I148: =IFERROR(VLOOKUP(H148,$AE$6:$AF$349,2,FALSE),"") | J148: =IFERROR(VLOOKUP(H148,$AE$6:$AI$350,3,FALSE),"") | O148: =IF(D148="","",'OPĆI DIO'!$C$1) | P148: =LEFT(F148,3) | Q148: =LEFT(F148,2) | R148: =LEFT(C148,3) | S148: =MID(J148,2,2) | T148: =LEFT(F148,1) | U148: =IFERROR(VLOOKUP(C148,$V$6:$X$36,3,FALSE),"") | AE148: K679126 | AF148: PROGRAM KONKURENTNOST I KOHEZIJA 2021.-2027., PRIORITET 1 | AG148: 0942 | AH148: Drugi stupanj visoke naobrazbe | AI148: =LEFT(AG147,2) -> 09 | AJ148: =LEFT(AG147,3) -> 094
A149: =IF(D149="","",VLOOKUP('OPĆI DIO'!$C$1,'OPĆI DIO'!$N$4:$W$150,10,FALSE)) | B149: =IF(D149="","",VLOOKUP('OPĆI DIO'!$C$1,'OPĆI DIO'!$N$4:$W$150,9,FALSE)) | C149: =IFERROR(VLOOKUP(D149,$V$6:$X$36,3,FALSE),"") | E149: =IFERROR(VLOOKUP(D149,$V$6:$W$37,2,FALSE),"") | G149: =IFERROR(VLOOKUP(F149,$Y$5:$AA$129,2,FALSE),"") | I149: =IFERROR(VLOOKUP(H149,$AE$6:$AF$349,2,FALSE),"") | J149: =IFERROR(VLOOKUP(H149,$AE$6:$AI$350,3,FALSE),"") | O149: =IF(D149="","",'OPĆI DIO'!$C$1) | P149: =LEFT(F149,3) | Q149: =LEFT(F149,2) | R149: =LEFT(C149,3) | S149: =MID(J149,2,2) | T149: =LEFT(F149,1) | U149: =IFERROR(VLOOKUP(C149,$V$6:$X$36,3,FALSE),"") | AE149: K679128 | AF149: POBOLJŠANJE UČINKOVITOSTI JAVNIH ULAGANJA NA PODRUČJU ISTRAŽIVANJA, RAZVOJA I INOVACIJA - NPOO (C3.2.R3) | AG149: 0942 | AH149: Drugi stupanj visoke naobrazbe | AI149: =LEFT(AG148,2) -> 09 | AJ149: =LEFT(AG148,3) -> 094
A150: =IF(D150="","",VLOOKUP('OPĆI DIO'!$C$1,'OPĆI DIO'!$N$4:$W$150,10,FALSE)) | B150: =IF(D150="","",VLOOKUP('OPĆI DIO'!$C$1,'OPĆI DIO'!$N$4:$W$150,9,FALSE)) | C150: =IFERROR(VLOOKUP(D150,$V$6:$X$36,3,FALSE),"") | E150: =IFERROR(VLOOKUP(D150,$V$6:$W$37,2,FALSE),"") | G150: =IFERROR(VLOOKUP(F150,$Y$5:$AA$129,2,FALSE),"") | I150: =IFERROR(VLOOKUP(H150,$AE$6:$AF$349,2,FALSE),"") | J150: =IFERROR(VLOOKUP(H150,$AE$6:$AI$350,3,FALSE),"") | O150: =IF(D150="","",'OPĆI DIO'!$C$1) | P150: =LEFT(F150,3) | Q150: =LEFT(F150,2) | R150: =LEFT(C150,3) | S150: =MID(J150,2,2) | T150: =LEFT(F150,1) | U150: =IFERROR(VLOOKUP(C150,$V$6:$X$36,3,FALSE),"") | AE150: K679129 | AF150: STVARANJE OKVIRA ZA PRIVLAČENJE STUDENATA I ISTRAŽIVAČA NA STEM I ICT PODRUČJIMA - NPOO (C3.2.R2) | AG150: 0942 | AH150: Drugi stupanj visoke naobrazbe | AI150: =LEFT(AG149,2) -> 09 | AJ150: =LEFT(AG149,3) -> 094
A151: =IF(D151="","",VLOOKUP('OPĆI DIO'!$C$1,'OPĆI DIO'!$N$4:$W$150,10,FALSE)) | B151: =IF(D151="","",VLOOKUP('OPĆI DIO'!$C$1,'OPĆI DIO'!$N$4:$W$150,9,FALSE)) | C151: =IFERROR(VLOOKUP(D151,$V$6:$X$36,3,FALSE),"") | E151: =IFERROR(VLOOKUP(D151,$V$6:$W$37,2,FALSE),"") | G151: =IFERROR(VLOOKUP(F151,$Y$5:$AA$129,2,FALSE),"") | I151: =IFERROR(VLOOKUP(H151,$AE$6:$AF$349,2,FALSE),"") | J151: =IFERROR(VLOOKUP(H151,$AE$6:$AI$350,3,FALSE),"") | O151: =IF(D151="","",'OPĆI DIO'!$C$1) | P151: =LEFT(F151,3) | Q151: =LEFT(F151,2) | R151: =LEFT(C151,3) | S151: =MID(J151,2,2) | T151: =LEFT(F151,1) | U151: =IFERROR(VLOOKUP(C151,$V$6:$X$36,3,FALSE),"") | AE151: K679130 | AF151: PROJEKT DIGITALNE, INOVATIVNE I ZELENE TEHNOLOGIJE - DIGIT | AG151: 0942 | AH151: Drugi stupanj visoke naobrazbe | AI151: =LEFT(AG150,2) -> 09 | AJ151: =LEFT(AG150,3) -> 094
A152: =IF(D152="","",VLOOKUP('OPĆI DIO'!$C$1,'OPĆI DIO'!$N$4:$W$150,10,FALSE)) | B152: =IF(D152="","",VLOOKUP('OPĆI DIO'!$C$1,'OPĆI DIO'!$N$4:$W$150,9,FALSE)) | C152: =IFERROR(VLOOKUP(D152,$V$6:$X$36,3,FALSE),"") | E152: =IFERROR(VLOOKUP(D152,$V$6:$W$37,2,FALSE),"") | G152: =IFERROR(VLOOKUP(F152,$Y$5:$AA$129,2,FALSE),"") | I152: =IFERROR(VLOOKUP(H152,$AE$6:$AF$349,2,FALSE),"") | J152: =IFERROR(VLOOKUP(H152,$AE$6:$AI$350,3,FALSE),"") | O152: =IF(D152="","",'OPĆI DIO'!$C$1) | P152: =LEFT(F152,3) | Q152: =LEFT(F152,2) | R152: =LEFT(C152,3) | S152: =MID(J152,2,2) | T152: =LEFT(F152,1) | U152: =IFERROR(VLOOKUP(C152,$V$6:$X$36,3,FALSE),"") | AE152: A622011 | AF152: REDOVNA DJELATNOST GEOLOŠKE SLUŽBE | AG152: 0150 | AH152: Istraživanje i razvoj: Opće javne usluge | AI152: =LEFT(AG151,2) -> 09 | AJ152: =LEFT(AG151,3) -> 094
A153: =IF(D153="","",VLOOKUP('OPĆI DIO'!$C$1,'OPĆI DIO'!$N$4:$W$150,10,FALSE)) | B153: =IF(D153="","",VLOOKUP('OPĆI DIO'!$C$1,'OPĆI DIO'!$N$4:$W$150,9,FALSE)) | C153: =IFERROR(VLOOKUP(D153,$V$6:$X$36,3,FALSE),"") | E153: =IFERROR(VLOOKUP(D153,$V$6:$W$37,2,FALSE),"") | G153: =IFERROR(VLOOKUP(F153,$Y$5:$AA$129,2,FALSE),"") | I153: =IFERROR(VLOOKUP(H153,$AE$6:$AF$349,2,FALSE),"") | J153: =IFERROR(VLOOKUP(H153,$AE$6:$AI$350,3,FALSE),"") | O153: =IF(D153="","",'OPĆI DIO'!$C$1) | P153: =LEFT(F153,3) | Q153: =LEFT(F153,2) | R153: =LEFT(C153,3) | S153: =MID(J153,2,2) | T153: =LEFT(F153,1) | U153: =IFERROR(VLOOKUP(C153,$V$6:$X$36,3,FALSE),"") | AE153: A622120 | AF153: PRAVOMOĆNE SUDSKE PRESUDE | AG153: 0150 | AH153: Istraživanje i razvoj: Opće javne usluge | AI153: =LEFT(AG152,2) -> 01 | AJ153: =LEFT(AG152,3) -> 015
